Workbook
Name _Hlk67429157: 経理様式１別添!$C$112
Name _Ref23262088: 経理様式１別添!$C$93
Name _Ref23262171: 経理様式１別添!$C$101
Name _Ref23262182: 経理様式１別添!$C$110
Name _Ref23262197: 経理様式１別添!$C$119

Sheet 基本情報シート
B2: 【基本情報の入力用シート】 | E2: 〔提出は不要〕
B4: 該当年度 | C4: 令和 | D4: 5
B6: 契約者情報 | C6: 機関名 | D6: 国立大学法人 ○○大学
C7: 所 属 | D7: 大学院
C8: 役 職 | D8: 医学研究院長
C9: 氏 名 | D9: 国際 太郎
B11: 課題情報 | C11: 契約番号 | D11: （例）SIP2023A1
C12: SIP課題 | D12: 統合型ヘルスケアシステムの構築
C13: 研究開発テーマ | D13: （例）サブ課題A 研究開発支援・知識発見ソリューションの開発
C14: 研究開発題目 | D14: （例）A-1 臨床情報プラットフォーム構築による知識発見 拠点形成
B16: 研究開発者情報 | C16: 機関名 | D16: 国立大学法人 ○○大学
C17: 所 属 | D17: 研究開発室
C18: 役 職 | D18: 室長
C19: 氏 名 | D19: 戸山 次郎
B21: 実施期間 | C21: 開始日 | D21: 45017
C22: 終了日 | D22: 45382
D23: ＊年度の契約に基づき、本委託研究開発を行った期間又は中止までの期間
B28: ※更新情報：2024/12/19計算式の不具合を修正

Sheet 報告様式１
C3: （報告様式１）
I4: 【文書番号・決裁番号】
J5: 45443 | M5: ←入力＊西暦(例：2024/5/31)で入力すれば令和に変換して表示
H6: 契約番号： | J6: =基本情報シート!$D$11 -> （例）SIP2023A1
A8: 自動→ | E8: =基本情報シート!$D$4 -> 5 | G8: 委託研究実績報告書 | M8: ←タイトルをプルダウンで選択
C10: 国立健康危機管理研究機構
C11: 契約担当役 殿
G13: (契約者)
H14: 機関名： | I14: =基本情報シート!$D$6 -> 国立大学法人 ○○大学 | M14: ←自動
H15: 所 属： | I15: =基本情報シート!$D$7 -> 大学院 | M15: ←自動
H16: 役 職： | I16: =基本情報シート!D8 -> 医学研究院長 | M16: ←自動
H17: 氏 名： | I17: =基本情報シート!D9 -> 国際 太郎 | M17: ←自動
K18: (公印省略可）
A20: 自動→ | C20: SIP課題 | E20: =IF(基本情報シート!$D$12="","",基本情報シート!$D$12) -> 統合型ヘルスケアシステムの構築
A21: 自動→ | C21: 研究開発テーマ | E21: =IF(COUNTA(基本情報シート!$D$13)>0,基本情報シート!$D$13," ") -> （例）サブ課題A 研究開発支援・知識発見ソリューションの開発
A22: 自動→ | C22: 研究開発題目 | E22: =IF(基本情報シート!$D$14="","",基本情報シート!$D$14) -> （例）A-1 臨床情報プラットフォーム構築による知識発見 拠点形成
A24: 自動→ | C24: 研究開発担当者＊ | D24: 機関名 | E24: =基本情報シート!$D$16 -> 国立大学法人 ○○大学
A25: 自動→ | D25: 所 属 | E25: =基本情報シート!$D$17 -> 研究開発室
A26: 自動→ | D26: 役 職 | E26: =基本情報シート!$D$18 -> 室長
A27: 自動→ | D27: 氏 名 | E27: =基本情報シート!$D$19 -> 戸山 次郎
C28: ＊委託研究開発契約書に定義
C30: 上記研究開発について、委託研究開発契約書第２６条の規定に基づき下記の書類を添えて報告します。
C33: 記
D34: １．研究開発成果報告書（別添：委託研究開発成果報告書参照）※
D35: ２．収支決算報告書（別紙イ）（別途、電子媒体でも提出）
D37: ※成果報告書の様式は経理様式01_Aをご利用ください。

Sheet ①報告様式１別紙イ（年度末分） 
B1: （ 報告様式1別紙イ ） | E1: 年度末分
B2: 収支決算報告書
I3: 研究者番号 | J3: 研究機関番号 | O3: 研究者番号 | P3: 研究機関番号 | R3: 研究者番号 | S3: 研究機関番号 | U3: 研究者番号 | V3: 研究機関番号 | X3: 研究者番号 | Y3: 研究機関番号 | AA3: 研究者番号 | AB3: 研究機関番号 | AD3: 研究者番号 | AE3: 研究機関番号 | AG3: 研究者番号 | AH3: 研究機関番号 | AJ3: 研究者番号 | AK3: 研究機関番号 | AM3: 研究者番号 | AN3: 研究機関番号 | AP3: 研究者番号 | AQ3: 研究機関番号 | AS3: 研究者番号 | AT3: 研究機関番号 | AV3: 研究者番号 | AW3: 研究機関番号 | AY3: 研究者番号 | AZ3: 研究機関番号 | BB3: 研究者番号 | BC3: 研究機関番号 | BE3: 研究者番号 | BF3: 研究機関番号 | BH3: 研究者番号 | BI3: 研究機関番号 | BK3: 研究者番号 | BL3: 研究機関番号 | BN3: 研究者番号 | BO3: 研究機関番号 | BQ3: 研究者番号 | BR3: 研究機関番号 | BT3: 研究者番号 | BU3: 研究機関番号 | BW3: 研究者番号 | BX3: 研究機関番号 | BZ3: 研究者番号 | CA3: 研究機関番号 | CC3: 研究者番号 | CD3: 研究機関番号 | CF3: 研究者番号 | CG3: 研究機関番号 | CI3: 研究者番号 | CJ3: 研究機関番号 | CL3: 研究者番号 | CM3: 研究機関番号 | CO3: 研究者番号 | CP3: 研究機関番号 | CR3: 研究者番号 | CS3: 研究機関番号 | CU3: 研究者番号 | CV3: 研究機関番号 | CX3: 研究者番号 | CY3: 研究機関番号 | DA3: 研究者番号 | DB3: 研究機関番号 | DD3: 研究者番号 | DE3: 研究機関番号 | DG3: 研究者番号 | DH3: 研究機関番号 | DJ3: 研究者番号 | DK3: 研究機関番号 | DM3: 研究者番号 | DN3: 研究機関番号 | DP3: 研究者番号 | DQ3: 研究機関番号
B4: 契約番号 | D4: =基本情報シート!D11 -> （例）SIP2023A1 | E4: 課題ID（e-Rad） | M4: （単位：円）
B5: 委託種別 | E5: 総額 | H5: 直接契約分（研究開発代表機関） | K5: 再委託費合計 | N5: 再委託1 | Q5: 再委託2 | T5: 再委託3 | W5: 再委託4 | Z5: 再委託5 | AC5: 再委託6 | AF5: 再委託7 | AI5: 再委託8 | AL5: 再委託9 | AO5: 再委託10 | AR5: 再委託11 | AU5: 再委託12 | AX5: 再委託13 | BA5: 再委託14 | BD5: 再委託15 | BG5: 再委託16 | BJ5: 再委託17 | BM5: 再委託18 | BP5: 再委託19 | BS5: 再委託20 | BV5: 再委託21 | BY5: 再委託22 | CB5: 再委託23 | CE5: 再委託24 | CH5: 再委託25 | CK5: 再委託26 | CN5: 再委託27 | CQ5: 再委託28 | CT5: 再委託29 | CW5: 再委託30 | CZ5: 再委託31 | DC5: 再委託32 | DF5: 再委託33 | DI5: 再委託34 | DL5: 再委託35 | DO5: 再委託36
B6: 機関名
E7: 契約額 | F7: 支出額 | G7: 差引額 | H7: 契約額 | I7: 支出額 | J7: 差額 | K7: 契約額 | L7: 支出額 | M7: 差額 | N7: 契約額 | O7: 支出額 | P7: 差額 | Q7: 契約額 | R7: 支出額 | S7: 差額 | T7: 契約額 | U7: 支出額 | V7: 差額 | W7: 契約額 | X7: 支出額 | Y7: 差額 | Z7: 契約額 | AA7: 支出額 | AB7: 差額 | AC7: 契約額 | AD7: 支出額 | AE7: 差額 | AF7: 契約額 | AG7: 支出額 | AH7: 差額 | AI7: 契約額 | AJ7: 支出額 | AK7: 差額 | AL7: 契約額 | AM7: 支出額 | AN7: 差額 | AO7: 契約額 | AP7: 支出額 | AQ7: 差額 | AR7: 契約額 | AS7: 支出額 | AT7: 差額 | AU7: 契約額 | AV7: 支出額 | AW7: 差額 | AX7: 契約額 | AY7: 支出額 | AZ7: 差額 | BA7: 契約額 | BB7: 支出額 | BC7: 差額 | BD7: 契約額 | BE7: 支出額 | BF7: 差額 | BG7: 契約額 | BH7: 支出額 | BI7: 差額 | BJ7: 契約額 | BK7: 支出額 | BL7: 差額 | BM7: 契約額 | BN7: 支出額 | BO7: 差額 | BP7: 契約額 | BQ7: 支出額 | BR7: 差額 | BS7: 契約額 | BT7: 支出額 | BU7: 差額 | BV7: 契約額 | BW7: 支出額 | BX7: 差額 | BY7: 契約額 | BZ7: 支出額 | CA7: 差額 | CB7: 契約額 | CC7: 支出額 | CD7: 差額 | CE7: 契約額 | CF7: 支出額 | CG7: 差額 | CH7: 契約額 | CI7: 支出額 | CJ7: 差額 | CK7: 契約額 | CL7: 支出額 | CM7: 差額 | CN7: 契約額 | CO7: 支出額 | CP7: 差額 | CQ7: 契約額 | CR7: 支出額 | CS7: 差額 | CT7: 契約額 | CU7: 支出額 | CV7: 差額 | CW7: 契約額 | CX7: 支出額 | CY7: 差額 | CZ7: 契約額 | DA7: 支出額 | DB7: 差額 | DC7: 契約額 | DD7: 支出額 | DE7: 差額 | DF7: 契約額 | DG7: 支出額 | DH7: 差額 | DI7: 契約額 | DJ7: 支出額 | DK7: 差額 | DL7: 契約額 | DM7: 支出額 | DN7: 差額 | DO7: 契約額 | DP7: 支出額 | DQ7: 差額
B8: 総額（A＋B） | E8: =SUM(H8,K8) -> 0 | F8: =SUM(I8,L8) -> 0 | G8: =SUM(J8,M8) -> 0 | H8: =SUM(H13,H14) -> 0 | I8: =SUM(I13,I14) -> 0 | J8: =H8-I8 -> 0 | K8: =SUM(N8,Q8,T8,W8,Z8,AC8,AF8,AI8,AL8,AO8,AR8,AU8,AX8,BA8,BD8,BG8,BJ8,BM8,BP8,BS8,BV8,BY8,CB8,CE8,CH8,CK8,CN8,CQ8,CT8,CW8,CZ8,DC8,DF8,DI8,DL8,DO8) -> 0 | L8: =SUM(O8,R8,U8,X8,AA8,AD8,AG8,AJ8,AM8,AP8,AS8,AV8,AY8,BB8,BE8,BH8,BK8,BN8,BQ8,BT8,BW8,BZ8,CC8,CF8,CI8,CL8,CO8,CR8,CU8,CX8,DA8,DD8,DG8,DJ8,DM8,DP8) -> 0 | M8: =SUM(P8,S8,V8,Y8,AB8,AE8,AH8,AK8,AN8,AQ8,AT8,AW8,AZ8,BC8,BF8,BI8,BL8,BO8,BR8,BU8,BX8,CA8,CD8,CG8,CJ8,CM8,CP8,CS8,CV8,CY8,DB8,DE8,DH8,DK8,DN8,DQ8) -> 0 | N8: =SUM(N13,N14) -> 0 | O8: =SUM(O13,O14) -> 0 | P8: =N8-O8 -> 0 | Q8: =SUM(Q13,Q14) -> 0 | R8: =SUM(R13,R14) -> 0 | S8: =Q8-R8 -> 0 | T8: =SUM(T13,T14) -> 0 | U8: =SUM(U13,U14) -> 0 | V8: =T8-U8 -> 0 | W8: =SUM(W13,W14) -> 0 | X8: =SUM(X13,X14) -> 0 | Y8: =W8-X8 -> 0 | Z8: =SUM(Z13,Z14) -> 0 | AA8: =SUM(AA13,AA14) -> 0 | AB8: =Z8-AA8 -> 0 | AC8: =SUM(AC13,AC14) -> 0 | AD8: =SUM(AD13,AD14) -> 0 | AE8: =AC8-AD8 -> 0 | AF8: =SUM(AF13,AF14) -> 0 | AG8: =SUM(AG13,AG14) -> 0 | AH8: =AF8-AG8 -> 0 | AI8: =SUM(AI13,AI14) -> 0 | AJ8: =SUM(AJ13,AJ14) -> 0 | AK8: =AI8-AJ8 -> 0 | AL8: =SUM(AL13,AL14) -> 0 | AM8: =SUM(AM13,AM14) -> 0 | AN8: =AL8-AM8 -> 0 | AO8: =SUM(AO13,AO14) -> 0 | AP8: =SUM(AP13,AP14) -> 0 | AQ8: =AO8-AP8 -> 0 | AR8: =SUM(AR13,AR14) -> 0 | AS8: =SUM(AS13,AS14) -> 0 | AT8: =AR8-AS8 -> 0 | AU8: =SUM(AU13,AU14) -> 0 | AV8: =SUM(AV13,AV14) -> 0 | AW8: =AU8-AV8 -> 0 | AX8: =SUM(AX13,AX14) -> 0 | AY8: =SUM(AY13,AY14) -> 0 | AZ8: =AX8-AY8 -> 0 | BA8: =SUM(BA13,BA14) -> 0 | BB8: =SUM(BB13,BB14) -> 0 | BC8: =BA8-BB8 -> 0 | BD8: =SUM(BD13,BD14) -> 0 | BE8: =SUM(BE13,BE14) -> 0 | BF8: =BD8-BE8 -> 0 | BG8: =SUM(BG13,BG14) -> 0 | BH8: =SUM(BH13,BH14) -> 0 | BI8: =BG8-BH8 -> 0 | BJ8: =SUM(BJ13,BJ14) -> 0 | BK8: =SUM(BK13,BK14) -> 0 | BL8: =BJ8-BK8 -> 0 | BM8: =SUM(BM13,BM14) -> 0 | BN8: =SUM(BN13,BN14) -> 0 | BO8: =BM8-BN8 -> 0 | BP8: =SUM(BP13,BP14) -> 0 | BQ8: =SUM(BQ13,BQ14) -> 0 | BR8: =BP8-BQ8 -> 0 | BS8: =SUM(BS13,BS14) -> 0 | BT8: =SUM(BT13,BT14) -> 0 | BU8: =BS8-BT8 -> 0 | BV8: =SUM(BV13,BV14) -> 0 | BW8: =SUM(BW13,BW14) -> 0 | BX8: =BV8-BW8 -> 0 | BY8: =SUM(BY13,BY14) -> 0 | BZ8: =SUM(BZ13,BZ14) -> 0 | CA8: =BY8-BZ8 -> 0 | CB8: =SUM(CB13,CB14) -> 0 | CC8: =SUM(CC13,CC14) -> 0 | CD8: =CB8-CC8 -> 0 | CE8: =SUM(CE13,CE14) -> 0 | CF8: =SUM(CF13,CF14) -> 0 | CG8: =CE8-CF8 -> 0 | CH8: =SUM(CH13,CH14) -> 0 | CI8: =SUM(CI13,CI14) -> 0 | CJ8: =CH8-CI8 -> 0 | CK8: =SUM(CK13,CK14) -> 0 | CL8: =SUM(CL13,CL14) -> 0 | CM8: =CK8-CL8 -> 0 | CN8: =SUM(CN13,CN14) -> 0 | CO8: =SUM(CO13,CO14) -> 0 | CP8: =CN8-CO8 -> 0 | CQ8: =SUM(CQ13,CQ14) -> 0 | CR8: =SUM(CR13,CR14) -> 0 | CS8: =CQ8-CR8 -> 0 | CT8: =SUM(CT13,CT14) -> 0 | CU8: =SUM(CU13,CU14) -> 0 | CV8: =CT8-CU8 -> 0 | CW8: =SUM(CW13,CW14) -> 0 | CX8: =SUM(CX13,CX14) -> 0 | CY8: =CW8-CX8 -> 0 | CZ8: =SUM(CZ13,CZ14) -> 0 | DA8: =SUM(DA13,DA14) -> 0 | DB8: =CZ8-DA8 -> 0 | DC8: =SUM(DC13,DC14) -> 0 | DD8: =SUM(DD13,DD14) -> 0 | DE8: =DC8-DD8 -> 0 | DF8: =SUM(DF13,DF14) -> 0 | DG8: =SUM(DG13,DG14) -> 0 | DH8: =DF8-DG8 -> 0 | DI8: =SUM(DI13,DI14) -> 0 | DJ8: =SUM(DJ13,DJ14) -> 0 | DK8: =DI8-DJ8 -> 0 | DL8: =SUM(DL13,DL14) -> 0 | DM8: =SUM(DM13,DM14) -> 0 | DN8: =DL8-DM8 -> 0 | DO8: =SUM(DO13,DO14) -> 0 | DP8: =SUM(DP13,DP14) -> 0 | DQ8: =DO8-DP8 -> 0
B9: 直接経費（A） | C9: 物品費 | E9: =SUM(H9,K9) -> 0 | F9: =SUM(I9,L9) -> 0 | G9: =SUM(J9,M9) -> 0 | J9: =H9-I9 -> 0 | K9: =SUM(N9,Q9,T9,W9,Z9,AC9,AF9,AI9,AL9,AO9,AR9,AU9,AX9,BA9,BD9,BG9,BJ9,BM9,BP9,BS9,BV9,BY9,CB9,CE9,CH9,CK9,CN9,CQ9,CT9,CW9,CZ9,DC9,DF9,DI9,DL9,DO9) -> 0 | L9: =SUM(O9,R9,U9,X9,AA9,AD9,AG9,AJ9,AM9,AP9,AS9,AV9,AY9,BB9,BE9,BH9,BK9,BN9,BQ9,BT9,BW9,BZ9,CC9,CF9,CI9,CL9,CO9,CR9,CU9,CX9,DA9,DD9,DG9,DJ9,DM9,DP9) -> 0 | M9: =SUM(P9,S9,V9,Y9,AB9,AE9,AH9,AK9,AN9,AQ9,AT9,AW9,AZ9,BC9,BF9,BI9,BL9,BO9,BR9,BU9,BX9,CA9,CD9,CG9,CJ9,CM9,CP9,CS9,CV9,CY9,DB9,DE9,DH9,DK9,DN9,DQ9) -> 0 | P9: =N9-O9 -> 0 | S9: =Q9-R9 -> 0 | V9: =T9-U9 -> 0 | Y9: =W9-X9 -> 0 | AB9: =Z9-AA9 -> 0 | AE9: =AC9-AD9 -> 0 | AH9: =AF9-AG9 -> 0 | AK9: =AI9-AJ9 -> 0 | AN9: =AL9-AM9 -> 0 | AQ9: =AO9-AP9 -> 0 | AT9: =AR9-AS9 -> 0 | AW9: =AU9-AV9 -> 0 | AZ9: =AX9-AY9 -> 0 | BC9: =BA9-BB9 -> 0 | BF9: =BD9-BE9 -> 0 | BI9: =BG9-BH9 -> 0 | BL9: =BJ9-BK9 -> 0 | BO9: =BM9-BN9 -> 0 | BR9: =BP9-BQ9 -> 0 | BU9: =BS9-BT9 -> 0 | BX9: =BV9-BW9 -> 0 | CA9: =BY9-BZ9 -> 0 | CD9: =CB9-CC9 -> 0 | CG9: =CE9-CF9 -> 0 | CJ9: =CH9-CI9 -> 0 | CM9: =CK9-CL9 -> 0 | CP9: =CN9-CO9 -> 0 | CS9: =CQ9-CR9 -> 0 | CV9: =CT9-CU9 -> 0 | CY9: =CW9-CX9 -> 0 | DB9: =CZ9-DA9 -> 0 | DE9: =DC9-DD9 -> 0 | DH9: =DF9-DG9 -> 0 | DK9: =DI9-DJ9 -> 0 | DN9: =DL9-DM9 -> 0 | DQ9: =DO9-DP9 -> 0
C10: 旅費 | E10: =SUM(H10,K10) -> 0 | F10: =SUM(I10,L10) -> 0 | G10: =SUM(J10,M10) -> 0 | J10: =H10-I10 -> 0 | K10: =SUM(N10,Q10,T10,W10,Z10,AC10,AF10,AI10,AL10,AO10,AR10,AU10,AX10,BA10,BD10,BG10,BJ10,BM10,BP10,BS10,BV10,BY10,CB10,CE10,CH10,CK10,CN10,CQ10,CT10,CW10,CZ10,DC10,DF10,DI10,DL10,DO10) -> 0 | L10: =SUM(O10,R10,U10,X10,AA10,AD10,AG10,AJ10,AM10,AP10,AS10,AV10,AY10,BB10,BE10,BH10,BK10,BN10,BQ10,BT10,BW10,BZ10,CC10,CF10,CI10,CL10,CO10,CR10,CU10,CX10,DA10,DD10,DG10,DJ10,DM10,DP10) -> 0 | M10: =SUM(P10,S10,V10,Y10,AB10,AE10,AH10,AK10,AN10,AQ10,AT10,AW10,AZ10,BC10,BF10,BI10,BL10,BO10,BR10,BU10,BX10,CA10,CD10,CG10,CJ10,CM10,CP10,CS10,CV10,CY10,DB10,DE10,DH10,DK10,DN10,DQ10) -> 0 | P10: =N10-O10 -> 0 | S10: =Q10-R10 -> 0 | V10: =T10-U10 -> 0 | Y10: =W10-X10 -> 0 | AB10: =Z10-AA10 -> 0 | AE10: =AC10-AD10 -> 0 | AH10: =AF10-AG10 -> 0 | AK10: =AI10-AJ10 -> 0 | AN10: =AL10-AM10 -> 0 | AQ10: =AO10-AP10 -> 0 | AT10: =AR10-AS10 -> 0 | AW10: =AU10-AV10 -> 0 | AZ10: =AX10-AY10 -> 0 | BC10: =BA10-BB10 -> 0 | BF10: =BD10-BE10 -> 0 | BI10: =BG10-BH10 -> 0 | BL10: =BJ10-BK10 -> 0 | BO10: =BM10-BN10 -> 0 | BR10: =BP10-BQ10 -> 0 | BU10: =BS10-BT10 -> 0 | BX10: =BV10-BW10 -> 0 | CA10: =BY10-BZ10 -> 0 | CD10: =CB10-CC10 -> 0 | CG10: =CE10-CF10 -> 0 | CJ10: =CH10-CI10 -> 0 | CM10: =CK10-CL10 -> 0 | CP10: =CN10-CO10 -> 0 | CS10: =CQ10-CR10 -> 0 | CV10: =CT10-CU10 -> 0 | CY10: =CW10-CX10 -> 0 | DB10: =CZ10-DA10 -> 0 | DE10: =DC10-DD10 -> 0 | DH10: =DF10-DG10 -> 0 | DK10: =DI10-DJ10 -> 0 | DN10: =DL10-DM10 -> 0 | DQ10: =DO10-DP10 -> 0
C11: 人件費・謝金 | E11: =SUM(H11,K11) -> 0 | F11: =SUM(I11,L11) -> 0 | G11: =SUM(J11,M11) -> 0 | J11: =H11-I11 -> 0 | K11: =SUM(N11,Q11,T11,W11,Z11,AC11,AF11,AI11,AL11,AO11,AR11,AU11,AX11,BA11,BD11,BG11,BJ11,BM11,BP11,BS11,BV11,BY11,CB11,CE11,CH11,CK11,CN11,CQ11,CT11,CW11,CZ11,DC11,DF11,DI11,DL11,DO11) -> 0 | L11: =SUM(O11,R11,U11,X11,AA11,AD11,AG11,AJ11,AM11,AP11,AS11,AV11,AY11,BB11,BE11,BH11,BK11,BN11,BQ11,BT11,BW11,BZ11,CC11,CF11,CI11,CL11,CO11,CR11,CU11,CX11,DA11,DD11,DG11,DJ11,DM11,DP11) -> 0 | M11: =SUM(P11,S11,V11,Y11,AB11,AE11,AH11,AK11,AN11,AQ11,AT11,AW11,AZ11,BC11,BF11,BI11,BL11,BO11,BR11,BU11,BX11,CA11,CD11,CG11,CJ11,CM11,CP11,CS11,CV11,CY11,DB11,DE11,DH11,DK11,DN11,DQ11) -> 0 | P11: =N11-O11 -> 0 | S11: =Q11-R11 -> 0 | V11: =T11-U11 -> 0 | Y11: =W11-X11 -> 0 | AB11: =Z11-AA11 -> 0 | AE11: =AC11-AD11 -> 0 | AH11: =AF11-AG11 -> 0 | AK11: =AI11-AJ11 -> 0 | AN11: =AL11-AM11 -> 0 | AQ11: =AO11-AP11 -> 0 | AT11: =AR11-AS11 -> 0 | AW11: =AU11-AV11 -> 0 | AZ11: =AX11-AY11 -> 0 | BC11: =BA11-BB11 -> 0 | BF11: =BD11-BE11 -> 0 | BI11: =BG11-BH11 -> 0 | BL11: =BJ11-BK11 -> 0 | BO11: =BM11-BN11 -> 0 | BR11: =BP11-BQ11 -> 0 | BU11: =BS11-BT11 -> 0 | BX11: =BV11-BW11 -> 0 | CA11: =BY11-BZ11 -> 0 | CD11: =CB11-CC11 -> 0 | CG11: =CE11-CF11 -> 0 | CJ11: =CH11-CI11 -> 0 | CM11: =CK11-CL11 -> 0 | CP11: =CN11-CO11 -> 0 | CS11: =CQ11-CR11 -> 0 | CV11: =CT11-CU11 -> 0 | CY11: =CW11-CX11 -> 0 | DB11: =CZ11-DA11 -> 0 | DE11: =DC11-DD11 -> 0 | DH11: =DF11-DG11 -> 0 | DK11: =DI11-DJ11 -> 0 | DN11: =DL11-DM11 -> 0 | DQ11: =DO11-DP11 -> 0
C12: その他 | E12: =SUM(H12,K12) -> 0 | F12: =SUM(I12,L12) -> 0 | G12: =SUM(J12,M12) -> 0 | J12: =H12-I12 -> 0 | K12: =SUM(N12,Q12,T12,W12,Z12,AC12,AF12,AI12,AL12,AO12,AR12,AU12,AX12,BA12,BD12,BG12,BJ12,BM12,BP12,BS12,BV12,BY12,CB12,CE12,CH12,CK12,CN12,CQ12,CT12,CW12,CZ12,DC12,DF12,DI12,DL12,DO12) -> 0 | L12: =SUM(O12,R12,U12,X12,AA12,AD12,AG12,AJ12,AM12,AP12,AS12,AV12,AY12,BB12,BE12,BH12,BK12,BN12,BQ12,BT12,BW12,BZ12,CC12,CF12,CI12,CL12,CO12,CR12,CU12,CX12,DA12,DD12,DG12,DJ12,DM12,DP12) -> 0 | M12: =SUM(P12,S12,V12,Y12,AB12,AE12,AH12,AK12,AN12,AQ12,AT12,AW12,AZ12,BC12,BF12,BI12,BL12,BO12,BR12,BU12,BX12,CA12,CD12,CG12,CJ12,CM12,CP12,CS12,CV12,CY12,DB12,DE12,DH12,DK12,DN12,DQ12) -> 0 | P12: =N12-O12 -> 0 | S12: =Q12-R12 -> 0 | V12: =T12-U12 -> 0 | Y12: =W12-X12 -> 0 | AB12: =Z12-AA12 -> 0 | AE12: =AC12-AD12 -> 0 | AH12: =AF12-AG12 -> 0 | AK12: =AI12-AJ12 -> 0 | AN12: =AL12-AM12 -> 0 | AQ12: =AO12-AP12 -> 0 | AT12: =AR12-AS12 -> 0 | AW12: =AU12-AV12 -> 0 | AZ12: =AX12-AY12 -> 0 | BC12: =BA12-BB12 -> 0 | BF12: =BD12-BE12 -> 0 | BI12: =BG12-BH12 -> 0 | BL12: =BJ12-BK12 -> 0 | BO12: =BM12-BN12 -> 0 | BR12: =BP12-BQ12 -> 0 | BU12: =BS12-BT12 -> 0 | BX12: =BV12-BW12 -> 0 | CA12: =BY12-BZ12 -> 0 | CD12: =CB12-CC12 -> 0 | CG12: =CE12-CF12 -> 0 | CJ12: =CH12-CI12 -> 0 | CM12: =CK12-CL12 -> 0 | CP12: =CN12-CO12 -> 0 | CS12: =CQ12-CR12 -> 0 | CV12: =CT12-CU12 -> 0 | CY12: =CW12-CX12 -> 0 | DB12: =CZ12-DA12 -> 0 | DE12: =DC12-DD12 -> 0 | DH12: =DF12-DG12 -> 0 | DK12: =DI12-DJ12 -> 0 | DN12: =DL12-DM12 -> 0 | DQ12: =DO12-DP12 -> 0
C13: 直接経費合計 | E13: =SUM(H13,K13) -> 0 | F13: =SUM(I13,L13) -> 0 | G13: =SUM(J13,M13) -> 0 | H13: =SUM(H9:H12) -> 0 | I13: =SUM(I9:I12) -> 0 | J13: =H13-I13 -> 0 | K13: =SUM(N13,Q13,T13,W13,Z13,AC13,AF13,AI13,AL13,AO13,AR13,AU13,AX13,BA13,BD13,BG13,BJ13,BM13,BP13,BS13,BV13,BY13,CB13,CE13,CH13,CK13,CN13,CQ13,CT13,CW13,CZ13,DC13,DF13,DI13,DL13,DO13) -> 0 | L13: =SUM(O13,R13,U13,X13,AA13,AD13,AG13,AJ13,AM13,AP13,AS13,AV13,AY13,BB13,BE13,BH13,BK13,BN13,BQ13,BT13,BW13,BZ13,CC13,CF13,CI13,CL13,CO13,CR13,CU13,CX13,DA13,DD13,DG13,DJ13,DM13,DP13) -> 0 | M13: =SUM(P13,S13,V13,Y13,AB13,AE13,AH13,AK13,AN13,AQ13,AT13,AW13,AZ13,BC13,BF13,BI13,BL13,BO13,BR13,BU13,BX13,CA13,CD13,CG13,CJ13,CM13,CP13,CS13,CV13,CY13,DB13,DE13,DH13,DK13,DN13,DQ13) -> 0 | N13: =SUM(N9:N12) -> 0 | O13: =SUM(O9:O12) -> 0 | P13: =N13-O13 -> 0 | Q13: =SUM(Q9:Q12) -> 0 | R13: =SUM(R9:R12) -> 0 | S13: =Q13-R13 -> 0 | T13: =SUM(T9:T12) -> 0 | U13: =SUM(U9:U12) -> 0 | V13: =T13-U13 -> 0 | W13: =SUM(W9:W12) -> 0 | X13: =SUM(X9:X12) -> 0 | Y13: =W13-X13 -> 0 | Z13: =SUM(Z9:Z12) -> 0 | AA13: =SUM(AA9:AA12) -> 0 | AB13: =Z13-AA13 -> 0 | AC13: =SUM(AC9:AC12) -> 0 | AD13: =SUM(AD9:AD12) -> 0 | AE13: =AC13-AD13 -> 0 | AF13: =SUM(AF9:AF12) -> 0 | AG13: =SUM(AG9:AG12) -> 0 | AH13: =AF13-AG13 -> 0 | AI13: =SUM(AI9:AI12) -> 0 | AJ13: =SUM(AJ9:AJ12) -> 0 | AK13: =AI13-AJ13 -> 0 | AL13: =SUM(AL9:AL12) -> 0 | AM13: =SUM(AM9:AM12) -> 0 | AN13: =AL13-AM13 -> 0 | AO13: =SUM(AO9:AO12) -> 0 | AP13: =SUM(AP9:AP12) -> 0 | AQ13: =AO13-AP13 -> 0 | AR13: =SUM(AR9:AR12) -> 0 | AS13: =SUM(AS9:AS12) -> 0 | AT13: =AR13-AS13 -> 0 | AU13: =SUM(AU9:AU12) -> 0 | AV13: =SUM(AV9:AV12) -> 0 | AW13: =AU13-AV13 -> 0 | AX13: =SUM(AX9:AX12) -> 0 | AY13: =SUM(AY9:AY12) -> 0 | AZ13: =AX13-AY13 -> 0 | BA13: =SUM(BA9:BA12) -> 0 | BB13: =SUM(BB9:BB12) -> 0 | BC13: =BA13-BB13 -> 0 | BD13: =SUM(BD9:BD12) -> 0 | BE13: =SUM(BE9:BE12) -> 0 | BF13: =BD13-BE13 -> 0 | BG13: =SUM(BG9:BG12) -> 0 | BH13: =SUM(BH9:BH12) -> 0 | BI13: =BG13-BH13 -> 0 | BJ13: =SUM(BJ9:BJ12) -> 0 | BK13: =SUM(BK9:BK12) -> 0 | BL13: =BJ13-BK13 -> 0 | BM13: =SUM(BM9:BM12) -> 0 | BN13: =SUM(BN9:BN12) -> 0 | BO13: =BM13-BN13 -> 0 | BP13: =SUM(BP9:BP12) -> 0 | BQ13: =SUM(BQ9:BQ12) -> 0 | BR13: =BP13-BQ13 -> 0 | BS13: =SUM(BS9:BS12) -> 0 | BT13: =SUM(BT9:BT12) -> 0 | BU13: =BS13-BT13 -> 0 | BV13: =SUM(BV9:BV12) -> 0 | BW13: =SUM(BW9:BW12) -> 0 | BX13: =BV13-BW13 -> 0 | BY13: =SUM(BY9:BY12) -> 0 | BZ13: =SUM(BZ9:BZ12) -> 0 | CA13: =BY13-BZ13 -> 0 | CB13: =SUM(CB9:CB12) -> 0 | CC13: =SUM(CC9:CC12) -> 0 | CD13: =CB13-CC13 -> 0 | CE13: =SUM(CE9:CE12) -> 0 | CF13: =SUM(CF9:CF12) -> 0 | CG13: =CE13-CF13 -> 0 | CH13: =SUM(CH9:CH12) -> 0 | CI13: =SUM(CI9:CI12) -> 0 | CJ13: =CH13-CI13 -> 0 | CK13: =SUM(CK9:CK12) -> 0 | CL13: =SUM(CL9:CL12) -> 0 | CM13: =CK13-CL13 -> 0 | CN13: =SUM(CN9:CN12) -> 0 | CO13: =SUM(CO9:CO12) -> 0 | CP13: =CN13-CO13 -> 0 | CQ13: =SUM(CQ9:CQ12) -> 0 | CR13: =SUM(CR9:CR12) -> 0 | CS13: =CQ13-CR13 -> 0 | CT13: =SUM(CT9:CT12) -> 0 | CU13: =SUM(CU9:CU12) -> 0 | CV13: =CT13-CU13 -> 0 | CW13: =SUM(CW9:CW12) -> 0 | CX13: =SUM(CX9:CX12) -> 0 | CY13: =CW13-CX13 -> 0 | CZ13: =SUM(CZ9:CZ12) -> 0 | DA13: =SUM(DA9:DA12) -> 0 | DB13: =CZ13-DA13 -> 0 | DC13: =SUM(DC9:DC12) -> 0 | DD13: =SUM(DD9:DD12) -> 0 | DE13: =DC13-DD13 -> 0 | DF13: =SUM(DF9:DF12) -> 0 | DG13: =SUM(DG9:DG12) -> 0 | DH13: =DF13-DG13 -> 0 | DI13: =SUM(DI9:DI12) -> 0 | DJ13: =SUM(DJ9:DJ12) -> 0 | DK13: =DI13-DJ13 -> 0 | DL13: =SUM(DL9:DL12) -> 0 | DM13: =SUM(DM9:DM12) -> 0 | DN13: =DL13-DM13 -> 0 | DO13: =SUM(DO9:DO12) -> 0 | DP13: =SUM(DP9:DP12) -> 0 | DQ13: =DO13-DP13 -> 0
B14: 間接経費（B） | E14: =SUM(H14,K14) -> 0 | F14: =SUM(I14,L14) -> 0 | G14: =SUM(J14,M14) -> 0 | J14: =H14-I14 -> 0 | K14: =SUM(N14,Q14,T14,W14,Z14,AC14,AF14,AI14,AL14,AO14,AR14,AU14,AX14,BA14,BD14,BG14,BJ14,BM14,BP14,BS14,BV14,BY14,CB14,CE14,CH14,CK14,CN14,CQ14,CT14,CW14,CZ14,DC14,DF14,DI14,DL14,DO14) -> 0 | L14: =SUM(O14,R14,U14,X14,AA14,AD14,AG14,AJ14,AM14,AP14,AS14,AV14,AY14,BB14,BE14,BH14,BK14,BN14,BQ14,BT14,BW14,BZ14,CC14,CF14,CI14,CL14,CO14,CR14,CU14,CX14,DA14,DD14,DG14,DJ14,DM14,DP14) -> 0 | M14: =SUM(P14,S14,V14,Y14,AB14,AE14,AH14,AK14,AN14,AQ14,AT14,AW14,AZ14,BC14,BF14,BI14,BL14,BO14,BR14,BU14,BX14,CA14,CD14,CG14,CJ14,CM14,CP14,CS14,CV14,CY14,DB14,DE14,DH14,DK14,DN14,DQ14) -> 0 | P14: =N14-O14 -> 0 | S14: =Q14-R14 -> 0 | V14: =T14-U14 -> 0 | Y14: =W14-X14 -> 0 | AB14: =Z14-AA14 -> 0 | AE14: =AC14-AD14 -> 0 | AH14: =AF14-AG14 -> 0 | AK14: =AI14-AJ14 -> 0 | AN14: =AL14-AM14 -> 0 | AQ14: =AO14-AP14 -> 0 | AT14: =AR14-AS14 -> 0 | AW14: =AU14-AV14 -> 0 | AZ14: =AX14-AY14 -> 0 | BC14: =BA14-BB14 -> 0 | BF14: =BD14-BE14 -> 0 | BI14: =BG14-BH14 -> 0 | BL14: =BJ14-BK14 -> 0 | BO14: =BM14-BN14 -> 0 | BR14: =BP14-BQ14 -> 0 | BU14: =BS14-BT14 -> 0 | BX14: =BV14-BW14 -> 0 | CA14: =BY14-BZ14 -> 0 | CD14: =CB14-CC14 -> 0 | CG14: =CE14-CF14 -> 0 | CJ14: =CH14-CI14 -> 0 | CM14: =CK14-CL14 -> 0 | CP14: =CN14-CO14 -> 0 | CS14: =CQ14-CR14 -> 0 | CV14: =CT14-CU14 -> 0 | CY14: =CW14-CX14 -> 0 | DB14: =CZ14-DA14 -> 0 | DE14: =DC14-DD14 -> 0 | DH14: =DF14-DG14 -> 0 | DK14: =DI14-DJ14 -> 0 | DN14: =DL14-DM14 -> 0 | DQ14: =DO14-DP14 -> 0
B15: 間接経費率 | D15: （上限額）／判定 | E15: 契約時の間接経費率を百分率（％）で入力して下さい→ | I15: =MIN(H14,ROUNDDOWN((I13+H19)*H15,0)) -> 0 | J15: =IF((I14+H20)>I15,"ERR","") | K15: 契約時の間接経費率を百分率（％）で入力して下さい→ | O15: =MIN(N14,ROUNDDOWN((O13+N19)*N15,0)) -> 0 | P15: =IF((O14+N20)>O15,"ERR","") | R15: =MIN(Q14,ROUNDDOWN((R13+Q19)*Q15,0)) -> 0 | S15: =IF((R14+Q20)>R15,"ERR","") | U15: =MIN(T14,ROUNDDOWN((U13+T19)*T15,0)) -> 0 | V15: =IF((U14+T20)>U15,"ERR","") | X15: =MIN(W14,ROUNDDOWN((X13+W19)*W15,0)) -> 0 | Y15: =IF((X14+W20)>X15,"ERR","") | AA15: =MIN(Z14,ROUNDDOWN((AA13+Z19)*Z15,0)) -> 0 | AB15: =IF((AA14+Z20)>AA15,"ERR","") | AD15: =MIN(AC14,ROUNDDOWN((AD13+AC19)*AC15,0)) -> 0 | AE15: =IF((AD14+AC20)>AD15,"ERR","") | AG15: =MIN(AF14,ROUNDDOWN((AG13+AF19)*AF15,0)) -> 0 | AH15: =IF((AG14+AF20)>AG15,"ERR","") | AJ15: =MIN(AI14,ROUNDDOWN((AJ13+AI19)*AI15,0)) -> 0 | AK15: =IF((AJ14+AI20)>AJ15,"ERR","") | AM15: =MIN(AL14,ROUNDDOWN((AM13+AL19)*AL15,0)) -> 0 | AN15: =IF((AM14+AL20)>AM15,"ERR","") | AP15: =MIN(AO14,ROUNDDOWN((AP13+AO19)*AO15,0)) -> 0 | AQ15: =IF((AP14+AO20)>AP15,"ERR","") | AS15: =MIN(AR14,ROUNDDOWN((AS13+AR19)*AR15,0)) -> 0 | AT15: =IF((AS14+AR20)>AS15,"ERR","") | AV15: =MIN(AU14,ROUNDDOWN((AV13+AU19)*AU15,0)) -> 0 | AW15: =IF((AV14+AU20)>AV15,"ERR","") | AY15: =MIN(AX14,ROUNDDOWN((AY13+AX19)*AX15,0)) -> 0 | AZ15: =IF((AY14+AX20)>AY15,"ERR","") | BB15: =MIN(BA14,ROUNDDOWN((BB13+BA19)*BA15,0)) -> 0 | BC15: =IF((BB14+BA20)>BB15,"ERR","") | BE15: =MIN(BD14,ROUNDDOWN((BE13+BD19)*BD15,0)) -> 0 | BF15: =IF((BE14+BD20)>BE15,"ERR","") | BH15: =MIN(BG14,ROUNDDOWN((BH13+BG19)*BG15,0)) -> 0 | BI15: =IF((BH14+BG20)>BH15,"ERR","") | BK15: =MIN(BJ14,ROUNDDOWN((BK13+BJ19)*BJ15,0)) -> 0 | BL15: =IF((BK14+BJ20)>BK15,"ERR","") | BN15: =MIN(BM14,ROUNDDOWN((BN13+BM19)*BM15,0)) -> 0 | BO15: =IF((BN14+BM20)>BN15,"ERR","") | BQ15: =MIN(BP14,ROUNDDOWN((BQ13+BP19)*BP15,0)) -> 0 | BR15: =IF((BQ14+BP20)>BQ15,"ERR","") | BT15: =MIN(BS14,ROUNDDOWN((BT13+BS19)*BS15,0)) -> 0 | BU15: =IF((BT14+BS20)>BT15,"ERR","") | BW15: =MIN(BV14,ROUNDDOWN((BW13+BV19)*BV15,0)) -> 0 | BX15: =IF((BW14+BV20)>BW15,"ERR","") | BZ15: =MIN(BY14,ROUNDDOWN((BZ13+BY19)*BY15,0)) -> 0 | CA15: =IF((BZ14+BY20)>BZ15,"ERR","") | CC15: =MIN(CB14,ROUNDDOWN((CC13+CB19)*CB15,0)) -> 0 | CD15: =IF((CC14+CB20)>CC15,"ERR","") | CF15: =MIN(CE14,ROUNDDOWN((CF13+CE19)*CE15,0)) -> 0 | CG15: =IF((CF14+CE20)>CF15,"ERR","") | CI15: =MIN(CH14,ROUNDDOWN((CI13+CH19)*CH15,0)) -> 0 | CJ15: =IF((CI14+CH20)>CI15,"ERR","") | CL15: =MIN(CK14,ROUNDDOWN((CL13+CK19)*CK15,0)) -> 0 | CM15: =IF((CL14+CK20)>CL15,"ERR","") | CO15: =MIN(CN14,ROUNDDOWN((CO13+CN19)*CN15,0)) -> 0 | CP15: =IF((CO14+CN20)>CO15,"ERR","") | CR15: =MIN(CQ14,ROUNDDOWN((CR13+CQ19)*CQ15,0)) -> 0 | CS15: =IF((CR14+CQ20)>CR15,"ERR","") | CU15: =MIN(CT14,ROUNDDOWN((CU13+CT19)*CT15,0)) -> 0 | CV15: =IF((CU14+CT20)>CU15,"ERR","") | CX15: =MIN(CW14,ROUNDDOWN((CX13+CW19)*CW15,0)) -> 0 | CY15: =IF((CX14+CW20)>CX15,"ERR","") | DA15: =MIN(CZ14,ROUNDDOWN((DA13+CZ19)*CZ15,0)) -> 0 | DB15: =IF((DA14+CZ20)>DA15,"ERR","") | DD15: =MIN(DC14,ROUNDDOWN((DD13+DC19)*DC15,0)) -> 0 | DE15: =IF((DD14+DC20)>DD15,"ERR","") | DG15: =MIN(DF14,ROUNDDOWN((DG13+DF19)*DF15,0)) -> 0 | DH15: =IF((DG14+DF20)>DG15,"ERR","") | DJ15: =MIN(DI14,ROUNDDOWN((DJ13+DI19)*DI15,0)) -> 0 | DK15: =IF((DJ14+DI20)>DJ15,"ERR","") | DM15: =MIN(DL14,ROUNDDOWN((DM13+DL19)*DL15,0)) -> 0 | DN15: =IF((DM14+DL20)>DM15,"ERR","") | DP15: =MIN(DO14,ROUNDDOWN((DP13+DO19)*DO15,0)) -> 0 | DQ15: =IF((DP14+DO20)>DP15,"ERR","")
B16: 返還額 | G16: =SUM(J16,M16) -> 0 | J16: =IF(J13-H19>0,J13-H19,"0")+IF(J14-H20>0,J14-H20,"0")+J18 -> 0 | M16: =SUM(P16,S16,V16,Y16,AB16,AE16,AH16,AK16,AN16,AQ16,AT16,AW16,AZ16,BC16,BF16,BI16,BL16,BO16,BR16,BU16,BX16,CA16,CD16,CG16,CJ16,CM16,CP16,CS16,CV16,CY16,DB16,DE16,DH16,DK16,DN16,DQ16) -> 0 | P16: =IF(P13-N19>0,P13-N19,"0")+IF(P14-N20>0,P14-N20,"0")+P18 -> 0 | S16: =IF(S13-Q19>0,S13-Q19,"0")+IF(S14-Q20>0,S14-Q20,"0")+S18 -> 0 | V16: =IF(V13-T19>0,V13-T19,"0")+IF(V14-T20>0,V14-T20,"0")+V18 -> 0 | Y16: =IF(Y13-W19>0,Y13-W19,"0")+IF(Y14-W20>0,Y14-W20,"0")+Y18 -> 0 | AB16: =IF(AB13-Z19>0,AB13-Z19,"0")+IF(AB14-Z20>0,AB14-Z20,"0")+AB18 -> 0 | AE16: =IF(AE13-AC19>0,AE13-AC19,"0")+IF(AE14-AC20>0,AE14-AC20,"0")+AE18 -> 0 | AH16: =IF(AH13-AF19>0,AH13-AF19,"0")+IF(AH14-AF20>0,AH14-AF20,"0")+AH18 -> 0 | AK16: =IF(AK13-AI19>0,AK13-AI19,"0")+IF(AK14-AI20>0,AK14-AI20,"0")+AK18 -> 0 | AN16: =IF(AN13-AL19>0,AN13-AL19,"0")+IF(AN14-AL20>0,AN14-AL20,"0")+AN18 -> 0 | AQ16: =IF(AQ13-AO19>0,AQ13-AO19,"0")+IF(AQ14-AO20>0,AQ14-AO20,"0")+AQ18 -> 0 | AT16: =IF(AT13-AR19>0,AT13-AR19,"0")+IF(AT14-AR20>0,AT14-AR20,"0")+AT18 -> 0 | AW16: =IF(AW13-AU19>0,AW13-AU19,"0")+IF(AW14-AU20>0,AW14-AU20,"0")+AW18 -> 0 | AZ16: =IF(AZ13-AX19>0,AZ13-AX19,"0")+IF(AZ14-AX20>0,AZ14-AX20,"0")+AZ18 -> 0 | BC16: =IF(BC13-BA19>0,BC13-BA19,"0")+IF(BC14-BA20>0,BC14-BA20,"0")+BC18 -> 0 | BF16: =IF(BF13-BD19>0,BF13-BD19,"0")+IF(BF14-BD20>0,BF14-BD20,"0")+BF18 -> 0 | BI16: =IF(BI13-BG19>0,BI13-BG19,"0")+IF(BI14-BG20>0,BI14-BG20,"0")+BI18 -> 0 | BL16: =IF(BL13-BJ19>0,BL13-BJ19,"0")+IF(BL14-BJ20>0,BL14-BJ20,"0")+BL18 -> 0 | BO16: =IF(BO13-BM19>0,BO13-BM19,"0")+IF(BO14-BM20>0,BO14-BM20,"0")+BO18 -> 0 | BR16: =IF(BR13-BP19>0,BR13-BP19,"0")+IF(BR14-BP20>0,BR14-BP20,"0")+BR18 -> 0 | BU16: =IF(BU13-BS19>0,BU13-BS19,"0")+IF(BU14-BS20>0,BU14-BS20,"0")+BU18 -> 0 | BX16: =IF(BX13-BV19>0,BX13-BV19,"0")+IF(BX14-BV20>0,BX14-BV20,"0")+BX18 -> 0 | CA16: =IF(CA13-BY19>0,CA13-BY19,"0")+IF(CA14-BY20>0,CA14-BY20,"0")+CA18 -> 0 | CD16: =IF(CD13-CB19>0,CD13-CB19,"0")+IF(CD14-CB20>0,CD14-CB20,"0")+CD18 -> 0 | CG16: =IF(CG13-CE19>0,CG13-CE19,"0")+IF(CG14-CE20>0,CG14-CE20,"0")+CG18 -> 0 | CJ16: =IF(CJ13-CH19>0,CJ13-CH19,"0")+IF(CJ14-CH20>0,CJ14-CH20,"0")+CJ18 -> 0 | CM16: =IF(CM13-CK19>0,CM13-CK19,"0")+IF(CM14-CK20>0,CM14-CK20,"0")+CM18 -> 0 | CP16: =IF(CP13-CN19>0,CP13-CN19,"0")+IF(CP14-CN20>0,CP14-CN20,"0")+CP18 -> 0 | CS16: =IF(CS13-CQ19>0,CS13-CQ19,"0")+IF(CS14-CQ20>0,CS14-CQ20,"0")+CS18 -> 0 | CV16: =IF(CV13-CT19>0,CV13-CT19,"0")+IF(CV14-CT20>0,CV14-CT20,"0")+CV18 -> 0 | CY16: =IF(CY13-CW19>0,CY13-CW19,"0")+IF(CY14-CW20>0,CY14-CW20,"0")+CY18 -> 0 | DB16: =IF(DB13-CZ19>0,DB13-CZ19,"0")+IF(DB14-CZ20>0,DB14-CZ20,"0")+DB18 -> 0 | DE16: =IF(DE13-DC19>0,DE13-DC19,"0")+IF(DE14-DC20>0,DE14-DC20,"0")+DE18 -> 0 | DH16: =IF(DH13-DF19>0,DH13-DF19,"0")+IF(DH14-DF20>0,DH14-DF20,"0")+DH18 -> 0 | DK16: =IF(DK13-DI19>0,DK13-DI19,"0")+IF(DK14-DI20>0,DK14-DI20,"0")+DK18 -> 0 | DN16: =IF(DN13-DL19>0,DN13-DL19,"0")+IF(DN14-DL20>0,DN14-DL20,"0")+DN18 -> 0 | DQ16: =IF(DQ13-DO19>0,DQ13-DO19,"0")+IF(DQ14-DO20>0,DQ14-DO20,"0")+DQ18 -> 0
B17: 自己充当額 | G17: =SUM(J17,M17) -> 0 | J17: =IF(J13-H19<0,J13-H19,"0")+IF(J14-H20<0,J14-H20,"0") -> 0 | M17: =SUM(P17,S17,V17,Y17,AB17,AE17,AH17,AK17,AN17,AQ17,AT17,AW17,AZ17,BC17,BF17,BI17,BL17,BO17,BR17,BU17,BX17,CA17,CD17,CG17,CJ17,CM17,CP17,CS17,CV17,CY17,DB17,DE17,DH17,DK17,DN17,DQ17) -> 0 | P17: =IF(P13-N19<0,P13-N19,"0")+IF(P14-N20<0,P14-N20,"0") -> 0 | S17: =IF(S13-Q19<0,S13-Q19,"0")+IF(S14-Q20<0,S14-Q20,"0") -> 0 | V17: =IF(V13-T19<0,V13-T19,"0")+IF(V14-T20<0,V14-T20,"0") -> 0 | Y17: =IF(Y13-W19<0,Y13-W19,"0")+IF(Y14-W20<0,Y14-W20,"0") -> 0 | AB17: =IF(AB13-Z19<0,AB13-Z19,"0")+IF(AB14-Z20<0,AB14-Z20,"0") -> 0 | AE17: =IF(AE13-AC19<0,AE13-AC19,"0")+IF(AE14-AC20<0,AE14-AC20,"0") -> 0 | AH17: =IF(AH13-AF19<0,AH13-AF19,"0")+IF(AH14-AF20<0,AH14-AF20,"0") -> 0 | AK17: =IF(AK13-AI19<0,AK13-AI19,"0")+IF(AK14-AI20<0,AK14-AI20,"0") -> 0 | AN17: =IF(AN13-AL19<0,AN13-AL19,"0")+IF(AN14-AL20<0,AN14-AL20,"0") -> 0 | AQ17: =IF(AQ13-AO19<0,AQ13-AO19,"0")+IF(AQ14-AO20<0,AQ14-AO20,"0") -> 0 | AT17: =IF(AT13-AR19<0,AT13-AR19,"0")+IF(AT14-AR20<0,AT14-AR20,"0") -> 0 | AW17: =IF(AW13-AU19<0,AW13-AU19,"0")+IF(AW14-AU20<0,AW14-AU20,"0") -> 0 | AZ17: =IF(AZ13-AX19<0,AZ13-AX19,"0")+IF(AZ14-AX20<0,AZ14-AX20,"0") -> 0 | BC17: =IF(BC13-BA19<0,BC13-BA19,"0")+IF(BC14-BA20<0,BC14-BA20,"0") -> 0 | BF17: =IF(BF13-BD19<0,BF13-BD19,"0")+IF(BF14-BD20<0,BF14-BD20,"0") -> 0 | BI17: =IF(BI13-BG19<0,BI13-BG19,"0")+IF(BI14-BG20<0,BI14-BG20,"0") -> 0 | BL17: =IF(BL13-BJ19<0,BL13-BJ19,"0")+IF(BL14-BJ20<0,BL14-BJ20,"0") -> 0 | BO17: =IF(BO13-BM19<0,BO13-BM19,"0")+IF(BO14-BM20<0,BO14-BM20,"0") -> 0 | BR17: =IF(BR13-BP19<0,BR13-BP19,"0")+IF(BR14-BP20<0,BR14-BP20,"0") -> 0 | BU17: =IF(BU13-BS19<0,BU13-BS19,"0")+IF(BU14-BS20<0,BU14-BS20,"0") -> 0 | BX17: =IF(BX13-BV19<0,BX13-BV19,"0")+IF(BX14-BV20<0,BX14-BV20,"0") -> 0 | CA17: =IF(CA13-BY19<0,CA13-BY19,"0")+IF(CA14-BY20<0,CA14-BY20,"0") -> 0 | CD17: =IF(CD13-CB19<0,CD13-CB19,"0")+IF(CD14-CB20<0,CD14-CB20,"0") -> 0 | CG17: =IF(CG13-CE19<0,CG13-CE19,"0")+IF(CG14-CE20<0,CG14-CE20,"0") -> 0 | CJ17: =IF(CJ13-CH19<0,CJ13-CH19,"0")+IF(CJ14-CH20<0,CJ14-CH20,"0") -> 0 | CM17: =IF(CM13-CK19<0,CM13-CK19,"0")+IF(CM14-CK20<0,CM14-CK20,"0") -> 0 | CP17: =IF(CP13-CN19<0,CP13-CN19,"0")+IF(CP14-CN20<0,CP14-CN20,"0") -> 0 | CS17: =IF(CS13-CQ19<0,CS13-CQ19,"0")+IF(CS14-CQ20<0,CS14-CQ20,"0") -> 0 | CV17: =IF(CV13-CT19<0,CV13-CT19,"0")+IF(CV14-CT20<0,CV14-CT20,"0") -> 0 | CY17: =IF(CY13-CW19<0,CY13-CW19,"0")+IF(CY14-CW20<0,CY14-CW20,"0") -> 0 | DB17: =IF(DB13-CZ19<0,DB13-CZ19,"0")+IF(DB14-CZ20<0,DB14-CZ20,"0") -> 0 | DE17: =IF(DE13-DC19<0,DE13-DC19,"0")+IF(DE14-DC20<0,DE14-DC20,"0") -> 0 | DH17: =IF(DH13-DF19<0,DH13-DF19,"0")+IF(DH14-DF20<0,DH14-DF20,"0") -> 0 | DK17: =IF(DK13-DI19<0,DK13-DI19,"0")+IF(DK14-DI20<0,DK14-DI20,"0") -> 0 | DN17: =IF(DN13-DL19<0,DN13-DL19,"0")+IF(DN14-DL20<0,DN14-DL20,"0") -> 0 | DQ17: =IF(DQ13-DO19<0,DQ13-DO19,"0")+IF(DQ14-DO20<0,DQ14-DO20,"0") -> 0
B18: その他（収入） | G18: =J18+M18 -> 0 | M18: =SUM(P18,S18,V18,Y18,AB18,AE18,AH18,AK18,AN18,AQ18,AT18,AW18,AZ18,BC18,BF18,BI18,BL18,BO18,BR18,BU18,BX18,CA18,CD18,CG18,CJ18,CM18,CP18,CS18,CV18,CY18,DB18,DE18,DH18,DK18,DN18,DQ18) -> 0
B19: 繰越額 | D19: 直接経費 | E19: =SUM(H19,K19) -> 0 | K19: =SUM(N19,Q19,T19,W19,Z19,AC19,AF19,AI19,AL19,AO19,AR19,AU19,AX19,BA19,BD19,BG19,BJ19,BM19,BP19,BS19,BV19,BY19,CB19,CE19,CH19,CK19,CN19,CQ19,CT19,CW19,CZ19,DC19,DF19,DI19,DL19,DO19) -> 0
D20: 間接経費 | E20: =SUM(H20,K20) -> 0 | K20: =SUM(N20,Q20,T20,W20,Z20,AC20,AF20,AI20,AL20,AO20,AR20,AU20,AX20,BA20,BD20,BG20,BJ20,BM20,BP20,BS20,BV20,BY20,CB20,CE20,CH20,CK20,CN20,CQ20,CT20,CW20,CZ20,DC20,DF20,DI20,DL20,DO20) -> 0
D21: 合計 | E21: =E19+E20 -> 0 | H21: =H19+H20 -> 0 | K21: 0 | N21: =N19+N20 -> 0 | Q21: =Q19+Q20 -> 0 | T21: =T19+T20 -> 0 | W21: =W19+W20 -> 0 | Z21: =Z19+Z20 -> 0 | AC21: =AC19+AC20 -> 0 | AF21: =AF19+AF20 -> 0 | AI21: =AI19+AI20 -> 0 | AL21: =AL19+AL20 -> 0 | AO21: =AO19+AO20 -> 0 | AR21: =AR19+AR20 -> 0 | AU21: =AU19+AU20 -> 0 | AX21: =AX19+AX20 -> 0 | BA21: =BA19+BA20 -> 0 | BD21: =BD19+BD20 -> 0 | BG21: =BG19+BG20 -> 0 | BJ21: =BJ19+BJ20 -> 0 | BM21: =BM19+BM20 -> 0 | BP21: =BP19+BP20 -> 0 | BS21: =BS19+BS20 -> 0 | BV21: =BV19+BV20 -> 0 | BY21: =BY19+BY20 -> 0 | CB21: =CB19+CB20 -> 0 | CE21: =CE19+CE20 -> 0 | CH21: =CH19+CH20 -> 0 | CK21: =CK19+CK20 -> 0 | CN21: =CN19+CN20 -> 0 | CQ21: =CQ19+CQ20 -> 0 | CT21: =CT19+CT20 -> 0 | CW21: =CW19+CW20 -> 0 | CZ21: =CZ19+CZ20 -> 0 | DC21: =DC19+DC20 -> 0 | DF21: =DF19+DF20 -> 0 | DI21: =DI19+DI20 -> 0 | DL21: =DL19+DL20 -> 0 | DO21: =DO19+DO20 -> 0
B22: 差引 | E22: =G8-G16-G17-E21+G18 -> 0 | H22: =J8-J16-J17-H21+J18 -> 0 | K22: =M8-M16-M17-K21+M18 -> 0 | N22: =P8-P16-P17-N21+P18 -> 0 | Q22: =S8-S16-S17-Q21+S18 -> 0 | T22: =V8-V16-V17-T21+V18 -> 0 | W22: =Y8-Y16-Y17-W21+Y18 -> 0 | Z22: =AB8-AB16-AB17-Z21+AB18 -> 0 | AC22: =AE8-AE16-AE17-AC21+AE18 -> 0 | AF22: =AH8-AH16-AH17-AF21+AH18 -> 0 | AI22: =AK8-AK16-AK17-AI21+AK18 -> 0 | AL22: =AN8-AN16-AN17-AL21+AN18 -> 0 | AO22: =AQ8-AQ16-AQ17-AO21+AQ18 -> 0 | AR22: =AT8-AT16-AT17-AR21+AT18 -> 0 | AU22: =AW8-AW16-AW17-AU21+AW18 -> 0 | AX22: =AZ8-AZ16-AZ17-AX21+AZ18 -> 0 | BA22: =BC8-BC16-BC17-BA21+BC18 -> 0 | BD22: =BF8-BF16-BF17-BD21+BF18 -> 0 | BG22: =BI8-BI16-BI17-BG21+BI18 -> 0 | BJ22: =BL8-BL16-BL17-BJ21+BL18 -> 0 | BM22: =BO8-BO16-BO17-BM21+BO18 -> 0 | BP22: =BR8-BR16-BR17-BP21+BR18 -> 0 | BS22: =BU8-BU16-BU17-BS21+BU18 -> 0 | BV22: =BX8-BX16-BX17-BV21+BX18 -> 0 | BY22: =CA8-CA16-CA17-BY21+CA18 -> 0 | CB22: =CD8-CD16-CD17-CB21+CD18 -> 0 | CE22: =CG8-CG16-CG17-CE21+CG18 -> 0 | CH22: =CJ8-CJ16-CJ17-CH21+CJ18 -> 0 | CK22: =CM8-CM16-CM17-CK21+CM18 -> 0 | CN22: =CP8-CP16-CP17-CN21+CP18 -> 0 | CQ22: =CS8-CS16-CS17-CQ21+CS18 -> 0 | CT22: =CV8-CV16-CV17-CT21+CV18 -> 0 | CW22: =CY8-CY16-CY17-CW21+CY18 -> 0 | CZ22: =DB8-DB16-DB17-CZ21+DB18 -> 0 | DC22: =DE8-DE16-DE17-DC21+DE18 -> 0 | DF22: =DH8-DH16-DH17-DF21+DH18 -> 0 | DI22: =DK8-DK16-DK17-DI21+DK18 -> 0 | DL22: =DN8-DN16-DN17-DL21+DN18 -> 0 | DO22: =DQ8-DQ16-DQ17-DO21+DQ18 -> 0
B23: 不課税消費税相当額等の取扱 | H23: プルダウンから選択してください | N23: プルダウンから選択してください | Q23: プルダウンから選択してください | T23: プルダウンから選択してください | W23: プルダウンから選択してください | Z23: プルダウンから選択してください | AC23: プルダウンから選択してください | AF23: プルダウンから選択してください | AI23: プルダウンから選択してください | AL23: プルダウンから選択してください | AO23: プルダウンから選択してください | AR23: プルダウンから選択してください | AU23: プルダウンから選択してください | AX23: プルダウンから選択してください | BA23: プルダウンから選択してください | BD23: プルダウンから選択してください | BG23: プルダウンから選択してください | BJ23: プルダウンから選択してください | BM23: プルダウンから選択してください | BP23: プルダウンから選択してください | BS23: プルダウンから選択してください | BV23: プルダウンから選択してください | BY23: プルダウンから選択してください | CB23: プルダウンから選択してください | CE23: プルダウンから選択してください | CH23: プルダウンから選択してください | CK23: プルダウンから選択してください | CN23: プルダウンから選択してください | CQ23: プルダウンから選択してください | CT23: プルダウンから選択してください | CW23: プルダウンから選択してください | CZ23: プルダウンから選択してください | DC23: プルダウンから選択してください | DF23: プルダウンから選択してください | DI23: プルダウンから選択してください | DL23: プルダウンから選択してください | DO23: プルダウンから選択してください
B24: 備考欄
H44: プルダウンから選択してください
H45: 計上
H46: 非計上(自己資金負担)
H47: 非計上(免税事業者等)

Sheet ②報告様式１別紙イ  (繰越期間分)
B1: （ 報告様式1別紙イ ） | E1: 繰越期間分
B2: 収支決算報告書
I3: 研究者番号 | J3: 研究機関番号 | O3: 研究者番号 | P3: 研究機関番号 | R3: 研究者番号 | S3: 研究機関番号 | U3: 研究者番号 | V3: 研究機関番号 | X3: 研究者番号 | Y3: 研究機関番号 | AA3: 研究者番号 | AB3: 研究機関番号 | AD3: 研究者番号 | AE3: 研究機関番号 | AG3: 研究者番号 | AH3: 研究機関番号 | AJ3: 研究者番号 | AK3: 研究機関番号 | AM3: 研究者番号 | AN3: 研究機関番号 | AP3: 研究者番号 | AQ3: 研究機関番号 | AS3: 研究者番号 | AT3: 研究機関番号 | AV3: 研究者番号 | AW3: 研究機関番号 | AY3: 研究者番号 | AZ3: 研究機関番号 | BB3: 研究者番号 | BC3: 研究機関番号 | BE3: 研究者番号 | BF3: 研究機関番号 | BH3: 研究者番号 | BI3: 研究機関番号 | BK3: 研究者番号 | BL3: 研究機関番号 | BN3: 研究者番号 | BO3: 研究機関番号 | BQ3: 研究者番号 | BR3: 研究機関番号 | BT3: 研究者番号 | BU3: 研究機関番号 | BW3: 研究者番号 | BX3: 研究機関番号 | BZ3: 研究者番号 | CA3: 研究機関番号 | CC3: 研究者番号 | CD3: 研究機関番号 | CF3: 研究者番号 | CG3: 研究機関番号 | CI3: 研究者番号 | CJ3: 研究機関番号 | CL3: 研究者番号 | CM3: 研究機関番号 | CO3: 研究者番号 | CP3: 研究機関番号 | CR3: 研究者番号 | CS3: 研究機関番号 | CU3: 研究者番号 | CV3: 研究機関番号 | CX3: 研究者番号 | CY3: 研究機関番号 | DA3: 研究者番号 | DB3: 研究機関番号 | DD3: 研究者番号 | DE3: 研究機関番号 | DG3: 研究者番号 | DH3: 研究機関番号 | DJ3: 研究者番号 | DK3: 研究機関番号 | DM3: 研究者番号 | DN3: 研究機関番号 | DP3: 研究者番号 | DQ3: 研究機関番号
B4: 契約番号 | D4: ='①報告様式１別紙イ（年度末分） '!D4 -> （例）SIP2023A1 | E4: 課題ID（e-Rad） | F4: ='①報告様式１別紙イ（年度末分） '!F4 -> 0 | I4: ='①報告様式１別紙イ（年度末分） '!I4 -> 0 | J4: ='①報告様式１別紙イ（年度末分） '!J4 -> 0 | M4: （単位：円） | O4: ='①報告様式１別紙イ（年度末分） '!O4 -> 0 | P4: ='①報告様式１別紙イ（年度末分） '!P4 -> 0 | R4: ='①報告様式１別紙イ（年度末分） '!R4 -> 0 | S4: ='①報告様式１別紙イ（年度末分） '!P4 -> 0 | U4: ='①報告様式１別紙イ（年度末分） '!U4 -> 0 | V4: ='①報告様式１別紙イ（年度末分） '!V4 -> 0 | X4: ='①報告様式１別紙イ（年度末分） '!X4 -> 0 | Y4: ='①報告様式１別紙イ（年度末分） '!Y4 -> 0 | AA4: ='①報告様式１別紙イ（年度末分） '!AA4 -> 0 | AB4: ='①報告様式１別紙イ（年度末分） '!AB4 -> 0 | AD4: ='①報告様式１別紙イ（年度末分） '!AD4 -> 0 | AE4: ='①報告様式１別紙イ（年度末分） '!AE4 -> 0 | AG4: ='①報告様式１別紙イ（年度末分） '!AG4 -> 0 | AH4: ='①報告様式１別紙イ（年度末分） '!AH4 -> 0 | AJ4: ='①報告様式１別紙イ（年度末分） '!AJ4 -> 0 | AK4: ='①報告様式１別紙イ（年度末分） '!AK4 -> 0 | AM4: ='①報告様式１別紙イ（年度末分） '!AM4 -> 0 | AN4: ='①報告様式１別紙イ（年度末分） '!AN4 -> 0 | AP4: ='①報告様式１別紙イ（年度末分） '!AP4 -> 0 | AQ4: ='①報告様式１別紙イ（年度末分） '!AQ4 -> 0 | AS4: ='①報告様式１別紙イ（年度末分） '!AS4 -> 0 | AT4: ='①報告様式１別紙イ（年度末分） '!AT4 -> 0 | AV4: ='①報告様式１別紙イ（年度末分） '!AV4 -> 0 | AW4: ='①報告様式１別紙イ（年度末分） '!AW4 -> 0 | AY4: ='①報告様式１別紙イ（年度末分） '!AY4 -> 0 | AZ4: ='①報告様式１別紙イ（年度末分） '!AZ4 -> 0 | BB4: ='①報告様式１別紙イ（年度末分） '!BB4 -> 0 | BC4: ='①報告様式１別紙イ（年度末分） '!BC4 -> 0 | BE4: ='①報告様式１別紙イ（年度末分） '!BE4 -> 0 | BF4: ='①報告様式１別紙イ（年度末分） '!BF4 -> 0 | BH4: ='①報告様式１別紙イ（年度末分） '!BH4 -> 0 | BI4: ='①報告様式１別紙イ（年度末分） '!BI4 -> 0 | BK4: ='①報告様式１別紙イ（年度末分） '!BK4 -> 0 | BL4: ='①報告様式１別紙イ（年度末分） '!BL4 -> 0 | BN4: ='①報告様式１別紙イ（年度末分） '!BN4 -> 0 | BO4: ='①報告様式１別紙イ（年度末分） '!BO4 -> 0 | BQ4: ='①報告様式１別紙イ（年度末分） '!BQ4 -> 0 | BR4: ='①報告様式１別紙イ（年度末分） '!BR4 -> 0 | BT4: ='①報告様式１別紙イ（年度末分） '!BT4 -> 0 | BU4: ='①報告様式１別紙イ（年度末分） '!BU4 -> 0 | BW4: ='①報告様式１別紙イ（年度末分） '!BW4 -> 0 | BX4: ='①報告様式１別紙イ（年度末分） '!BX4 -> 0 | BZ4: ='①報告様式１別紙イ（年度末分） '!BZ4 -> 0 | CA4: ='①報告様式１別紙イ（年度末分） '!CA4 -> 0 | CC4: ='①報告様式１別紙イ（年度末分） '!CC4 -> 0 | CD4: ='①報告様式１別紙イ（年度末分） '!CD4 -> 0 | CF4: ='①報告様式１別紙イ（年度末分） '!CF4 -> 0 | CG4: ='①報告様式１別紙イ（年度末分） '!CG4 -> 0 | CI4: ='①報告様式１別紙イ（年度末分） '!CI4 -> 0 | CJ4: ='①報告様式１別紙イ（年度末分） '!CJ4 -> 0 | CL4: ='①報告様式１別紙イ（年度末分） '!CL4 -> 0 | CM4: ='①報告様式１別紙イ（年度末分） '!CM4 -> 0 | CO4: ='①報告様式１別紙イ（年度末分） '!CO4 -> 0 | CP4: ='①報告様式１別紙イ（年度末分） '!CP4 -> 0 | CR4: ='①報告様式１別紙イ（年度末分） '!CR4 -> 0 | CS4: ='①報告様式１別紙イ（年度末分） '!CS4 -> 0 | CU4: ='①報告様式１別紙イ（年度末分） '!CU4 -> 0 | CV4: ='①報告様式１別紙イ（年度末分） '!CV4 -> 0 | CX4: ='①報告様式１別紙イ（年度末分） '!CX4 -> 0 | CY4: ='①報告様式１別紙イ（年度末分） '!CY4 -> 0 | DA4: ='①報告様式１別紙イ（年度末分） '!DA4 -> 0 | DB4: ='①報告様式１別紙イ（年度末分） '!DB4 -> 0 | DD4: ='①報告様式１別紙イ（年度末分） '!DD4 -> 0 | DE4: ='①報告様式１別紙イ（年度末分） '!DE4 -> 0 | DG4: ='①報告様式１別紙イ（年度末分） '!DG4 -> 0 | DH4: ='①報告様式１別紙イ（年度末分） '!DH4 -> 0 | DJ4: ='①報告様式１別紙イ（年度末分） '!DJ4 -> 0 | DK4: ='①報告様式１別紙イ（年度末分） '!DK4 -> 0 | DM4: ='①報告様式１別紙イ（年度末分） '!DM4 -> 0 | DN4: ='①報告様式１別紙イ（年度末分） '!DN4 -> 0 | DP4: ='①報告様式１別紙イ（年度末分） '!DP4 -> 0 | DQ4: ='①報告様式１別紙イ（年度末分） '!DQ4 -> 0
B5: 委託種別 | E5: 総額 | H5: 直接契約分（研究開発代表機関） | K5: 再委託費合計 | N5: 再委託1 | Q5: 再委託2 | T5: 再委託3 | W5: 再委託4 | Z5: 再委託5 | AC5: 再委託6 | AF5: 再委託7 | AI5: 再委託8 | AL5: 再委託9 | AO5: 再委託10 | AR5: 再委託11 | AU5: 再委託12 | AX5: 再委託13 | BA5: 再委託14 | BD5: 再委託15 | BG5: 再委託16 | BJ5: 再委託17 | BM5: 再委託18 | BP5: 再委託19 | BS5: 再委託20 | BV5: 再委託21 | BY5: 再委託22 | CB5: 再委託23 | CE5: 再委託24 | CH5: 再委託25 | CK5: 再委託26 | CN5: 再委託27 | CQ5: 再委託28 | CT5: 再委託29 | CW5: 再委託30 | CZ5: 再委託31 | DC5: 再委託32 | DF5: 再委託33 | DI5: 再委託34 | DL5: 再委託35 | DO5: 再委託36
B6: 機関名 | H6: ='①報告様式１別紙イ（年度末分） '!H6:J6 -> 0 | N6: ='①報告様式１別紙イ（年度末分） '!N6:P6 -> 0 | Q6: ='①報告様式１別紙イ（年度末分） '!Q6:S6 -> 0 | T6: ='①報告様式１別紙イ（年度末分） '!T6:V6 -> 0 | W6: ='①報告様式１別紙イ（年度末分） '!W6:Y6 -> 0 | Z6: ='①報告様式１別紙イ（年度末分） '!Z6:AB6 -> 0 | AC6: ='①報告様式１別紙イ（年度末分） '!AC6:AE6 -> 0 | AF6: ='①報告様式１別紙イ（年度末分） '!AF6:AH6 -> 0 | AI6: ='①報告様式１別紙イ（年度末分） '!AI6:AK6 -> 0 | AL6: ='①報告様式１別紙イ（年度末分） '!AL6:AN6 -> 0 | AO6: ='①報告様式１別紙イ（年度末分） '!AO6:AQ6 -> 0 | AR6: ='①報告様式１別紙イ（年度末分） '!AR6:AT6 -> 0 | AU6: ='①報告様式１別紙イ（年度末分） '!AU6:AW6 -> 0 | AX6: ='①報告様式１別紙イ（年度末分） '!AX6:AZ6 -> 0 | BA6: ='①報告様式１別紙イ（年度末分） '!BA6:BC6 -> 0 | BD6: ='①報告様式１別紙イ（年度末分） '!BD6:BF6 -> 0 | BG6: ='①報告様式１別紙イ（年度末分） '!BG6:BI6 -> 0 | BJ6: ='①報告様式１別紙イ（年度末分） '!BJ6:BL6 -> 0 | BM6: ='①報告様式１別紙イ（年度末分） '!BM6:BO6 -> 0 | BP6: ='①報告様式１別紙イ（年度末分） '!BP6:BR6 -> 0 | BS6: ='①報告様式１別紙イ（年度末分） '!BS6:BU6 -> 0 | BV6: ='①報告様式１別紙イ（年度末分） '!BV6:BX6 -> 0 | BY6: ='①報告様式１別紙イ（年度末分） '!BY6:CA6 -> 0 | CB6: ='①報告様式１別紙イ（年度末分） '!CB6:CD6 -> 0 | CE6: ='①報告様式１別紙イ（年度末分） '!CE6:CG6 -> 0 | CH6: ='①報告様式１別紙イ（年度末分） '!CH6:CJ6 -> 0 | CK6: ='①報告様式１別紙イ（年度末分） '!CK6:CM6 -> 0 | CN6: ='①報告様式１別紙イ（年度末分） '!CN6:CP6 -> 0 | CQ6: ='①報告様式１別紙イ（年度末分） '!CQ6:CS6 -> 0 | CT6: ='①報告様式１別紙イ（年度末分） '!CT6:CV6 -> 0 | CW6: ='①報告様式１別紙イ（年度末分） '!CW6:CY6 -> 0 | CZ6: ='①報告様式１別紙イ（年度末分） '!CZ6:DB6 -> 0 | DC6: ='①報告様式１別紙イ（年度末分） '!DC6:DE6 -> 0 | DF6: ='①報告様式１別紙イ（年度末分） '!DF6:DH6 -> 0 | DI6: ='①報告様式１別紙イ（年度末分） '!DI6:DK6 -> 0 | DL6: ='①報告様式１別紙イ（年度末分） '!DL6:DN6 -> 0 | DO6: ='①報告様式１別紙イ（年度末分） '!DO6:DQ6 -> 0
E7: 契約額 | F7: 支出額 | G7: 差引額 | H7: 契約額 | I7: 支出額 | J7: 差額 | K7: 契約額 | L7: 支出額 | M7: 差額 | N7: 契約額 | O7: 支出額 | P7: 差額 | Q7: 契約額 | R7: 支出額 | S7: 差額 | T7: 契約額 | U7: 支出額 | V7: 差額 | W7: 契約額 | X7: 支出額 | Y7: 差額 | Z7: 契約額 | AA7: 支出額 | AB7: 差額 | AC7: 契約額 | AD7: 支出額 | AE7: 差額 | AF7: 契約額 | AG7: 支出額 | AH7: 差額 | AI7: 契約額 | AJ7: 支出額 | AK7: 差額 | AL7: 契約額 | AM7: 支出額 | AN7: 差額 | AO7: 契約額 | AP7: 支出額 | AQ7: 差額 | AR7: 契約額 | AS7: 支出額 | AT7: 差額 | AU7: 契約額 | AV7: 支出額 | AW7: 差額 | AX7: 契約額 | AY7: 支出額 | AZ7: 差額 | BA7: 契約額 | BB7: 支出額 | BC7: 差額 | BD7: 契約額 | BE7: 支出額 | BF7: 差額 | BG7: 契約額 | BH7: 支出額 | BI7: 差額 | BJ7: 契約額 | BK7: 支出額 | BL7: 差額 | BM7: 契約額 | BN7: 支出額 | BO7: 差額 | BP7: 契約額 | BQ7: 支出額 | BR7: 差額 | BS7: 契約額 | BT7: 支出額 | BU7: 差額 | BV7: 契約額 | BW7: 支出額 | BX7: 差額 | BY7: 契約額 | BZ7: 支出額 | CA7: 差額 | CB7: 契約額 | CC7: 支出額 | CD7: 差額 | CE7: 契約額 | CF7: 支出額 | CG7: 差額 | CH7: 契約額 | CI7: 支出額 | CJ7: 差額 | CK7: 契約額 | CL7: 支出額 | CM7: 差額 | CN7: 契約額 | CO7: 支出額 | CP7: 差額 | CQ7: 契約額 | CR7: 支出額 | CS7: 差額 | CT7: 契約額 | CU7: 支出額 | CV7: 差額 | CW7: 契約額 | CX7: 支出額 | CY7: 差額 | CZ7: 契約額 | DA7: 支出額 | DB7: 差額 | DC7: 契約額 | DD7: 支出額 | DE7: 差額 | DF7: 契約額 | DG7: 支出額 | DH7: 差額 | DI7: 契約額 | DJ7: 支出額 | DK7: 差額 | DL7: 契約額 | DM7: 支出額 | DN7: 差額 | DO7: 契約額 | DP7: 支出額 | DQ7: 差額
B8: 総額（A＋B） | E8: =SUM(H8,K8) -> 0 | F8: =SUM(I8,L8) -> 0 | G8: =SUM(J8,M8) -> 0 | H8: =SUM(H13,H14) -> 0 | I8: =SUM(I13,I14) -> 0 | J8: =H8-I8 -> 0 | K8: =SUM(N8,Q8,T8,W8,Z8,AC8,AF8,AI8,AL8,AO8,AR8,AU8,AX8,BA8,BD8,BG8,BJ8,BM8,BP8,BS8,BV8,BY8,CB8,CE8,CH8,CK8,CN8,CQ8,CT8,CW8,CZ8,DC8,DF8,DI8,DL8,DO8) -> 0 | L8: =SUM(O8,R8,U8,X8,AA8,AD8,AG8,AJ8,AM8,AP8,AS8,AV8,AY8,BB8,BE8,BH8,BK8,BN8,BQ8,BT8,BW8,BZ8,CC8,CF8,CI8,CL8,CO8,CR8,CU8,CX8,DA8,DD8,DG8,DJ8,DM8,DP8) -> 0 | M8: =SUM(P8,S8,V8,Y8,AB8,AE8,AH8,AK8,AN8,AQ8,AT8,AW8,AZ8,BC8,BF8,BI8,BL8,BO8,BR8,BU8,BX8,CA8,CD8,CG8,CJ8,CM8,CP8,CS8,CV8,CY8,DB8,DE8,DH8,DK8,DN8,DQ8) -> 0 | N8: =SUM(N13,N14) -> 0 | O8: =SUM(O13,O14) -> 0 | P8: =N8-O8 -> 0 | Q8: =SUM(Q13,Q14) -> 0 | R8: =SUM(R13,R14) -> 0 | S8: =Q8-R8 -> 0 | T8: =SUM(T13,T14) -> 0 | U8: =SUM(U13,U14) -> 0 | V8: =T8-U8 -> 0 | W8: =SUM(W13,W14) -> 0 | X8: =SUM(X13,X14) -> 0 | Y8: =W8-X8 -> 0 | Z8: =SUM(Z13,Z14) -> 0 | AA8: =SUM(AA13,AA14) -> 0 | AB8: =Z8-AA8 -> 0 | AC8: =SUM(AC13,AC14) -> 0 | AD8: =SUM(AD13,AD14) -> 0 | AE8: =AC8-AD8 -> 0 | AF8: =SUM(AF13,AF14) -> 0 | AG8: =SUM(AG13,AG14) -> 0 | AH8: =AF8-AG8 -> 0 | AI8: =SUM(AI13,AI14) -> 0 | AJ8: =SUM(AJ13,AJ14) -> 0 | AK8: =AI8-AJ8 -> 0 | AL8: =SUM(AL13,AL14) -> 0 | AM8: =SUM(AM13,AM14) -> 0 | AN8: =AL8-AM8 -> 0 | AO8: =SUM(AO13,AO14) -> 0 | AP8: =SUM(AP13,AP14) -> 0 | AQ8: =AO8-AP8 -> 0 | AR8: =SUM(AR13,AR14) -> 0 | AS8: =SUM(AS13,AS14) -> 0 | AT8: =AR8-AS8 -> 0 | AU8: =SUM(AU13,AU14) -> 0 | AV8: =SUM(AV13,AV14) -> 0 | AW8: =AU8-AV8 -> 0 | AX8: =SUM(AX13,AX14) -> 0 | AY8: =SUM(AY13,AY14) -> 0 | AZ8: =AX8-AY8 -> 0 | BA8: =SUM(BA13,BA14) -> 0 | BB8: =SUM(BB13,BB14) -> 0 | BC8: =BA8-BB8 -> 0 | BD8: =SUM(BD13,BD14) -> 0 | BE8: =SUM(BE13,BE14) -> 0 | BF8: =BD8-BE8 -> 0 | BG8: =SUM(BG13,BG14) -> 0 | BH8: =SUM(BH13,BH14) -> 0 | BI8: =BG8-BH8 -> 0 | BJ8: =SUM(BJ13,BJ14) -> 0 | BK8: =SUM(BK13,BK14) -> 0 | BL8: =BJ8-BK8 -> 0 | BM8: =SUM(BM13,BM14) -> 0 | BN8: =SUM(BN13,BN14) -> 0 | BO8: =BM8-BN8 -> 0 | BP8: =SUM(BP13,BP14) -> 0 | BQ8: =SUM(BQ13,BQ14) -> 0 | BR8: =BP8-BQ8 -> 0 | BS8: =SUM(BS13,BS14) -> 0 | BT8: =SUM(BT13,BT14) -> 0 | BU8: =BS8-BT8 -> 0 | BV8: =SUM(BV13,BV14) -> 0 | BW8: =SUM(BW13,BW14) -> 0 | BX8: =BV8-BW8 -> 0 | BY8: =SUM(BY13,BY14) -> 0 | BZ8: =SUM(BZ13,BZ14) -> 0 | CA8: =BY8-BZ8 -> 0 | CB8: =SUM(CB13,CB14) -> 0 | CC8: =SUM(CC13,CC14) -> 0 | CD8: =CB8-CC8 -> 0 | CE8: =SUM(CE13,CE14) -> 0 | CF8: =SUM(CF13,CF14) -> 0 | CG8: =CE8-CF8 -> 0 | CH8: =SUM(CH13,CH14) -> 0 | CI8: =SUM(CI13,CI14) -> 0 | CJ8: =CH8-CI8 -> 0 | CK8: =SUM(CK13,CK14) -> 0 | CL8: =SUM(CL13,CL14) -> 0 | CM8: =CK8-CL8 -> 0 | CN8: =SUM(CN13,CN14) -> 0 | CO8: =SUM(CO13,CO14) -> 0 | CP8: =CN8-CO8 -> 0 | CQ8: =SUM(CQ13,CQ14) -> 0 | CR8: =SUM(CR13,CR14) -> 0 | CS8: =CQ8-CR8 -> 0 | CT8: =SUM(CT13,CT14) -> 0 | CU8: =SUM(CU13,CU14) -> 0 | CV8: =CT8-CU8 -> 0 | CW8: =SUM(CW13,CW14) -> 0 | CX8: =SUM(CX13,CX14) -> 0 | CY8: =CW8-CX8 -> 0 | CZ8: =SUM(CZ13,CZ14) -> 0 | DA8: =SUM(DA13,DA14) -> 0 | DB8: =CZ8-DA8 -> 0 | DC8: =SUM(DC13,DC14) -> 0 | DD8: =SUM(DD13,DD14) -> 0 | DE8: =DC8-DD8 -> 0 | DF8: =SUM(DF13,DF14) -> 0 | DG8: =SUM(DG13,DG14) -> 0 | DH8: =DF8-DG8 -> 0 | DI8: =SUM(DI13,DI14) -> 0 | DJ8: =SUM(DJ13,DJ14) -> 0 | DK8: =DI8-DJ8 -> 0 | DL8: =SUM(DL13,DL14) -> 0 | DM8: =SUM(DM13,DM14) -> 0 | DN8: =DL8-DM8 -> 0 | DO8: =SUM(DO13,DO14) -> 0 | DP8: =SUM(DP13,DP14) -> 0 | DQ8: =DO8-DP8 -> 0
B9: 直接経費（A） | C9: 物品費 | E9: =SUM(H9,K9) -> 0 | F9: =SUM(I9,L9) -> 0 | G9: =SUM(J9,M9) -> 0 | J9: =H9-I9 -> 0 | K9: =SUM(N9,Q9,T9,W9,Z9,AC9,AF9,AI9,AL9,AO9,AR9,AU9,AX9,BA9,BD9,BG9,BJ9,BM9,BP9,BS9,BV9,BY9,CB9,CE9,CH9,CK9,CN9,CQ9,CT9,CW9,CZ9,DC9,DF9,DI9,DL9,DO9) -> 0 | L9: =SUM(O9,R9,U9,X9,AA9,AD9,AG9,AJ9,AM9,AP9,AS9,AV9,AY9,BB9,BE9,BH9,BK9,BN9,BQ9,BT9,BW9,BZ9,CC9,CF9,CI9,CL9,CO9,CR9,CU9,CX9,DA9,DD9,DG9,DJ9,DM9,DP9) -> 0 | M9: =SUM(P9,S9,V9,Y9,AB9,AE9,AH9,AK9,AN9,AQ9,AT9,AW9,AZ9,BC9,BF9,BI9,BL9,BO9,BR9,BU9,BX9,CA9,CD9,CG9,CJ9,CM9,CP9,CS9,CV9,CY9,DB9,DE9,DH9,DK9,DN9,DQ9) -> 0 | P9: =N9-O9 -> 0 | S9: =Q9-R9 -> 0 | V9: =T9-U9 -> 0 | Y9: =W9-X9 -> 0 | AB9: =Z9-AA9 -> 0 | AE9: =AC9-AD9 -> 0 | AH9: =AF9-AG9 -> 0 | AK9: =AI9-AJ9 -> 0 | AN9: =AL9-AM9 -> 0 | AQ9: =AO9-AP9 -> 0 | AT9: =AR9-AS9 -> 0 | AW9: =AU9-AV9 -> 0 | AZ9: =AX9-AY9 -> 0 | BC9: =BA9-BB9 -> 0 | BF9: =BD9-BE9 -> 0 | BI9: =BG9-BH9 -> 0 | BL9: =BJ9-BK9 -> 0 | BO9: =BM9-BN9 -> 0 | BR9: =BP9-BQ9 -> 0 | BU9: =BS9-BT9 -> 0 | BX9: =BV9-BW9 -> 0 | CA9: =BY9-BZ9 -> 0 | CD9: =CB9-CC9 -> 0 | CG9: =CE9-CF9 -> 0 | CJ9: =CH9-CI9 -> 0 | CM9: =CK9-CL9 -> 0 | CP9: =CN9-CO9 -> 0 | CS9: =CQ9-CR9 -> 0 | CV9: =CT9-CU9 -> 0 | CY9: =CW9-CX9 -> 0 | DB9: =CZ9-DA9 -> 0 | DE9: =DC9-DD9 -> 0 | DH9: =DF9-DG9 -> 0 | DK9: =DI9-DJ9 -> 0 | DN9: =DL9-DM9 -> 0 | DQ9: =DO9-DP9 -> 0
C10: 旅費 | E10: =SUM(H10,K10) -> 0 | F10: =SUM(I10,L10) -> 0 | G10: =SUM(J10,M10) -> 0 | J10: =H10-I10 -> 0 | K10: =SUM(N10,Q10,T10,W10,Z10,AC10,AF10,AI10,AL10,AO10,AR10,AU10,AX10,BA10,BD10,BG10,BJ10,BM10,BP10,BS10,BV10,BY10,CB10,CE10,CH10,CK10,CN10,CQ10,CT10,CW10,CZ10,DC10,DF10,DI10,DL10,DO10) -> 0 | L10: =SUM(O10,R10,U10,X10,AA10,AD10,AG10,AJ10,AM10,AP10,AS10,AV10,AY10,BB10,BE10,BH10,BK10,BN10,BQ10,BT10,BW10,BZ10,CC10,CF10,CI10,CL10,CO10,CR10,CU10,CX10,DA10,DD10,DG10,DJ10,DM10,DP10) -> 0 | M10: =SUM(P10,S10,V10,Y10,AB10,AE10,AH10,AK10,AN10,AQ10,AT10,AW10,AZ10,BC10,BF10,BI10,BL10,BO10,BR10,BU10,BX10,CA10,CD10,CG10,CJ10,CM10,CP10,CS10,CV10,CY10,DB10,DE10,DH10,DK10,DN10,DQ10) -> 0 | P10: =N10-O10 -> 0 | S10: =Q10-R10 -> 0 | V10: =T10-U10 -> 0 | Y10: =W10-X10 -> 0 | AB10: =Z10-AA10 -> 0 | AE10: =AC10-AD10 -> 0 | AH10: =AF10-AG10 -> 0 | AK10: =AI10-AJ10 -> 0 | AN10: =AL10-AM10 -> 0 | AQ10: =AO10-AP10 -> 0 | AT10: =AR10-AS10 -> 0 | AW10: =AU10-AV10 -> 0 | AZ10: =AX10-AY10 -> 0 | BC10: =BA10-BB10 -> 0 | BF10: =BD10-BE10 -> 0 | BI10: =BG10-BH10 -> 0 | BL10: =BJ10-BK10 -> 0 | BO10: =BM10-BN10 -> 0 | BR10: =BP10-BQ10 -> 0 | BU10: =BS10-BT10 -> 0 | BX10: =BV10-BW10 -> 0 | CA10: =BY10-BZ10 -> 0 | CD10: =CB10-CC10 -> 0 | CG10: =CE10-CF10 -> 0 | CJ10: =CH10-CI10 -> 0 | CM10: =CK10-CL10 -> 0 | CP10: =CN10-CO10 -> 0 | CS10: =CQ10-CR10 -> 0 | CV10: =CT10-CU10 -> 0 | CY10: =CW10-CX10 -> 0 | DB10: =CZ10-DA10 -> 0 | DE10: =DC10-DD10 -> 0 | DH10: =DF10-DG10 -> 0 | DK10: =DI10-DJ10 -> 0 | DN10: =DL10-DM10 -> 0 | DQ10: =DO10-DP10 -> 0
C11: 人件費・謝金 | E11: =SUM(H11,K11) -> 0 | F11: =SUM(I11,L11) -> 0 | G11: =SUM(J11,M11) -> 0 | J11: =H11-I11 -> 0 | K11: =SUM(N11,Q11,T11,W11,Z11,AC11,AF11,AI11,AL11,AO11,AR11,AU11,AX11,BA11,BD11,BG11,BJ11,BM11,BP11,BS11,BV11,BY11,CB11,CE11,CH11,CK11,CN11,CQ11,CT11,CW11,CZ11,DC11,DF11,DI11,DL11,DO11) -> 0 | L11: =SUM(O11,R11,U11,X11,AA11,AD11,AG11,AJ11,AM11,AP11,AS11,AV11,AY11,BB11,BE11,BH11,BK11,BN11,BQ11,BT11,BW11,BZ11,CC11,CF11,CI11,CL11,CO11,CR11,CU11,CX11,DA11,DD11,DG11,DJ11,DM11,DP11) -> 0 | M11: =SUM(P11,S11,V11,Y11,AB11,AE11,AH11,AK11,AN11,AQ11,AT11,AW11,AZ11,BC11,BF11,BI11,BL11,BO11,BR11,BU11,BX11,CA11,CD11,CG11,CJ11,CM11,CP11,CS11,CV11,CY11,DB11,DE11,DH11,DK11,DN11,DQ11) -> 0 | P11: =N11-O11 -> 0 | S11: =Q11-R11 -> 0 | V11: =T11-U11 -> 0 | Y11: =W11-X11 -> 0 | AB11: =Z11-AA11 -> 0 | AE11: =AC11-AD11 -> 0 | AH11: =AF11-AG11 -> 0 | AK11: =AI11-AJ11 -> 0 | AN11: =AL11-AM11 -> 0 | AQ11: =AO11-AP11 -> 0 | AT11: =AR11-AS11 -> 0 | AW11: =AU11-AV11 -> 0 | AZ11: =AX11-AY11 -> 0 | BC11: =BA11-BB11 -> 0 | BF11: =BD11-BE11 -> 0 | BI11: =BG11-BH11 -> 0 | BL11: =BJ11-BK11 -> 0 | BO11: =BM11-BN11 -> 0 | BR11: =BP11-BQ11 -> 0 | BU11: =BS11-BT11 -> 0 | BX11: =BV11-BW11 -> 0 | CA11: =BY11-BZ11 -> 0 | CD11: =CB11-CC11 -> 0 | CG11: =CE11-CF11 -> 0 | CJ11: =CH11-CI11 -> 0 | CM11: =CK11-CL11 -> 0 | CP11: =CN11-CO11 -> 0 | CS11: =CQ11-CR11 -> 0 | CV11: =CT11-CU11 -> 0 | CY11: =CW11-CX11 -> 0 | DB11: =CZ11-DA11 -> 0 | DE11: =DC11-DD11 -> 0 | DH11: =DF11-DG11 -> 0 | DK11: =DI11-DJ11 -> 0 | DN11: =DL11-DM11 -> 0 | DQ11: =DO11-DP11 -> 0
C12: その他 | E12: =SUM(H12,K12) -> 0 | F12: =SUM(I12,L12) -> 0 | G12: =SUM(J12,M12) -> 0 | J12: =H12-I12 -> 0 | K12: =SUM(N12,Q12,T12,W12,Z12,AC12,AF12,AI12,AL12,AO12,AR12,AU12,AX12,BA12,BD12,BG12,BJ12,BM12,BP12,BS12,BV12,BY12,CB12,CE12,CH12,CK12,CN12,CQ12,CT12,CW12,CZ12,DC12,DF12,DI12,DL12,DO12) -> 0 | L12: =SUM(O12,R12,U12,X12,AA12,AD12,AG12,AJ12,AM12,AP12,AS12,AV12,AY12,BB12,BE12,BH12,BK12,BN12,BQ12,BT12,BW12,BZ12,CC12,CF12,CI12,CL12,CO12,CR12,CU12,CX12,DA12,DD12,DG12,DJ12,DM12,DP12) -> 0 | M12: =SUM(P12,S12,V12,Y12,AB12,AE12,AH12,AK12,AN12,AQ12,AT12,AW12,AZ12,BC12,BF12,BI12,BL12,BO12,BR12,BU12,BX12,CA12,CD12,CG12,CJ12,CM12,CP12,CS12,CV12,CY12,DB12,DE12,DH12,DK12,DN12,DQ12) -> 0 | P12: =N12-O12 -> 0 | S12: =Q12-R12 -> 0 | V12: =T12-U12 -> 0 | Y12: =W12-X12 -> 0 | AB12: =Z12-AA12 -> 0 | AE12: =AC12-AD12 -> 0 | AH12: =AF12-AG12 -> 0 | AK12: =AI12-AJ12 -> 0 | AN12: =AL12-AM12 -> 0 | AQ12: =AO12-AP12 -> 0 | AT12: =AR12-AS12 -> 0 | AW12: =AU12-AV12 -> 0 | AZ12: =AX12-AY12 -> 0 | BC12: =BA12-BB12 -> 0 | BF12: =BD12-BE12 -> 0 | BI12: =BG12-BH12 -> 0 | BL12: =BJ12-BK12 -> 0 | BO12: =BM12-BN12 -> 0 | BR12: =BP12-BQ12 -> 0 | BU12: =BS12-BT12 -> 0 | BX12: =BV12-BW12 -> 0 | CA12: =BY12-BZ12 -> 0 | CD12: =CB12-CC12 -> 0 | CG12: =CE12-CF12 -> 0 | CJ12: =CH12-CI12 -> 0 | CM12: =CK12-CL12 -> 0 | CP12: =CN12-CO12 -> 0 | CS12: =CQ12-CR12 -> 0 | CV12: =CT12-CU12 -> 0 | CY12: =CW12-CX12 -> 0 | DB12: =CZ12-DA12 -> 0 | DE12: =DC12-DD12 -> 0 | DH12: =DF12-DG12 -> 0 | DK12: =DI12-DJ12 -> 0 | DN12: =DL12-DM12 -> 0 | DQ12: =DO12-DP12 -> 0
C13: 直接経費合計 | E13: =SUM(H13,K13) -> 0 | F13: =SUM(I13,L13) -> 0 | G13: =SUM(J13,M13) -> 0 | H13: =SUM(H9:H12) -> 0 | I13: =SUM(I9:I12) -> 0 | J13: =H13-I13 -> 0 | K13: =SUM(N13,Q13,T13,W13,Z13,AC13,AF13,AI13,AL13,AO13,AR13,AU13,AX13,BA13,BD13,BG13,BJ13,BM13,BP13,BS13,BV13,BY13,CB13,CE13,CH13,CK13,CN13,CQ13,CT13,CW13,CZ13,DC13,DF13,DI13,DL13,DO13) -> 0 | L13: =SUM(O13,R13,U13,X13,AA13,AD13,AG13,AJ13,AM13,AP13,AS13,AV13,AY13,BB13,BE13,BH13,BK13,BN13,BQ13,BT13,BW13,BZ13,CC13,CF13,CI13,CL13,CO13,CR13,CU13,CX13,DA13,DD13,DG13,DJ13,DM13,DP13) -> 0 | M13: =SUM(P13,S13,V13,Y13,AB13,AE13,AH13,AK13,AN13,AQ13,AT13,AW13,AZ13,BC13,BF13,BI13,BL13,BO13,BR13,BU13,BX13,CA13,CD13,CG13,CJ13,CM13,CP13,CS13,CV13,CY13,DB13,DE13,DH13,DK13,DN13,DQ13) -> 0 | N13: =SUM(N9:N12) -> 0 | O13: =SUM(O9:O12) -> 0 | P13: =N13-O13 -> 0 | Q13: =SUM(Q9:Q12) -> 0 | R13: =SUM(R9:R12) -> 0 | S13: =Q13-R13 -> 0 | T13: =SUM(T9:T12) -> 0 | U13: =SUM(U9:U12) -> 0 | V13: =T13-U13 -> 0 | W13: =SUM(W9:W12) -> 0 | X13: =SUM(X9:X12) -> 0 | Y13: =W13-X13 -> 0 | Z13: =SUM(Z9:Z12) -> 0 | AA13: =SUM(AA9:AA12) -> 0 | AB13: =Z13-AA13 -> 0 | AC13: =SUM(AC9:AC12) -> 0 | AD13: =SUM(AD9:AD12) -> 0 | AE13: =AC13-AD13 -> 0 | AF13: =SUM(AF9:AF12) -> 0 | AG13: =SUM(AG9:AG12) -> 0 | AH13: =AF13-AG13 -> 0 | AI13: =SUM(AI9:AI12) -> 0 | AJ13: =SUM(AJ9:AJ12) -> 0 | AK13: =AI13-AJ13 -> 0 | AL13: =SUM(AL9:AL12) -> 0 | AM13: =SUM(AM9:AM12) -> 0 | AN13: =AL13-AM13 -> 0 | AO13: =SUM(AO9:AO12) -> 0 | AP13: =SUM(AP9:AP12) -> 0 | AQ13: =AO13-AP13 -> 0 | AR13: =SUM(AR9:AR12) -> 0 | AS13: =SUM(AS9:AS12) -> 0 | AT13: =AR13-AS13 -> 0 | AU13: =SUM(AU9:AU12) -> 0 | AV13: =SUM(AV9:AV12) -> 0 | AW13: =AU13-AV13 -> 0 | AX13: =SUM(AX9:AX12) -> 0 | AY13: =SUM(AY9:AY12) -> 0 | AZ13: =AX13-AY13 -> 0 | BA13: =SUM(BA9:BA12) -> 0 | BB13: =SUM(BB9:BB12) -> 0 | BC13: =BA13-BB13 -> 0 | BD13: =SUM(BD9:BD12) -> 0 | BE13: =SUM(BE9:BE12) -> 0 | BF13: =BD13-BE13 -> 0 | BG13: =SUM(BG9:BG12) -> 0 | BH13: =SUM(BH9:BH12) -> 0 | BI13: =BG13-BH13 -> 0 | BJ13: =SUM(BJ9:BJ12) -> 0 | BK13: =SUM(BK9:BK12) -> 0 | BL13: =BJ13-BK13 -> 0 | BM13: =SUM(BM9:BM12) -> 0 | BN13: =SUM(BN9:BN12) -> 0 | BO13: =BM13-BN13 -> 0 | BP13: =SUM(BP9:BP12) -> 0 | BQ13: =SUM(BQ9:BQ12) -> 0 | BR13: =BP13-BQ13 -> 0 | BS13: =SUM(BS9:BS12) -> 0 | BT13: =SUM(BT9:BT12) -> 0 | BU13: =BS13-BT13 -> 0 | BV13: =SUM(BV9:BV12) -> 0 | BW13: =SUM(BW9:BW12) -> 0 | BX13: =BV13-BW13 -> 0 | BY13: =SUM(BY9:BY12) -> 0 | BZ13: =SUM(BZ9:BZ12) -> 0 | CA13: =BY13-BZ13 -> 0 | CB13: =SUM(CB9:CB12) -> 0 | CC13: =SUM(CC9:CC12) -> 0 | CD13: =CB13-CC13 -> 0 | CE13: =SUM(CE9:CE12) -> 0 | CF13: =SUM(CF9:CF12) -> 0 | CG13: =CE13-CF13 -> 0 | CH13: =SUM(CH9:CH12) -> 0 | CI13: =SUM(CI9:CI12) -> 0 | CJ13: =CH13-CI13 -> 0 | CK13: =SUM(CK9:CK12) -> 0 | CL13: =SUM(CL9:CL12) -> 0 | CM13: =CK13-CL13 -> 0 | CN13: =SUM(CN9:CN12) -> 0 | CO13: =SUM(CO9:CO12) -> 0 | CP13: =CN13-CO13 -> 0 | CQ13: =SUM(CQ9:CQ12) -> 0 | CR13: =SUM(CR9:CR12) -> 0 | CS13: =CQ13-CR13 -> 0 | CT13: =SUM(CT9:CT12) -> 0 | CU13: =SUM(CU9:CU12) -> 0 | CV13: =CT13-CU13 -> 0 | CW13: =SUM(CW9:CW12) -> 0 | CX13: =SUM(CX9:CX12) -> 0 | CY13: =CW13-CX13 -> 0 | CZ13: =SUM(CZ9:CZ12) -> 0 | DA13: =SUM(DA9:DA12) -> 0 | DB13: =CZ13-DA13 -> 0 | DC13: =SUM(DC9:DC12) -> 0 | DD13: =SUM(DD9:DD12) -> 0 | DE13: =DC13-DD13 -> 0 | DF13: =SUM(DF9:DF12) -> 0 | DG13: =SUM(DG9:DG12) -> 0 | DH13: =DF13-DG13 -> 0 | DI13: =SUM(DI9:DI12) -> 0 | DJ13: =SUM(DJ9:DJ12) -> 0 | DK13: =DI13-DJ13 -> 0 | DL13: =SUM(DL9:DL12) -> 0 | DM13: =SUM(DM9:DM12) -> 0 | DN13: =DL13-DM13 -> 0 | DO13: =SUM(DO9:DO12) -> 0 | DP13: =SUM(DP9:DP12) -> 0 | DQ13: =DO13-DP13 -> 0
B14: 間接経費（B） | E14: =SUM(H14,K14) -> 0 | F14: =SUM(I14,L14) -> 0 | G14: =SUM(J14,M14) -> 0 | J14: =H14-I14 -> 0 | K14: =SUM(N14,Q14,T14,W14,Z14,AC14,AF14,AI14,AL14,AO14,AR14,AU14,AX14,BA14,BD14,BG14,BJ14,BM14,BP14,BS14,BV14,BY14,CB14,CE14,CH14,CK14,CN14,CQ14,CT14,CW14,CZ14,DC14,DF14,DI14,DL14,DO14) -> 0 | L14: =SUM(O14,R14,U14,X14,AA14,AD14,AG14,AJ14,AM14,AP14,AS14,AV14,AY14,BB14,BE14,BH14,BK14,BN14,BQ14,BT14,BW14,BZ14,CC14,CF14,CI14,CL14,CO14,CR14,CU14,CX14,DA14,DD14,DG14,DJ14,DM14,DP14) -> 0 | M14: =SUM(P14,S14,V14,Y14,AB14,AE14,AH14,AK14,AN14,AQ14,AT14,AW14,AZ14,BC14,BF14,BI14,BL14,BO14,BR14,BU14,BX14,CA14,CD14,CG14,CJ14,CM14,CP14,CS14,CV14,CY14,DB14,DE14,DH14,DK14,DN14,DQ14) -> 0 | P14: =N14-O14 -> 0 | S14: =Q14-R14 -> 0 | V14: =T14-U14 -> 0 | Y14: =W14-X14 -> 0 | AB14: =Z14-AA14 -> 0 | AE14: =AC14-AD14 -> 0 | AH14: =AF14-AG14 -> 0 | AK14: =AI14-AJ14 -> 0 | AN14: =AL14-AM14 -> 0 | AQ14: =AO14-AP14 -> 0 | AT14: =AR14-AS14 -> 0 | AW14: =AU14-AV14 -> 0 | AZ14: =AX14-AY14 -> 0 | BC14: =BA14-BB14 -> 0 | BF14: =BD14-BE14 -> 0 | BI14: =BG14-BH14 -> 0 | BL14: =BJ14-BK14 -> 0 | BO14: =BM14-BN14 -> 0 | BR14: =BP14-BQ14 -> 0 | BU14: =BS14-BT14 -> 0 | BX14: =BV14-BW14 -> 0 | CA14: =BY14-BZ14 -> 0 | CD14: =CB14-CC14 -> 0 | CG14: =CE14-CF14 -> 0 | CJ14: =CH14-CI14 -> 0 | CM14: =CK14-CL14 -> 0 | CP14: =CN14-CO14 -> 0 | CS14: =CQ14-CR14 -> 0 | CV14: =CT14-CU14 -> 0 | CY14: =CW14-CX14 -> 0 | DB14: =CZ14-DA14 -> 0 | DE14: =DC14-DD14 -> 0 | DH14: =DF14-DG14 -> 0 | DK14: =DI14-DJ14 -> 0 | DN14: =DL14-DM14 -> 0 | DQ14: =DO14-DP14 -> 0
B15: 間接経費率 | D15: （上限額）／判定 | E15: 契約時の間接経費率を百分率（％）で入力して下さい→ | H15: ='①報告様式１別紙イ（年度末分） '!H15 -> 0 | I15: =MIN(H14,ROUNDDOWN(I13*H15,0)) -> 0 | J15: =IF(I14>I15,"ERR","") | K15: 契約時の間接経費率を百分率（％）で入力して下さい→ | N15: ='①報告様式１別紙イ（年度末分） '!N15 -> 0 | O15: =MIN(N14,ROUNDDOWN(O13*N15,0)) -> 0 | P15: =IF(O14>O15,"ERR","") | Q15: ='①報告様式１別紙イ（年度末分） '!Q15 -> 0 | R15: =MIN(Q14,ROUNDDOWN(R13*Q15,0)) -> 0 | S15: =IF(R14>R15,"ERR","") | T15: ='①報告様式１別紙イ（年度末分） '!T15 -> 0 | U15: =MIN(T14,ROUNDDOWN(U13*T15,0)) -> 0 | V15: =IF(U14>U15,"ERR","") | W15: ='①報告様式１別紙イ（年度末分） '!W15 -> 0 | X15: =MIN(W14,ROUNDDOWN(X13*W15,0)) -> 0 | Y15: =IF(X14>X15,"ERR","") | AA15: =MIN(Z14,ROUNDDOWN(AA13*Z15,0)) -> 0 | AB15: =IF(AA14>AA15,"ERR","") | AD15: =MIN(AC14,ROUNDDOWN(AD13*AC15,0)) -> 0 | AE15: =IF(AD14>AD15,"ERR","") | AG15: =MIN(AF14,ROUNDDOWN(AG13*AF15,0)) -> 0 | AH15: =IF(AG14>AG15,"ERR","") | AJ15: =MIN(AI14,ROUNDDOWN(AJ13*AI15,0)) -> 0 | AK15: =IF(AJ14>AJ15,"ERR","") | AM15: =MIN(AL14,ROUNDDOWN(AM13*AL15,0)) -> 0 | AN15: =IF(AM14>AM15,"ERR","") | AP15: =MIN(AO14,ROUNDDOWN(AP13*AO15,0)) -> 0 | AQ15: =IF(AP14>AP15,"ERR","") | AS15: =MIN(AR14,ROUNDDOWN(AS13*AR15,0)) -> 0 | AT15: =IF(AS14>AS15,"ERR","") | AV15: =MIN(AU14,ROUNDDOWN(AV13*AU15,0)) -> 0 | AW15: =IF(AV14>AV15,"ERR","") | AY15: =MIN(AX14,ROUNDDOWN(AY13*AX15,0)) -> 0 | AZ15: =IF(AY14>AY15,"ERR","") | BB15: =MIN(BA14,ROUNDDOWN(BB13*BA15,0)) -> 0 | BC15: =IF(BB14>BB15,"ERR","") | BE15: =MIN(BD14,ROUNDDOWN(BE13*BD15,0)) -> 0 | BF15: =IF(BE14>BE15,"ERR","") | BH15: =MIN(BG14,ROUNDDOWN(BH13*BG15,0)) -> 0 | BI15: =IF(BH14>BH15,"ERR","") | BK15: =MIN(BJ14,ROUNDDOWN(BK13*BJ15,0)) -> 0 | BL15: =IF(BK14>BK15,"ERR","") | BN15: =MIN(BM14,ROUNDDOWN(BN13*BM15,0)) -> 0 | BO15: =IF(BN14>BN15,"ERR","") | BQ15: =MIN(BP14,ROUNDDOWN(BQ13*BP15,0)) -> 0 | BR15: =IF(BQ14>BQ15,"ERR","") | BT15: =MIN(BS14,ROUNDDOWN(BT13*BS15,0)) -> 0 | BU15: =IF(BT14>BT15,"ERR","") | BW15: =MIN(BV14,ROUNDDOWN(BW13*BV15,0)) -> 0 | BX15: =IF(BW14>BW15,"ERR","") | BZ15: =MIN(BY14,ROUNDDOWN(BZ13*BY15,0)) -> 0 | CA15: =IF(BZ14>BZ15,"ERR","") | CC15: =MIN(CB14,ROUNDDOWN(CC13*CB15,0)) -> 0 | CD15: =IF(CC14>CC15,"ERR","") | CF15: =MIN(CE14,ROUNDDOWN(CF13*CE15,0)) -> 0 | CG15: =IF(CF14>CF15,"ERR","") | CI15: =MIN(CH14,ROUNDDOWN(CI13*CH15,0)) -> 0 | CJ15: =IF(CI14>CI15,"ERR","") | CL15: =MIN(CK14,ROUNDDOWN(CL13*CK15,0)) -> 0 | CM15: =IF(CL14>CL15,"ERR","") | CO15: =MIN(CN14,ROUNDDOWN(CO13*CN15,0)) -> 0 | CP15: =IF(CO14>CO15,"ERR","") | CR15: =MIN(CQ14,ROUNDDOWN(CR13*CQ15,0)) -> 0 | CS15: =IF(CR14>CR15,"ERR","") | CU15: =MIN(CT14,ROUNDDOWN(CU13*CT15,0)) -> 0 | CV15: =IF(CU14>CU15,"ERR","") | CX15: =MIN(CW14,ROUNDDOWN(CX13*CW15,0)) -> 0 | CY15: =IF(CX14>CX15,"ERR","") | DA15: =MIN(CZ14,ROUNDDOWN(DA13*CZ15,0)) -> 0 | DB15: =IF(DA14>DA15,"ERR","") | DD15: =MIN(DC14,ROUNDDOWN(DD13*DC15,0)) -> 0 | DE15: =IF(DD14>DD15,"ERR","") | DG15: =MIN(DF14,ROUNDDOWN(DG13*DF15,0)) -> 0 | DH15: =IF(DG14>DG15,"ERR","") | DJ15: =MIN(DI14,ROUNDDOWN(DJ13*DI15,0)) -> 0 | DK15: =IF(DJ14>DJ15,"ERR","") | DM15: =MIN(DL14,ROUNDDOWN(DM13*DL15,0)) -> 0 | DN15: =IF(DM14>DM15,"ERR","") | DP15: =MIN(DO14,ROUNDDOWN(DP13*DO15,0)) -> 0 | DQ15: =IF(DP14>DP15,"ERR","")
