Workbook
Name _Hlk67429157: 経理様式１別添!$C$112
Name _Ref23262088: 経理様式１別添!$C$93
Name _Ref23262171: 経理様式１別添!$C$101
Name _Ref23262182: 経理様式１別添!$C$110
Name _Ref23262197: 経理様式１別添!$C$119

Sheet 基本情報シート
B2: 【基本情報の入力用シート】 | E2: 〔提出は不要〕
B4: 該当年度 | C4: 令和 | D4: 5
B6: 契約者情報 | C6: 機関名 | D6: 国立大学法人 ○○大学
C7: 所 属 | D7: 大学院
C8: 役 職 | D8: 医学研究院長
C9: 氏 名 | D9: 国際 太郎
B11: 課題情報 | C11: 契約番号 | D11: （例）SIP2023A1
C12: SIP課題 | D12: 統合型ヘルスケアシステムの構築
C13: 研究開発テーマ | D13: （例）サブ課題A 研究開発支援・知識発見ソリューションの開発
C14: 研究開発題目 | D14: （例）A-1 臨床情報プラットフォーム構築による知識発見 拠点形成
B16: 研究開発者情報 | C16: 機関名 | D16: 国立大学法人 ○○大学
C17: 所 属 | D17: 研究開発室
C18: 役 職 | D18: 室長
C19: 氏 名 | D19: 戸山 次郎
B21: 実施期間 | C21: 開始日 | D21: 45017
C22: 終了日 | D22: 45382
D23: ＊年度の契約に基づき、本委託研究開発を行った期間又は中止までの期間
B28: ※更新情報：2024/12/19計算式の不具合を修正

Sheet 報告様式１
C3: （報告様式１）
I4: 【文書番号・決裁番号】
J5: 45443 | M5: ←入力＊西暦(例：2024/5/31)で入力すれば令和に変換して表示
H6: 契約番号： | J6: =基本情報シート!$D$11 -> （例）SIP2023A1
A8: 自動→ | E8: =基本情報シート!$D$4 -> 5 | G8: 委託研究実績報告書 | M8: ←タイトルをプルダウンで選択
C10: 国立健康危機管理研究機構
C11: 契約担当役 殿
G13: (契約者)
H14: 機関名： | I14: =基本情報シート!$D$6 -> 国立大学法人 ○○大学 | M14: ←自動
H15: 所 属： | I15: =基本情報シート!$D$7 -> 大学院 | M15: ←自動
H16: 役 職： | I16: =基本情報シート!D8 -> 医学研究院長 | M16: ←自動
H17: 氏 名： | I17: =基本情報シート!D9 -> 国際 太郎 | M17: ←自動
K18: (公印省略可）
A20: 自動→ | C20: SIP課題 | E20: =IF(基本情報シート!$D$12="","",基本情報シート!$D$12) -> 統合型ヘルスケアシステムの構築
A21: 自動→ | C21: 研究開発テーマ | E21: =IF(COUNTA(基本情報シート!$D$13)>0,基本情報シート!$D$13," ") -> （例）サブ課題A 研究開発支援・知識発見ソリューションの開発
A22: 自動→ | C22: 研究開発題目 | E22: =IF(基本情報シート!$D$14="","",基本情報シート!$D$14) -> （例）A-1 臨床情報プラットフォーム構築による知識発見 拠点形成
A24: 自動→ | C24: 研究開発担当者＊ | D24: 機関名 | E24: =基本情報シート!$D$16 -> 国立大学法人 ○○大学
A25: 自動→ | D25: 所 属 | E25: =基本情報シート!$D$17 -> 研究開発室
A26: 自動→ | D26: 役 職 | E26: =基本情報シート!$D$18 -> 室長
A27: 自動→ | D27: 氏 名 | E27: =基本情報シート!$D$19 -> 戸山 次郎
C28: ＊委託研究開発契約書に定義
C30: 上記研究開発について、委託研究開発契約書第２６条の規定に基づき下記の書類を添えて報告します。
C33: 記
D34: １．研究開発成果報告書（別添：委託研究開発成果報告書参照）※
D35: ２．収支決算報告書（別紙イ）（別途、電子媒体でも提出）
D37: ※成果報告書の様式は経理様式01_Aをご利用ください。

Sheet ①報告様式１別紙イ（年度末分） 
B1: （ 報告様式1別紙イ ） | E1: 年度末分
B2: 収支決算報告書
I3: 研究者番号 | J3: 研究機関番号 | O3: 研究者番号 | P3: 研究機関番号 | R3: 研究者番号 | S3: 研究機関番号 | U3: 研究者番号 | V3: 研究機関番号 | X3: 研究者番号 | Y3: 研究機関番号 | AA3: 研究者番号 | AB3: 研究機関番号 | AD3: 研究者番号 | AE3: 研究機関番号 | AG3: 研究者番号 | AH3: 研究機関番号 | AJ3: 研究者番号 | AK3: 研究機関番号 | AM3: 研究者番号 | AN3: 研究機関番号 | AP3: 研究者番号 | AQ3: 研究機関番号 | AS3: 研究者番号 | AT3: 研究機関番号 | AV3: 研究者番号 | AW3: 研究機関番号 | AY3: 研究者番号 | AZ3: 研究機関番号 | BB3: 研究者番号 | BC3: 研究機関番号 | BE3: 研究者番号 | BF3: 研究機関番号 | BH3: 研究者番号 | BI3: 研究機関番号 | BK3: 研究者番号 | BL3: 研究機関番号 | BN3: 研究者番号 | BO3: 研究機関番号 | BQ3: 研究者番号 | BR3: 研究機関番号 | BT3: 研究者番号 | BU3: 研究機関番号 | BW3: 研究者番号 | BX3: 研究機関番号 | BZ3: 研究者番号 | CA3: 研究機関番号 | CC3: 研究者番号 | CD3: 研究機関番号 | CF3: 研究者番号 | CG3: 研究機関番号 | CI3: 研究者番号 | CJ3: 研究機関番号 | CL3: 研究者番号 | CM3: 研究機関番号 | CO3: 研究者番号 | CP3: 研究機関番号 | CR3: 研究者番号 | CS3: 研究機関番号 | CU3: 研究者番号 | CV3: 研究機関番号 | CX3: 研究者番号 | CY3: 研究機関番号 | DA3: 研究者番号 | DB3: 研究機関番号 | DD3: 研究者番号 | DE3: 研究機関番号 | DG3: 研究者番号 | DH3: 研究機関番号 | DJ3: 研究者番号 | DK3: 研究機関番号 | DM3: 研究者番号 | DN3: 研究機関番号 | DP3: 研究者番号 | DQ3: 研究機関番号
B4: 契約番号 | D4: =基本情報シート!D11 -> （例）SIP2023A1 | E4: 課題ID（e-Rad） | M4: （単位：円）
B5: 委託種別 | E5: 総額 | H5: 直接契約分（研究開発代表機関） | K5: 再委託費合計 | N5: 再委託1 | Q5: 再委託2 | T5: 再委託3 | W5: 再委託4 | Z5: 再委託5 | AC5: 再委託6 | AF5: 再委託7 | AI5: 再委託8 | AL5: 再委託9 | AO5: 再委託10 | AR5: 再委託11 | AU5: 再委託12 | AX5: 再委託13 | BA5: 再委託14 | BD5: 再委託15 | BG5: 再委託16 | BJ5: 再委託17 | BM5: 再委託18 | BP5: 再委託19 | BS5: 再委託20 | BV5: 再委託21 | BY5: 再委託22 | CB5: 再委託23 | CE5: 再委託24 | CH5: 再委託25 | CK5: 再委託26 | CN5: 再委託27 | CQ5: 再委託28 | CT5: 再委託29 | CW5: 再委託30 | CZ5: 再委託31 | DC5: 再委託32 | DF5: 再委託33 | DI5: 再委託34 | DL5: 再委託35 | DO5: 再委託36
B6: 機関名
E7: 契約額 | F7: 支出額 | G7: 差引額 | H7: 契約額 | I7: 支出額 | J7: 差額 | K7: 契約額 | L7: 支出額 | M7: 差額 | N7: 契約額 | O7: 支出額 | P7: 差額 | Q7: 契約額 | R7: 支出額 | S7: 差額 | T7: 契約額 | U7: 支出額 | V7: 差額 | W7: 契約額 | X7: 支出額 | Y7: 差額 | Z7: 契約額 | AA7: 支出額 | AB7: 差額 | AC7: 契約額 | AD7: 支出額 | AE7: 差額 | AF7: 契約額 | AG7: 支出額 | AH7: 差額 | AI7: 契約額 | AJ7: 支出額 | AK7: 差額 | AL7: 契約額 | AM7: 支出額 | AN7: 差額 | AO7: 契約額 | AP7: 支出額 | AQ7: 差額 | AR7: 契約額 | AS7: 支出額 | AT7: 差額 | AU7: 契約額 | AV7: 支出額 | AW7: 差額 | AX7: 契約額 | AY7: 支出額 | AZ7: 差額 | BA7: 契約額 | BB7: 支出額 | BC7: 差額 | BD7: 契約額 | BE7: 支出額 | BF7: 差額 | BG7: 契約額 | BH7: 支出額 | BI7: 差額 | BJ7: 契約額 | BK7: 支出額 | BL7: 差額 | BM7: 契約額 | BN7: 支出額 | BO7: 差額 | BP7: 契約額 | BQ7: 支出額 | BR7: 差額 | BS7: 契約額 | BT7: 支出額 | BU7: 差額 | BV7: 契約額 | BW7: 支出額 | BX7: 差額 | BY7: 契約額 | BZ7: 支出額 | CA7: 差額 | CB7: 契約額 | CC7: 支出額 | CD7: 差額 | CE7: 契約額 | CF7: 支出額 | CG7: 差額 | CH7: 契約額 | CI7: 支出額 | CJ7: 差額 | CK7: 契約額 | CL7: 支出額 | CM7: 差額 | CN7: 契約額 | CO7: 支出額 | CP7: 差額 | CQ7: 契約額 | CR7: 支出額 | CS7: 差額 | CT7: 契約額 | CU7: 支出額 | CV7: 差額 | CW7: 契約額 | CX7: 支出額 | CY7: 差額 | CZ7: 契約額 | DA7: 支出額 | DB7: 差額 | DC7: 契約額 | DD7: 支出額 | DE7: 差額 | DF7: 契約額 | DG7: 支出額 | DH7: 差額 | DI7: 契約額 | DJ7: 支出額 | DK7: 差額 | DL7: 契約額 | DM7: 支出額 | DN7: 差額 | DO7: 契約額 | DP7: 支出額 | DQ7: 差額
B8: 総額（A＋B） | E8: =SUM(H8,K8) -> 0 | F8: =SUM(I8,L8) -> 0 | G8: =SUM(J8,M8) -> 0 | H8: =SUM(H13,H14) -> 0 | I8: =SUM(I13,I14) -> 0 | J8: =H8-I8 -> 0 | K8: =SUM(N8,Q8,T8,W8,Z8,AC8,AF8,AI8,AL8,AO8,AR8,AU8,AX8,BA8,BD8,BG8,BJ8,BM8,BP8,BS8,BV8,BY8,CB8,CE8,CH8,CK8,CN8,CQ8,CT8,CW8,CZ8,DC8,DF8,DI8,DL8,DO8) -> 0 | L8: =SUM(O8,R8,U8,X8,AA8,AD8,AG8,AJ8,AM8,AP8,AS8,AV8,AY8,BB8,BE8,BH8,BK8,BN8,BQ8,BT8,BW8,BZ8,CC8,CF8,CI8,CL8,CO8,CR8,CU8,CX8,DA8,DD8,DG8,DJ8,DM8,DP8) -> 0 | M8: =SUM(P8,S8,V8,Y8,AB8,AE8,AH8,AK8,AN8,AQ8,AT8,AW8,AZ8,BC8,BF8,BI8,BL8,BO8,BR8,BU8,BX8,CA8,CD8,CG8,CJ8,CM8,CP8,CS8,CV8,CY8,DB8,DE8,DH8,DK8,DN8,DQ8) -> 0 | N8: =SUM(N13,N14) -> 0 | O8: =SUM(O13,O14) -> 0 | P8: =N8-O8 -> 0 | Q8: =SUM(Q13,Q14) -> 0 | R8: =SUM(R13,R14) -> 0 | S8: =Q8-R8 -> 0 | T8: =SUM(T13,T14) -> 0 | U8: =SUM(U13,U14) -> 0 | V8: =T8-U8 -> 0 | W8: =SUM(W13,W14) -> 0 | X8: =SUM(X13,X14) -> 0 | Y8: =W8-X8 -> 0 | Z8: =SUM(Z13,Z14) -> 0 | AA8: =SUM(AA13,AA14) -> 0 | AB8: =Z8-AA8 -> 0 | AC8: =SUM(AC13,AC14) -> 0 | AD8: =SUM(AD13,AD14) -> 0 | AE8: =AC8-AD8 -> 0 | AF8: =SUM(AF13,AF14) -> 0 | AG8: =SUM(AG13,AG14) -> 0 | AH8: =AF8-AG8 -> 0 | AI8: =SUM(AI13,AI14) -> 0 | AJ8: =SUM(AJ13,AJ14) -> 0 | AK8: =AI8-AJ8 -> 0 | AL8: =SUM(AL13,AL14) -> 0 | AM8: =SUM(AM13,AM14) -> 0 | AN8: =AL8-AM8 -> 0 | AO8: =SUM(AO13,AO14) -> 0 | AP8: =SUM(AP13,AP14) -> 0 | AQ8: =AO8-AP8 -> 0 | AR8: =SUM(AR13,AR14) -> 0 | AS8: =SUM(AS13,AS14) -> 0 | AT8: =AR8-AS8 -> 0 | AU8: =SUM(AU13,AU14) -> 0 | AV8: =SUM(AV13,AV14) -> 0 | AW8: =AU8-AV8 -> 0 | AX8: =SUM(AX13,AX14) -> 0 | AY8: =SUM(AY13,AY14) -> 0 | AZ8: =AX8-AY8 -> 0 | BA8: =SUM(BA13,BA14) -> 0 | BB8: =SUM(BB13,BB14) -> 0 | BC8: =BA8-BB8 -> 0 | BD8: =SUM(BD13,BD14) -> 0 | BE8: =SUM(BE13,BE14) -> 0 | BF8: =BD8-BE8 -> 0 | BG8: =SUM(BG13,BG14) -> 0 | BH8: =SUM(BH13,BH14) -> 0 | BI8: =BG8-BH8 -> 0 | BJ8: =SUM(BJ13,BJ14) -> 0 | BK8: =SUM(BK13,BK14) -> 0 | BL8: =BJ8-BK8 -> 0 | BM8: =SUM(BM13,BM14) -> 0 | BN8: =SUM(BN13,BN14) -> 0 | BO8: =BM8-BN8 -> 0 | BP8: =SUM(BP13,BP14) -> 0 | BQ8: =SUM(BQ13,BQ14) -> 0 | BR8: =BP8-BQ8 -> 0 | BS8: =SUM(BS13,BS14) -> 0 | BT8: =SUM(BT13,BT14) -> 0 | BU8: =BS8-BT8 -> 0 | BV8: =SUM(BV13,BV14) -> 0 | BW8: =SUM(BW13,BW14) -> 0 | BX8: =BV8-BW8 -> 0 | BY8: =SUM(BY13,BY14) -> 0 | BZ8: =SUM(BZ13,BZ14) -> 0 | CA8: =BY8-BZ8 -> 0 | CB8: =SUM(CB13,CB14) -> 0 | CC8: =SUM(CC13,CC14) -> 0 | CD8: =CB8-CC8 -> 0 | CE8: =SUM(CE13,CE14) -> 0 | CF8: =SUM(CF13,CF14) -> 0 | CG8: =CE8-CF8 -> 0 | CH8: =SUM(CH13,CH14) -> 0 | CI8: =SUM(CI13,CI14) -> 0 | CJ8: =CH8-CI8 -> 0 | CK8: =SUM(CK13,CK14) -> 0 | CL8: =SUM(CL13,CL14) -> 0 | CM8: =CK8-CL8 -> 0 | CN8: =SUM(CN13,CN14) -> 0 | CO8: =SUM(CO13,CO14) -> 0 | CP8: =CN8-CO8 -> 0 | CQ8: =SUM(CQ13,CQ14) -> 0 | CR8: =SUM(CR13,CR14) -> 0 | CS8: =CQ8-CR8 -> 0 | CT8: =SUM(CT13,CT14) -> 0 | CU8: =SUM(CU13,CU14) -> 0 | CV8: =CT8-CU8 -> 0 | CW8: =SUM(CW13,CW14) -> 0 | CX8: =SUM(CX13,CX14) -> 0 | CY8: =CW8-CX8 -> 0 | CZ8: =SUM(CZ13,CZ14) -> 0 | DA8: =SUM(DA13,DA14) -> 0 | DB8: =CZ8-DA8 -> 0 | DC8: =SUM(DC13,DC14) -> 0 | DD8: =SUM(DD13,DD14) -> 0 | DE8: =DC8-DD8 -> 0 | DF8: =SUM(DF13,DF14) -> 0 | DG8: =SUM(DG13,DG14) -> 0 | DH8: =DF8-DG8 -> 0 | DI8: =SUM(DI13,DI14) -> 0 | DJ8: =SUM(DJ13,DJ14) -> 0 | DK8: =DI8-DJ8 -> 0 | DL8: =SUM(DL13,DL14) -> 0 | DM8: =SUM(DM13,DM14) -> 0 | DN8: =DL8-DM8 -> 0 | DO8: =SUM(DO13,DO14) -> 0 | DP8: =SUM(DP13,DP14) -> 0 | DQ8: =DO8-DP8 -> 0
B9: 直接経費（A） | C9: 物品費 | E9: =SUM(H9,K9) -> 0 | F9: =SUM(I9,L9) -> 0 | G9: =SUM(J9,M9) -> 0 | J9: =H9-I9 -> 0 | K9: =SUM(N9,Q9,T9,W9,Z9,AC9,AF9,AI9,AL9,AO9,AR9,AU9,AX9,BA9,BD9,BG9,BJ9,BM9,BP9,BS9,BV9,BY9,CB9,CE9,CH9,CK9,CN9,CQ9,CT9,CW9,CZ9,DC9,DF9,DI9,DL9,DO9) -> 0 | L9: =SUM(O9,R9,U9,X9,AA9,AD9,AG9,AJ9,AM9,AP9,AS9,AV9,AY9,BB9,BE9,BH9,BK9,BN9,BQ9,BT9,BW9,BZ9,CC9,CF9,CI9,CL9,CO9,CR9,CU9,CX9,DA9,DD9,DG9,DJ9,DM9,DP9) -> 0 | M9: =SUM(P9,S9,V9,Y9,AB9,AE9,AH9,AK9,AN9,AQ9,AT9,AW9,AZ9,BC9,BF9,BI9,BL9,BO9,BR9,BU9,BX9,CA9,CD9,CG9,CJ9,CM9,CP9,CS9,CV9,CY9,DB9,DE9,DH9,DK9,DN9,DQ9) -> 0 | P9: =N9-O9 -> 0 | S9: =Q9-R9 -> 0 | V9: =T9-U9 -> 0 | Y9: =W9-X9 -> 0 | AB9: =Z9-AA9 -> 0 | AE9: =AC9-AD9 -> 0 | AH9: =AF9-AG9 -> 0 | AK9: =AI9-AJ9 -> 0 | AN9: =AL9-AM9 -> 0 | AQ9: =AO9-AP9 -> 0 | AT9: =AR9-AS9 -> 0 | AW9: =AU9-AV9 -> 0 | AZ9: =AX9-AY9 -> 0 | BC9: =BA9-BB9 -> 0 | BF9: =BD9-BE9 -> 0 | BI9: =BG9-BH9 -> 0 | BL9: =BJ9-BK9 -> 0 | BO9: =BM9-BN9 -> 0 | BR9: =BP9-BQ9 -> 0 | BU9: =BS9-BT9 -> 0 | BX9: =BV9-BW9 -> 0 | CA9: =BY9-BZ9 -> 0 | CD9: =CB9-CC9 -> 0 | CG9: =CE9-CF9 -> 0 | CJ9: =CH9-CI9 -> 0 | CM9: =CK9-CL9 -> 0 | CP9: =CN9-CO9 -> 0 | CS9: =CQ9-CR9 -> 0 | CV9: =CT9-CU9 -> 0 | CY9: =CW9-CX9 -> 0 | DB9: =CZ9-DA9 -> 0 | DE9: =DC9-DD9 -> 0 | DH9: =DF9-DG9 -> 0 | DK9: =DI9-DJ9 -> 0 | DN9: =DL9-DM9 -> 0 | DQ9: =DO9-DP9 -> 0
C10: 旅費 | E10: =SUM(H10,K10) -> 0 | F10: =SUM(I10,L10) -> 0 | G10: =SUM(J10,M10) -> 0 | J10: =H10-I10 -> 0 | K10: =SUM(N10,Q10,T10,W10,Z10,AC10,AF10,AI10,AL10,AO10,AR10,AU10,AX10,BA10,BD10,BG10,BJ10,BM10,BP10,BS10,BV10,BY10,CB10,CE10,CH10,CK10,CN10,CQ10,CT10,CW10,CZ10,DC10,DF10,DI10,DL10,DO10) -> 0 | L10: =SUM(O10,R10,U10,X10,AA10,AD10,AG10,AJ10,AM10,AP10,AS10,AV10,AY10,BB10,BE10,BH10,BK10,BN10,BQ10,BT10,BW10,BZ10,CC10,CF10,CI10,CL10,CO10,CR10,CU10,CX10,DA10,DD10,DG10,DJ10,DM10,DP10) -> 0 | M10: =SUM(P10,S10,V10,Y10,AB10,AE10,AH10,AK10,AN10,AQ10,AT10,AW10,AZ10,BC10,BF10,BI10,BL10,BO10,BR10,BU10,BX10,CA10,CD10,CG10,CJ10,CM10,CP10,CS10,CV10,CY10,DB10,DE10,DH10,DK10,DN10,DQ10) -> 0 | P10: =N10-O10 -> 0 | S10: =Q10-R10 -> 0 | V10: =T10-U10 -> 0 | Y10: =W10-X10 -> 0 | AB10: =Z10-AA10 -> 0 | AE10: =AC10-AD10 -> 0 | AH10: =AF10-AG10 -> 0 | AK10: =AI10-AJ10 -> 0 | AN10: =AL10-AM10 -> 0 | AQ10: =AO10-AP10 -> 0 | AT10: =AR10-AS10 -> 0 | AW10: =AU10-AV10 -> 0 | AZ10: =AX10-AY10 -> 0 | BC10: =BA10-BB10 -> 0 | BF10: =BD10-BE10 -> 0 | BI10: =BG10-BH10 -> 0 | BL10: =BJ10-BK10 -> 0 | BO10: =BM10-BN10 -> 0 | BR10: =BP10-BQ10 -> 0 | BU10: =BS10-BT10 -> 0 | BX10: =BV10-BW10 -> 0 | CA10: =BY10-BZ10 -> 0 | CD10: =CB10-CC10 -> 0 | CG10: =CE10-CF10 -> 0 | CJ10: =CH10-CI10 -> 0 | CM10: =CK10-CL10 -> 0 | CP10: =CN10-CO10 -> 0 | CS10: =CQ10-CR10 -> 0 | CV10: =CT10-CU10 -> 0 | CY10: =CW10-CX10 -> 0 | DB10: =CZ10-DA10 -> 0 | DE10: =DC10-DD10 -> 0 | DH10: =DF10-DG10 -> 0 | DK10: =DI10-DJ10 -> 0 | DN10: =DL10-DM10 -> 0 | DQ10: =DO10-DP10 -> 0
C11: 人件費・謝金 | E11: =SUM(H11,K11) -> 0 | F11: =SUM(I11,L11) -> 0 | G11: =SUM(J11,M11) -> 0 | J11: =H11-I11 -> 0 | K11: =SUM(N11,Q11,T11,W11,Z11,AC11,AF11,AI11,AL11,AO11,AR11,AU11,AX11,BA11,BD11,BG11,BJ11,BM11,BP11,BS11,BV11,BY11,CB11,CE11,CH11,CK11,CN11,CQ11,CT11,CW11,CZ11,DC11,DF11,DI11,DL11,DO11) -> 0 | L11: =SUM(O11,R11,U11,X11,AA11,AD11,AG11,AJ11,AM11,AP11,AS11,AV11,AY11,BB11,BE11,BH11,BK11,BN11,BQ11,BT11,BW11,BZ11,CC11,CF11,CI11,CL11,CO11,CR11,CU11,CX11,DA11,DD11,DG11,DJ11,DM11,DP11) -> 0 | M11: =SUM(P11,S11,V11,Y11,AB11,AE11,AH11,AK11,AN11,AQ11,AT11,AW11,AZ11,BC11,BF11,BI11,BL11,BO11,BR11,BU11,BX11,CA11,CD11,CG11,CJ11,CM11,CP11,CS11,CV11,CY11,DB11,DE11,DH11,DK11,DN11,DQ11) -> 0 | P11: =N11-O11 -> 0 | S11: =Q11-R11 -> 0 | V11: =T11-U11 -> 0 | Y11: =W11-X11 -> 0 | AB11: =Z11-AA11 -> 0 | AE11: =AC11-AD11 -> 0 | AH11: =AF11-AG11 -> 0 | AK11: =AI11-AJ11 -> 0 | AN11: =AL11-AM11 -> 0 | AQ11: =AO11-AP11 -> 0 | AT11: =AR11-AS11 -> 0 | AW11: =AU11-AV11 -> 0 | AZ11: =AX11-AY11 -> 0 | BC11: =BA11-BB11 -> 0 | BF11: =BD11-BE11 -> 0 | BI11: =BG11-BH11 -> 0 | BL11: =BJ11-BK11 -> 0 | BO11: =BM11-BN11 -> 0 | BR11: =BP11-BQ11 -> 0 | BU11: =BS11-BT11 -> 0 | BX11: =BV11-BW11 -> 0 | CA11: =BY11-BZ11 -> 0 | CD11: =CB11-CC11 -> 0 | CG11: =CE11-CF11 -> 0 | CJ11: =CH11-CI11 -> 0 | CM11: =CK11-CL11 -> 0 | CP11: =CN11-CO11 -> 0 | CS11: =CQ11-CR11 -> 0 | CV11: =CT11-CU11 -> 0 | CY11: =CW11-CX11 -> 0 | DB11: =CZ11-DA11 -> 0 | DE11: =DC11-DD11 -> 0 | DH11: =DF11-DG11 -> 0 | DK11: =DI11-DJ11 -> 0 | DN11: =DL11-DM11 -> 0 | DQ11: =DO11-DP11 -> 0
C12: その他 | E12: =SUM(H12,K12) -> 0 | F12: =SUM(I12,L12) -> 0 | G12: =SUM(J12,M12) -> 0 | J12: =H12-I12 -> 0 | K12: =SUM(N12,Q12,T12,W12,Z12,AC12,AF12,AI12,AL12,AO12,AR12,AU12,AX12,BA12,BD12,BG12,BJ12,BM12,BP12,BS12,BV12,BY12,CB12,CE12,CH12,CK12,CN12,CQ12,CT12,CW12,CZ12,DC12,DF12,DI12,DL12,DO12) -> 0 | L12: =SUM(O12,R12,U12,X12,AA12,AD12,AG12,AJ12,AM12,AP12,AS12,AV12,AY12,BB12,BE12,BH12,BK12,BN12,BQ12,BT12,BW12,BZ12,CC12,CF12,CI12,CL12,CO12,CR12,CU12,CX12,DA12,DD12,DG12,DJ12,DM12,DP12) -> 0 | M12: =SUM(P12,S12,V12,Y12,AB12,AE12,AH12,AK12,AN12,AQ12,AT12,AW12,AZ12,BC12,BF12,BI12,BL12,BO12,BR12,BU12,BX12,CA12,CD12,CG12,CJ12,CM12,CP12,CS12,CV12,CY12,DB12,DE12,DH12,DK12,DN12,DQ12) -> 0 | P12: =N12-O12 -> 0 | S12: =Q12-R12 -> 0 | V12: =T12-U12 -> 0 | Y12: =W12-X12 -> 0 | AB12: =Z12-AA12 -> 0 | AE12: =AC12-AD12 -> 0 | AH12: =AF12-AG12 -> 0 | AK12: =AI12-AJ12 -> 0 | AN12: =AL12-AM12 -> 0 | AQ12: =AO12-AP12 -> 0 | AT12: =AR12-AS12 -> 0 | AW12: =AU12-AV12 -> 0 | AZ12: =AX12-AY12 -> 0 | BC12: =BA12-BB12 -> 0 | BF12: =BD12-BE12 -> 0 | BI12: =BG12-BH12 -> 0 | BL12: =BJ12-BK12 -> 0 | BO12: =BM12-BN12 -> 0 | BR12: =BP12-BQ12 -> 0 | BU12: =BS12-BT12 -> 0 | BX12: =BV12-BW12 -> 0 | CA12: =BY12-BZ12 -> 0 | CD12: =CB12-CC12 -> 0 | CG12: =CE12-CF12 -> 0 | CJ12: =CH12-CI12 -> 0 | CM12: =CK12-CL12 -> 0 | CP12: =CN12-CO12 -> 0 | CS12: =CQ12-CR12 -> 0 | CV12: =CT12-CU12 -> 0 | CY12: =CW12-CX12 -> 0 | DB12: =CZ12-DA12 -> 0 | DE12: =DC12-DD12 -> 0 | DH12: =DF12-DG12 -> 0 | DK12: =DI12-DJ12 -> 0 | DN12: =DL12-DM12 -> 0 | DQ12: =DO12-DP12 -> 0
C13: 直接経費合計 | E13: =SUM(H13,K13) -> 0 | F13: =SUM(I13,L13) -> 0 | G13: =SUM(J13,M13) -> 0 | H13: =SUM(H9:H12) -> 0 | I13: =SUM(I9:I12) -> 0 | J13: =H13-I13 -> 0 | K13: =SUM(N13,Q13,T13,W13,Z13,AC13,AF13,AI13,AL13,AO13,AR13,AU13,AX13,BA13,BD13,BG13,BJ13,BM13,BP13,BS13,BV13,BY13,CB13,CE13,CH13,CK13,CN13,CQ13,CT13,CW13,CZ13,DC13,DF13,DI13,DL13,DO13) -> 0 | L13: =SUM(O13,R13,U13,X13,AA13,AD13,AG13,AJ13,AM13,AP13,AS13,AV13,AY13,BB13,BE13,BH13,BK13,BN13,BQ13,BT13,BW13,BZ13,CC13,CF13,CI13,CL13,CO13,CR13,CU13,CX13,DA13,DD13,DG13,DJ13,DM13,DP13) -> 0 | M13: =SUM(P13,S13,V13,Y13,AB13,AE13,AH13,AK13,AN13,AQ13,AT13,AW13,AZ13,BC13,BF13,BI13,BL13,BO13,BR13,BU13,BX13,CA13,CD13,CG13,CJ13,CM13,CP13,CS13,CV13,CY13,DB13,DE13,DH13,DK13,DN13,DQ13) -> 0 | N13: =SUM(N9:N12) -> 0 | O13: =SUM(O9:O12) -> 0 | P13: =N13-O13 -> 0 | Q13: =SUM(Q9:Q12) -> 0 | R13: =SUM(R9:R12) -> 0 | S13: =Q13-R13 -> 0 | T13: =SUM(T9:T12) -> 0 | U13: =SUM(U9:U12) -> 0 | V13: =T13-U13 -> 0 | W13: =SUM(W9:W12) -> 0 | X13: =SUM(X9:X12) -> 0 | Y13: =W13-X13 -> 0 | Z13: =SUM(Z9:Z12) -> 0 | AA13: =SUM(AA9:AA12) -> 0 | AB13: =Z13-AA13 -> 0 | AC13: =SUM(AC9:AC12) -> 0 | AD13: =SUM(AD9:AD12) -> 0 | AE13: =AC13-AD13 -> 0 | AF13: =SUM(AF9:AF12) -> 0 | AG13: =SUM(AG9:AG12) -> 0 | AH13: =AF13-AG13 -> 0 | AI13: =SUM(AI9:AI12) -> 0 | AJ13: =SUM(AJ9:AJ12) -> 0 | AK13: =AI13-AJ13 -> 0 | AL13: =SUM(AL9:AL12) -> 0 | AM13: =SUM(AM9:AM12) -> 0 | AN13: =AL13-AM13 -> 0 | AO13: =SUM(AO9:AO12) -> 0 | AP13: =SUM(AP9:AP12) -> 0 | AQ13: =AO13-AP13 -> 0 | AR13: =SUM(AR9:AR12) -> 0 | AS13: =SUM(AS9:AS12) -> 0 | AT13: =AR13-AS13 -> 0 | AU13: =SUM(AU9:AU12) -> 0 | AV13: =SUM(AV9:AV12) -> 0 | AW13: =AU13-AV13 -> 0 | AX13: =SUM(AX9:AX12) -> 0 | AY13: =SUM(AY9:AY12) -> 0 | AZ13: =AX13-AY13 -> 0 | BA13: =SUM(BA9:BA12) -> 0 | BB13: =SUM(BB9:BB12) -> 0 | BC13: =BA13-BB13 -> 0 | BD13: =SUM(BD9:BD12) -> 0 | BE13: =SUM(BE9:BE12) -> 0 | BF13: =BD13-BE13 -> 0 | BG13: =SUM(BG9:BG12) -> 0 | BH13: =SUM(BH9:BH12) -> 0 | BI13: =BG13-BH13 -> 0 | BJ13: =SUM(BJ9:BJ12) -> 0 | BK13: =SUM(BK9:BK12) -> 0 | BL13: =BJ13-BK13 -> 0 | BM13: =SUM(BM9:BM12) -> 0 | BN13: =SUM(BN9:BN12) -> 0 | BO13: =BM13-BN13 -> 0 | BP13: =SUM(BP9:BP12) -> 0 | BQ13: =SUM(BQ9:BQ12) -> 0 | BR13: =BP13-BQ13 -> 0 | BS13: =SUM(BS9:BS12) -> 0 | BT13: =SUM(BT9:BT12) -> 0 | BU13: =BS13-BT13 -> 0 | BV13: =SUM(BV9:BV12) -> 0 | BW13: =SUM(BW9:BW12) -> 0 | BX13: =BV13-BW13 -> 0 | BY13: =SUM(BY9:BY12) -> 0 | BZ13: =SUM(BZ9:BZ12) -> 0 | CA13: =BY13-BZ13 -> 0 | CB13: =SUM(CB9:CB12) -> 0 | CC13: =SUM(CC9:CC12) -> 0 | CD13: =CB13-CC13 -> 0 | CE13: =SUM(CE9:CE12) -> 0 | CF13: =SUM(CF9:CF12) -> 0 | CG13: =CE13-CF13 -> 0 | CH13: =SUM(CH9:CH12) -> 0 | CI13: =SUM(CI9:CI12) -> 0 | CJ13: =CH13-CI13 -> 0 | CK13: =SUM(CK9:CK12) -> 0 | CL13: =SUM(CL9:CL12) -> 0 | CM13: =CK13-CL13 -> 0 | CN13: =SUM(CN9:CN12) -> 0 | CO13: =SUM(CO9:CO12) -> 0 | CP13: =CN13-CO13 -> 0 | CQ13: =SUM(CQ9:CQ12) -> 0 | CR13: =SUM(CR9:CR12) -> 0 | CS13: =CQ13-CR13 -> 0 | CT13: =SUM(CT9:CT12) -> 0 | CU13: =SUM(CU9:CU12) -> 0 | CV13: =CT13-CU13 -> 0 | CW13: =SUM(CW9:CW12) -> 0 | CX13: =SUM(CX9:CX12) -> 0 | CY13: =CW13-CX13 -> 0 | CZ13: =SUM(CZ9:CZ12) -> 0 | DA13: =SUM(DA9:DA12) -> 0 | DB13: =CZ13-DA13 -> 0 | DC13: =SUM(DC9:DC12) -> 0 | DD13: =SUM(DD9:DD12) -> 0 | DE13: =DC13-DD13 -> 0 | DF13: =SUM(DF9:DF12) -> 0 | DG13: =SUM(DG9:DG12) -> 0 | DH13: =DF13-DG13 -> 0 | DI13: =SUM(DI9:DI12) -> 0 | DJ13: =SUM(DJ9:DJ12) -> 0 | DK13: =DI13-DJ13 -> 0 | DL13: =SUM(DL9:DL12) -> 0 | DM13: =SUM(DM9:DM12) -> 0 | DN13: =DL13-DM13 -> 0 | DO13: =SUM(DO9:DO12) -> 0 | DP13: =SUM(DP9:DP12) -> 0 | DQ13: =DO13-DP13 -> 0
B14: 間接経費（B） | E14: =SUM(H14,K14) -> 0 | F14: =SUM(I14,L14) -> 0 | G14: =SUM(J14,M14) -> 0 | J14: =H14-I14 -> 0 | K14: =SUM(N14,Q14,T14,W14,Z14,AC14,AF14,AI14,AL14,AO14,AR14,AU14,AX14,BA14,BD14,BG14,BJ14,BM14,BP14,BS14,BV14,BY14,CB14,CE14,CH14,CK14,CN14,CQ14,CT14,CW14,CZ14,DC14,DF14,DI14,DL14,DO14) -> 0 | L14: =SUM(O14,R14,U14,X14,AA14,AD14,AG14,AJ14,AM14,AP14,AS14,AV14,AY14,BB14,BE14,BH14,BK14,BN14,BQ14,BT14,BW14,BZ14,CC14,CF14,CI14,CL14,CO14,CR14,CU14,CX14,DA14,DD14,DG14,DJ14,DM14,DP14) -> 0 | M14: =SUM(P14,S14,V14,Y14,AB14,AE14,AH14,AK14,AN14,AQ14,AT14,AW14,AZ14,BC14,BF14,BI14,BL14,BO14,BR14,BU14,BX14,CA14,CD14,CG14,CJ14,CM14,CP14,CS14,CV14,CY14,DB14,DE14,DH14,DK14,DN14,DQ14) -> 0 | P14: =N14-O14 -> 0 | S14: =Q14-R14 -> 0 | V14: =T14-U14 -> 0 | Y14: =W14-X14 -> 0 | AB14: =Z14-AA14 -> 0 | AE14: =AC14-AD14 -> 0 | AH14: =AF14-AG14 -> 0 | AK14: =AI14-AJ14 -> 0 | AN14: =AL14-AM14 -> 0 | AQ14: =AO14-AP14 -> 0 | AT14: =AR14-AS14 -> 0 | AW14: =AU14-AV14 -> 0 | AZ14: =AX14-AY14 -> 0 | BC14: =BA14-BB14 -> 0 | BF14: =BD14-BE14 -> 0 | BI14: =BG14-BH14 -> 0 | BL14: =BJ14-BK14 -> 0 | BO14: =BM14-BN14 -> 0 | BR14: =BP14-BQ14 -> 0 | BU14: =BS14-BT14 -> 0 | BX14: =BV14-BW14 -> 0 | CA14: =BY14-BZ14 -> 0 | CD14: =CB14-CC14 -> 0 | CG14: =CE14-CF14 -> 0 | CJ14: =CH14-CI14 -> 0 | CM14: =CK14-CL14 -> 0 | CP14: =CN14-CO14 -> 0 | CS14: =CQ14-CR14 -> 0 | CV14: =CT14-CU14 -> 0 | CY14: =CW14-CX14 -> 0 | DB14: =CZ14-DA14 -> 0 | DE14: =DC14-DD14 -> 0 | DH14: =DF14-DG14 -> 0 | DK14: =DI14-DJ14 -> 0 | DN14: =DL14-DM14 -> 0 | DQ14: =DO14-DP14 -> 0
B15: 間接経費率 | D15: （上限額）／判定 | E15: 契約時の間接経費率を百分率（％）で入力して下さい→ | I15: =MIN(H14,ROUNDDOWN((I13+H19)*H15,0)) -> 0 | J15: =IF((I14+H20)>I15,"ERR","") | K15: 契約時の間接経費率を百分率（％）で入力して下さい→ | O15: =MIN(N14,ROUNDDOWN((O13+N19)*N15,0)) -> 0 | P15: =IF((O14+N20)>O15,"ERR","") | R15: =MIN(Q14,ROUNDDOWN((R13+Q19)*Q15,0)) -> 0 | S15: =IF((R14+Q20)>R15,"ERR","") | U15: =MIN(T14,ROUNDDOWN((U13+T19)*T15,0)) -> 0 | V15: =IF((U14+T20)>U15,"ERR","") | X15: =MIN(W14,ROUNDDOWN((X13+W19)*W15,0)) -> 0 | Y15: =IF((X14+W20)>X15,"ERR","") | AA15: =MIN(Z14,ROUNDDOWN((AA13+Z19)*Z15,0)) -> 0 | AB15: =IF((AA14+Z20)>AA15,"ERR","") | AD15: =MIN(AC14,ROUNDDOWN((AD13+AC19)*AC15,0)) -> 0 | AE15: =IF((AD14+AC20)>AD15,"ERR","") | AG15: =MIN(AF14,ROUNDDOWN((AG13+AF19)*AF15,0)) -> 0 | AH15: =IF((AG14+AF20)>AG15,"ERR","") | AJ15: =MIN(AI14,ROUNDDOWN((AJ13+AI19)*AI15,0)) -> 0 | AK15: =IF((AJ14+AI20)>AJ15,"ERR","") | AM15: =MIN(AL14,ROUNDDOWN((AM13+AL19)*AL15,0)) -> 0 | AN15: =IF((AM14+AL20)>AM15,"ERR","") | AP15: =MIN(AO14,ROUNDDOWN((AP13+AO19)*AO15,0)) -> 0 | AQ15: =IF((AP14+AO20)>AP15,"ERR","") | AS15: =MIN(AR14,ROUNDDOWN((AS13+AR19)*AR15,0)) -> 0 | AT15: =IF((AS14+AR20)>AS15,"ERR","") | AV15: =MIN(AU14,ROUNDDOWN((AV13+AU19)*AU15,0)) -> 0 | AW15: =IF((AV14+AU20)>AV15,"ERR","") | AY15: =MIN(AX14,ROUNDDOWN((AY13+AX19)*AX15,0)) -> 0 | AZ15: =IF((AY14+AX20)>AY15,"ERR","") | BB15: =MIN(BA14,ROUNDDOWN((BB13+BA19)*BA15,0)) -> 0 | BC15: =IF((BB14+BA20)>BB15,"ERR","") | BE15: =MIN(BD14,ROUNDDOWN((BE13+BD19)*BD15,0)) -> 0 | BF15: =IF((BE14+BD20)>BE15,"ERR","") | BH15: =MIN(BG14,ROUNDDOWN((BH13+BG19)*BG15,0)) -> 0 | BI15: =IF((BH14+BG20)>BH15,"ERR","") | BK15: =MIN(BJ14,ROUNDDOWN((BK13+BJ19)*BJ15,0)) -> 0 | BL15: =IF((BK14+BJ20)>BK15,"ERR","") | BN15: =MIN(BM14,ROUNDDOWN((BN13+BM19)*BM15,0)) -> 0 | BO15: =IF((BN14+BM20)>BN15,"ERR","") | BQ15: =MIN(BP14,ROUNDDOWN((BQ13+BP19)*BP15,0)) -> 0 | BR15: =IF((BQ14+BP20)>BQ15,"ERR","") | BT15: =MIN(BS14,ROUNDDOWN((BT13+BS19)*BS15,0)) -> 0 | BU15: =IF((BT14+BS20)>BT15,"ERR","") | BW15: =MIN(BV14,ROUNDDOWN((BW13+BV19)*BV15,0)) -> 0 | BX15: =IF((BW14+BV20)>BW15,"ERR","") | BZ15: =MIN(BY14,ROUNDDOWN((BZ13+BY19)*BY15,0)) -> 0 | CA15: =IF((BZ14+BY20)>BZ15,"ERR","") | CC15: =MIN(CB14,ROUNDDOWN((CC13+CB19)*CB15,0)) -> 0 | CD15: =IF((CC14+CB20)>CC15,"ERR","") | CF15: =MIN(CE14,ROUNDDOWN((CF13+CE19)*CE15,0)) -> 0 | CG15: =IF((CF14+CE20)>CF15,"ERR","") | CI15: =MIN(CH14,ROUNDDOWN((CI13+CH19)*CH15,0)) -> 0 | CJ15: =IF((CI14+CH20)>CI15,"ERR","") | CL15: =MIN(CK14,ROUNDDOWN((CL13+CK19)*CK15,0)) -> 0 | CM15: =IF((CL14+CK20)>CL15,"ERR","") | CO15: =MIN(CN14,ROUNDDOWN((CO13+CN19)*CN15,0)) -> 0 | CP15: =IF((CO14+CN20)>CO15,"ERR","") | CR15: =MIN(CQ14,ROUNDDOWN((CR13+CQ19)*CQ15,0)) -> 0 | CS15: =IF((CR14+CQ20)>CR15,"ERR","") | CU15: =MIN(CT14,ROUNDDOWN((CU13+CT19)*CT15,0)) -> 0 | CV15: =IF((CU14+CT20)>CU15,"ERR","") | CX15: =MIN(CW14,ROUNDDOWN((CX13+CW19)*CW15,0)) -> 0 | CY15: =IF((CX14+CW20)>CX15,"ERR","") | DA15: =MIN(CZ14,ROUNDDOWN((DA13+CZ19)*CZ15,0)) -> 0 | DB15: =IF((DA14+CZ20)>DA15,"ERR","") | DD15: =MIN(DC14,ROUNDDOWN((DD13+DC19)*DC15,0)) -> 0 | DE15: =IF((DD14+DC20)>DD15,"ERR","") | DG15: =MIN(DF14,ROUNDDOWN((DG13+DF19)*DF15,0)) -> 0 | DH15: =IF((DG14+DF20)>DG15,"ERR","") | DJ15: =MIN(DI14,ROUNDDOWN((DJ13+DI19)*DI15,0)) -> 0 | DK15: =IF((DJ14+DI20)>DJ15,"ERR","") | DM15: =MIN(DL14,ROUNDDOWN((DM13+DL19)*DL15,0)) -> 0 | DN15: =IF((DM14+DL20)>DM15,"ERR","") | DP15: =MIN(DO14,ROUNDDOWN((DP13+DO19)*DO15,0)) -> 0 | DQ15: =IF((DP14+DO20)>DP15,"ERR","")
B16: 返還額 | G16: =SUM(J16,M16) -> 0 | J16: =IF(J13-H19>0,J13-H19,"0")+IF(J14-H20>0,J14-H20,"0")+J18 -> 0 | M16: =SUM(P16,S16,V16,Y16,AB16,AE16,AH16,AK16,AN16,AQ16,AT16,AW16,AZ16,BC16,BF16,BI16,BL16,BO16,BR16,BU16,BX16,CA16,CD16,CG16,CJ16,CM16,CP16,CS16,CV16,CY16,DB16,DE16,DH16,DK16,DN16,DQ16) -> 0 | P16: =IF(P13-N19>0,P13-N19,"0")+IF(P14-N20>0,P14-N20,"0")+P18 -> 0 | S16: =IF(S13-Q19>0,S13-Q19,"0")+IF(S14-Q20>0,S14-Q20,"0")+S18 -> 0 | V16: =IF(V13-T19>0,V13-T19,"0")+IF(V14-T20>0,V14-T20,"0")+V18 -> 0 | Y16: =IF(Y13-W19>0,Y13-W19,"0")+IF(Y14-W20>0,Y14-W20,"0")+Y18 -> 0 | AB16: =IF(AB13-Z19>0,AB13-Z19,"0")+IF(AB14-Z20>0,AB14-Z20,"0")+AB18 -> 0 | AE16: =IF(AE13-AC19>0,AE13-AC19,"0")+IF(AE14-AC20>0,AE14-AC20,"0")+AE18 -> 0 | AH16: =IF(AH13-AF19>0,AH13-AF19,"0")+IF(AH14-AF20>0,AH14-AF20,"0")+AH18 -> 0 | AK16: =IF(AK13-AI19>0,AK13-AI19,"0")+IF(AK14-AI20>0,AK14-AI20,"0")+AK18 -> 0 | AN16: =IF(AN13-AL19>0,AN13-AL19,"0")+IF(AN14-AL20>0,AN14-AL20,"0")+AN18 -> 0 | AQ16: =IF(AQ13-AO19>0,AQ13-AO19,"0")+IF(AQ14-AO20>0,AQ14-AO20,"0")+AQ18 -> 0 | AT16: =IF(AT13-AR19>0,AT13-AR19,"0")+IF(AT14-AR20>0,AT14-AR20,"0")+AT18 -> 0 | AW16: =IF(AW13-AU19>0,AW13-AU19,"0")+IF(AW14-AU20>0,AW14-AU20,"0")+AW18 -> 0 | AZ16: =IF(AZ13-AX19>0,AZ13-AX19,"0")+IF(AZ14-AX20>0,AZ14-AX20,"0")+AZ18 -> 0 | BC16: =IF(BC13-BA19>0,BC13-BA19,"0")+IF(BC14-BA20>0,BC14-BA20,"0")+BC18 -> 0 | BF16: =IF(BF13-BD19>0,BF13-BD19,"0")+IF(BF14-BD20>0,BF14-BD20,"0")+BF18 -> 0 | BI16: =IF(BI13-BG19>0,BI13-BG19,"0")+IF(BI14-BG20>0,BI14-BG20,"0")+BI18 -> 0 | BL16: =IF(BL13-BJ19>0,BL13-BJ19,"0")+IF(BL14-BJ20>0,BL14-BJ20,"0")+BL18 -> 0 | BO16: =IF(BO13-BM19>0,BO13-BM19,"0")+IF(BO14-BM20>0,BO14-BM20,"0")+BO18 -> 0 | BR16: =IF(BR13-BP19>0,BR13-BP19,"0")+IF(BR14-BP20>0,BR14-BP20,"0")+BR18 -> 0 | BU16: =IF(BU13-BS19>0,BU13-BS19,"0")+IF(BU14-BS20>0,BU14-BS20,"0")+BU18 -> 0 | BX16: =IF(BX13-BV19>0,BX13-BV19,"0")+IF(BX14-BV20>0,BX14-BV20,"0")+BX18 -> 0 | CA16: =IF(CA13-BY19>0,CA13-BY19,"0")+IF(CA14-BY20>0,CA14-BY20,"0")+CA18 -> 0 | CD16: =IF(CD13-CB19>0,CD13-CB19,"0")+IF(CD14-CB20>0,CD14-CB20,"0")+CD18 -> 0 | CG16: =IF(CG13-CE19>0,CG13-CE19,"0")+IF(CG14-CE20>0,CG14-CE20,"0")+CG18 -> 0 | CJ16: =IF(CJ13-CH19>0,CJ13-CH19,"0")+IF(CJ14-CH20>0,CJ14-CH20,"0")+CJ18 -> 0 | CM16: =IF(CM13-CK19>0,CM13-CK19,"0")+IF(CM14-CK20>0,CM14-CK20,"0")+CM18 -> 0 | CP16: =IF(CP13-CN19>0,CP13-CN19,"0")+IF(CP14-CN20>0,CP14-CN20,"0")+CP18 -> 0 | CS16: =IF(CS13-CQ19>0,CS13-CQ19,"0")+IF(CS14-CQ20>0,CS14-CQ20,"0")+CS18 -> 0 | CV16: =IF(CV13-CT19>0,CV13-CT19,"0")+IF(CV14-CT20>0,CV14-CT20,"0")+CV18 -> 0 | CY16: =IF(CY13-CW19>0,CY13-CW19,"0")+IF(CY14-CW20>0,CY14-CW20,"0")+CY18 -> 0 | DB16: =IF(DB13-CZ19>0,DB13-CZ19,"0")+IF(DB14-CZ20>0,DB14-CZ20,"0")+DB18 -> 0 | DE16: =IF(DE13-DC19>0,DE13-DC19,"0")+IF(DE14-DC20>0,DE14-DC20,"0")+DE18 -> 0 | DH16: =IF(DH13-DF19>0,DH13-DF19,"0")+IF(DH14-DF20>0,DH14-DF20,"0")+DH18 -> 0 | DK16: =IF(DK13-DI19>0,DK13-DI19,"0")+IF(DK14-DI20>0,DK14-DI20,"0")+DK18 -> 0 | DN16: =IF(DN13-DL19>0,DN13-DL19,"0")+IF(DN14-DL20>0,DN14-DL20,"0")+DN18 -> 0 | DQ16: =IF(DQ13-DO19>0,DQ13-DO19,"0")+IF(DQ14-DO20>0,DQ14-DO20,"0")+DQ18 -> 0
B17: 自己充当額 | G17: =SUM(J17,M17) -> 0 | J17: =IF(J13-H19<0,J13-H19,"0")+IF(J14-H20<0,J14-H20,"0") -> 0 | M17: =SUM(P17,S17,V17,Y17,AB17,AE17,AH17,AK17,AN17,AQ17,AT17,AW17,AZ17,BC17,BF17,BI17,BL17,BO17,BR17,BU17,BX17,CA17,CD17,CG17,CJ17,CM17,CP17,CS17,CV17,CY17,DB17,DE17,DH17,DK17,DN17,DQ17) -> 0 | P17: =IF(P13-N19<0,P13-N19,"0")+IF(P14-N20<0,P14-N20,"0") -> 0 | S17: =IF(S13-Q19<0,S13-Q19,"0")+IF(S14-Q20<0,S14-Q20,"0") -> 0 | V17: =IF(V13-T19<0,V13-T19,"0")+IF(V14-T20<0,V14-T20,"0") -> 0 | Y17: =IF(Y13-W19<0,Y13-W19,"0")+IF(Y14-W20<0,Y14-W20,"0") -> 0 | AB17: =IF(AB13-Z19<0,AB13-Z19,"0")+IF(AB14-Z20<0,AB14-Z20,"0") -> 0 | AE17: =IF(AE13-AC19<0,AE13-AC19,"0")+IF(AE14-AC20<0,AE14-AC20,"0") -> 0 | AH17: =IF(AH13-AF19<0,AH13-AF19,"0")+IF(AH14-AF20<0,AH14-AF20,"0") -> 0 | AK17: =IF(AK13-AI19<0,AK13-AI19,"0")+IF(AK14-AI20<0,AK14-AI20,"0") -> 0 | AN17: =IF(AN13-AL19<0,AN13-AL19,"0")+IF(AN14-AL20<0,AN14-AL20,"0") -> 0 | AQ17: =IF(AQ13-AO19<0,AQ13-AO19,"0")+IF(AQ14-AO20<0,AQ14-AO20,"0") -> 0 | AT17: =IF(AT13-AR19<0,AT13-AR19,"0")+IF(AT14-AR20<0,AT14-AR20,"0") -> 0 | AW17: =IF(AW13-AU19<0,AW13-AU19,"0")+IF(AW14-AU20<0,AW14-AU20,"0") -> 0 | AZ17: =IF(AZ13-AX19<0,AZ13-AX19,"0")+IF(AZ14-AX20<0,AZ14-AX20,"0") -> 0 | BC17: =IF(BC13-BA19<0,BC13-BA19,"0")+IF(BC14-BA20<0,BC14-BA20,"0") -> 0 | BF17: =IF(BF13-BD19<0,BF13-BD19,"0")+IF(BF14-BD20<0,BF14-BD20,"0") -> 0 | BI17: =IF(BI13-BG19<0,BI13-BG19,"0")+IF(BI14-BG20<0,BI14-BG20,"0") -> 0 | BL17: =IF(BL13-BJ19<0,BL13-BJ19,"0")+IF(BL14-BJ20<0,BL14-BJ20,"0") -> 0 | BO17: =IF(BO13-BM19<0,BO13-BM19,"0")+IF(BO14-BM20<0,BO14-BM20,"0") -> 0 | BR17: =IF(BR13-BP19<0,BR13-BP19,"0")+IF(BR14-BP20<0,BR14-BP20,"0") -> 0 | BU17: =IF(BU13-BS19<0,BU13-BS19,"0")+IF(BU14-BS20<0,BU14-BS20,"0") -> 0 | BX17: =IF(BX13-BV19<0,BX13-BV19,"0")+IF(BX14-BV20<0,BX14-BV20,"0") -> 0 | CA17: =IF(CA13-BY19<0,CA13-BY19,"0")+IF(CA14-BY20<0,CA14-BY20,"0") -> 0 | CD17: =IF(CD13-CB19<0,CD13-CB19,"0")+IF(CD14-CB20<0,CD14-CB20,"0") -> 0 | CG17: =IF(CG13-CE19<0,CG13-CE19,"0")+IF(CG14-CE20<0,CG14-CE20,"0") -> 0 | CJ17: =IF(CJ13-CH19<0,CJ13-CH19,"0")+IF(CJ14-CH20<0,CJ14-CH20,"0") -> 0 | CM17: =IF(CM13-CK19<0,CM13-CK19,"0")+IF(CM14-CK20<0,CM14-CK20,"0") -> 0 | CP17: =IF(CP13-CN19<0,CP13-CN19,"0")+IF(CP14-CN20<0,CP14-CN20,"0") -> 0 | CS17: =IF(CS13-CQ19<0,CS13-CQ19,"0")+IF(CS14-CQ20<0,CS14-CQ20,"0") -> 0 | CV17: =IF(CV13-CT19<0,CV13-CT19,"0")+IF(CV14-CT20<0,CV14-CT20,"0") -> 0 | CY17: =IF(CY13-CW19<0,CY13-CW19,"0")+IF(CY14-CW20<0,CY14-CW20,"0") -> 0 | DB17: =IF(DB13-CZ19<0,DB13-CZ19,"0")+IF(DB14-CZ20<0,DB14-CZ20,"0") -> 0 | DE17: =IF(DE13-DC19<0,DE13-DC19,"0")+IF(DE14-DC20<0,DE14-DC20,"0") -> 0 | DH17: =IF(DH13-DF19<0,DH13-DF19,"0")+IF(DH14-DF20<0,DH14-DF20,"0") -> 0 | DK17: =IF(DK13-DI19<0,DK13-DI19,"0")+IF(DK14-DI20<0,DK14-DI20,"0") -> 0 | DN17: =IF(DN13-DL19<0,DN13-DL19,"0")+IF(DN14-DL20<0,DN14-DL20,"0") -> 0 | DQ17: =IF(DQ13-DO19<0,DQ13-DO19,"0")+IF(DQ14-DO20<0,DQ14-DO20,"0") -> 0
B18: その他（収入） | G18: =J18+M18 -> 0 | M18: =SUM(P18,S18,V18,Y18,AB18,AE18,AH18,AK18,AN18,AQ18,AT18,AW18,AZ18,BC18,BF18,BI18,BL18,BO18,BR18,BU18,BX18,CA18,CD18,CG18,CJ18,CM18,CP18,CS18,CV18,CY18,DB18,DE18,DH18,DK18,DN18,DQ18) -> 0
B19: 繰越額 | D19: 直接経費 | E19: =SUM(H19,K19) -> 0 | K19: =SUM(N19,Q19,T19,W19,Z19,AC19,AF19,AI19,AL19,AO19,AR19,AU19,AX19,BA19,BD19,BG19,BJ19,BM19,BP19,BS19,BV19,BY19,CB19,CE19,CH19,CK19,CN19,CQ19,CT19,CW19,CZ19,DC19,DF19,DI19,DL19,DO19) -> 0
D20: 間接経費 | E20: =SUM(H20,K20) -> 0 | K20: =SUM(N20,Q20,T20,W20,Z20,AC20,AF20,AI20,AL20,AO20,AR20,AU20,AX20,BA20,BD20,BG20,BJ20,BM20,BP20,BS20,BV20,BY20,CB20,CE20,CH20,CK20,CN20,CQ20,CT20,CW20,CZ20,DC20,DF20,DI20,DL20,DO20) -> 0
D21: 合計 | E21: =E19+E20 -> 0 | H21: =H19+H20 -> 0 | K21: 0 | N21: =N19+N20 -> 0 | Q21: =Q19+Q20 -> 0 | T21: =T19+T20 -> 0 | W21: =W19+W20 -> 0 | Z21: =Z19+Z20 -> 0 | AC21: =AC19+AC20 -> 0 | AF21: =AF19+AF20 -> 0 | AI21: =AI19+AI20 -> 0 | AL21: =AL19+AL20 -> 0 | AO21: =AO19+AO20 -> 0 | AR21: =AR19+AR20 -> 0 | AU21: =AU19+AU20 -> 0 | AX21: =AX19+AX20 -> 0 | BA21: =BA19+BA20 -> 0 | BD21: =BD19+BD20 -> 0 | BG21: =BG19+BG20 -> 0 | BJ21: =BJ19+BJ20 -> 0 | BM21: =BM19+BM20 -> 0 | BP21: =BP19+BP20 -> 0 | BS21: =BS19+BS20 -> 0 | BV21: =BV19+BV20 -> 0 | BY21: =BY19+BY20 -> 0 | CB21: =CB19+CB20 -> 0 | CE21: =CE19+CE20 -> 0 | CH21: =CH19+CH20 -> 0 | CK21: =CK19+CK20 -> 0 | CN21: =CN19+CN20 -> 0 | CQ21: =CQ19+CQ20 -> 0 | CT21: =CT19+CT20 -> 0 | CW21: =CW19+CW20 -> 0 | CZ21: =CZ19+CZ20 -> 0 | DC21: =DC19+DC20 -> 0 | DF21: =DF19+DF20 -> 0 | DI21: =DI19+DI20 -> 0 | DL21: =DL19+DL20 -> 0 | DO21: =DO19+DO20 -> 0
B22: 差引 | E22: =G8-G16-G17-E21+G18 -> 0 | H22: =J8-J16-J17-H21+J18 -> 0 | K22: =M8-M16-M17-K21+M18 -> 0 | N22: =P8-P16-P17-N21+P18 -> 0 | Q22: =S8-S16-S17-Q21+S18 -> 0 | T22: =V8-V16-V17-T21+V18 -> 0 | W22: =Y8-Y16-Y17-W21+Y18 -> 0 | Z22: =AB8-AB16-AB17-Z21+AB18 -> 0 | AC22: =AE8-AE16-AE17-AC21+AE18 -> 0 | AF22: =AH8-AH16-AH17-AF21+AH18 -> 0 | AI22: =AK8-AK16-AK17-AI21+AK18 -> 0 | AL22: =AN8-AN16-AN17-AL21+AN18 -> 0 | AO22: =AQ8-AQ16-AQ17-AO21+AQ18 -> 0 | AR22: =AT8-AT16-AT17-AR21+AT18 -> 0 | AU22: =AW8-AW16-AW17-AU21+AW18 -> 0 | AX22: =AZ8-AZ16-AZ17-AX21+AZ18 -> 0 | BA22: =BC8-BC16-BC17-BA21+BC18 -> 0 | BD22: =BF8-BF16-BF17-BD21+BF18 -> 0 | BG22: =BI8-BI16-BI17-BG21+BI18 -> 0 | BJ22: =BL8-BL16-BL17-BJ21+BL18 -> 0 | BM22: =BO8-BO16-BO17-BM21+BO18 -> 0 | BP22: =BR8-BR16-BR17-BP21+BR18 -> 0 | BS22: =BU8-BU16-BU17-BS21+BU18 -> 0 | BV22: =BX8-BX16-BX17-BV21+BX18 -> 0 | BY22: =CA8-CA16-CA17-BY21+CA18 -> 0 | CB22: =CD8-CD16-CD17-CB21+CD18 -> 0 | CE22: =CG8-CG16-CG17-CE21+CG18 -> 0 | CH22: =CJ8-CJ16-CJ17-CH21+CJ18 -> 0 | CK22: =CM8-CM16-CM17-CK21+CM18 -> 0 | CN22: =CP8-CP16-CP17-CN21+CP18 -> 0 | CQ22: =CS8-CS16-CS17-CQ21+CS18 -> 0 | CT22: =CV8-CV16-CV17-CT21+CV18 -> 0 | CW22: =CY8-CY16-CY17-CW21+CY18 -> 0 | CZ22: =DB8-DB16-DB17-CZ21+DB18 -> 0 | DC22: =DE8-DE16-DE17-DC21+DE18 -> 0 | DF22: =DH8-DH16-DH17-DF21+DH18 -> 0 | DI22: =DK8-DK16-DK17-DI21+DK18 -> 0 | DL22: =DN8-DN16-DN17-DL21+DN18 -> 0 | DO22: =DQ8-DQ16-DQ17-DO21+DQ18 -> 0
B23: 不課税消費税相当額等の取扱 | H23: プルダウンから選択してください | N23: プルダウンから選択してください | Q23: プルダウンから選択してください | T23: プルダウンから選択してください | W23: プルダウンから選択してください | Z23: プルダウンから選択してください | AC23: プルダウンから選択してください | AF23: プルダウンから選択してください | AI23: プルダウンから選択してください | AL23: プルダウンから選択してください | AO23: プルダウンから選択してください | AR23: プルダウンから選択してください | AU23: プルダウンから選択してください | AX23: プルダウンから選択してください | BA23: プルダウンから選択してください | BD23: プルダウンから選択してください | BG23: プルダウンから選択してください | BJ23: プルダウンから選択してください | BM23: プルダウンから選択してください | BP23: プルダウンから選択してください | BS23: プルダウンから選択してください | BV23: プルダウンから選択してください | BY23: プルダウンから選択してください | CB23: プルダウンから選択してください | CE23: プルダウンから選択してください | CH23: プルダウンから選択してください | CK23: プルダウンから選択してください | CN23: プルダウンから選択してください | CQ23: プルダウンから選択してください | CT23: プルダウンから選択してください | CW23: プルダウンから選択してください | CZ23: プルダウンから選択してください | DC23: プルダウンから選択してください | DF23: プルダウンから選択してください | DI23: プルダウンから選択してください | DL23: プルダウンから選択してください | DO23: プルダウンから選択してください
B24: 備考欄
H44: プルダウンから選択してください
H45: 計上
H46: 非計上(自己資金負担)
H47: 非計上(免税事業者等)

Sheet ②報告様式１別紙イ  (繰越期間分)
B1: （ 報告様式1別紙イ ） | E1: 繰越期間分
B2: 収支決算報告書
I3: 研究者番号 | J3: 研究機関番号 | O3: 研究者番号 | P3: 研究機関番号 | R3: 研究者番号 | S3: 研究機関番号 | U3: 研究者番号 | V3: 研究機関番号 | X3: 研究者番号 | Y3: 研究機関番号 | AA3: 研究者番号 | AB3: 研究機関番号 | AD3: 研究者番号 | AE3: 研究機関番号 | AG3: 研究者番号 | AH3: 研究機関番号 | AJ3: 研究者番号 | AK3: 研究機関番号 | AM3: 研究者番号 | AN3: 研究機関番号 | AP3: 研究者番号 | AQ3: 研究機関番号 | AS3: 研究者番号 | AT3: 研究機関番号 | AV3: 研究者番号 | AW3: 研究機関番号 | AY3: 研究者番号 | AZ3: 研究機関番号 | BB3: 研究者番号 | BC3: 研究機関番号 | BE3: 研究者番号 | BF3: 研究機関番号 | BH3: 研究者番号 | BI3: 研究機関番号 | BK3: 研究者番号 | BL3: 研究機関番号 | BN3: 研究者番号 | BO3: 研究機関番号 | BQ3: 研究者番号 | BR3: 研究機関番号 | BT3: 研究者番号 | BU3: 研究機関番号 | BW3: 研究者番号 | BX3: 研究機関番号 | BZ3: 研究者番号 | CA3: 研究機関番号 | CC3: 研究者番号 | CD3: 研究機関番号 | CF3: 研究者番号 | CG3: 研究機関番号 | CI3: 研究者番号 | CJ3: 研究機関番号 | CL3: 研究者番号 | CM3: 研究機関番号 | CO3: 研究者番号 | CP3: 研究機関番号 | CR3: 研究者番号 | CS3: 研究機関番号 | CU3: 研究者番号 | CV3: 研究機関番号 | CX3: 研究者番号 | CY3: 研究機関番号 | DA3: 研究者番号 | DB3: 研究機関番号 | DD3: 研究者番号 | DE3: 研究機関番号 | DG3: 研究者番号 | DH3: 研究機関番号 | DJ3: 研究者番号 | DK3: 研究機関番号 | DM3: 研究者番号 | DN3: 研究機関番号 | DP3: 研究者番号 | DQ3: 研究機関番号
B4: 契約番号 | D4: ='①報告様式１別紙イ（年度末分） '!D4 -> （例）SIP2023A1 | E4: 課題ID（e-Rad） | F4: ='①報告様式１別紙イ（年度末分） '!F4 -> 0 | I4: ='①報告様式１別紙イ（年度末分） '!I4 -> 0 | J4: ='①報告様式１別紙イ（年度末分） '!J4 -> 0 | M4: （単位：円） | O4: ='①報告様式１別紙イ（年度末分） '!O4 -> 0 | P4: ='①報告様式１別紙イ（年度末分） '!P4 -> 0 | R4: ='①報告様式１別紙イ（年度末分） '!R4 -> 0 | S4: ='①報告様式１別紙イ（年度末分） '!P4 -> 0 | U4: ='①報告様式１別紙イ（年度末分） '!U4 -> 0 | V4: ='①報告様式１別紙イ（年度末分） '!V4 -> 0 | X4: ='①報告様式１別紙イ（年度末分） '!X4 -> 0 | Y4: ='①報告様式１別紙イ（年度末分） '!Y4 -> 0 | AA4: ='①報告様式１別紙イ（年度末分） '!AA4 -> 0 | AB4: ='①報告様式１別紙イ（年度末分） '!AB4 -> 0 | AD4: ='①報告様式１別紙イ（年度末分） '!AD4 -> 0 | AE4: ='①報告様式１別紙イ（年度末分） '!AE4 -> 0 | AG4: ='①報告様式１別紙イ（年度末分） '!AG4 -> 0 | AH4: ='①報告様式１別紙イ（年度末分） '!AH4 -> 0 | AJ4: ='①報告様式１別紙イ（年度末分） '!AJ4 -> 0 | AK4: ='①報告様式１別紙イ（年度末分） '!AK4 -> 0 | AM4: ='①報告様式１別紙イ（年度末分） '!AM4 -> 0 | AN4: ='①報告様式１別紙イ（年度末分） '!AN4 -> 0 | AP4: ='①報告様式１別紙イ（年度末分） '!AP4 -> 0 | AQ4: ='①報告様式１別紙イ（年度末分） '!AQ4 -> 0 | AS4: ='①報告様式１別紙イ（年度末分） '!AS4 -> 0 | AT4: ='①報告様式１別紙イ（年度末分） '!AT4 -> 0 | AV4: ='①報告様式１別紙イ（年度末分） '!AV4 -> 0 | AW4: ='①報告様式１別紙イ（年度末分） '!AW4 -> 0 | AY4: ='①報告様式１別紙イ（年度末分） '!AY4 -> 0 | AZ4: ='①報告様式１別紙イ（年度末分） '!AZ4 -> 0 | BB4: ='①報告様式１別紙イ（年度末分） '!BB4 -> 0 | BC4: ='①報告様式１別紙イ（年度末分） '!BC4 -> 0 | BE4: ='①報告様式１別紙イ（年度末分） '!BE4 -> 0 | BF4: ='①報告様式１別紙イ（年度末分） '!BF4 -> 0 | BH4: ='①報告様式１別紙イ（年度末分） '!BH4 -> 0 | BI4: ='①報告様式１別紙イ（年度末分） '!BI4 -> 0 | BK4: ='①報告様式１別紙イ（年度末分） '!BK4 -> 0 | BL4: ='①報告様式１別紙イ（年度末分） '!BL4 -> 0 | BN4: ='①報告様式１別紙イ（年度末分） '!BN4 -> 0 | BO4: ='①報告様式１別紙イ（年度末分） '!BO4 -> 0 | BQ4: ='①報告様式１別紙イ（年度末分） '!BQ4 -> 0 | BR4: ='①報告様式１別紙イ（年度末分） '!BR4 -> 0 | BT4: ='①報告様式１別紙イ（年度末分） '!BT4 -> 0 | BU4: ='①報告様式１別紙イ（年度末分） '!BU4 -> 0 | BW4: ='①報告様式１別紙イ（年度末分） '!BW4 -> 0 | BX4: ='①報告様式１別紙イ（年度末分） '!BX4 -> 0 | BZ4: ='①報告様式１別紙イ（年度末分） '!BZ4 -> 0 | CA4: ='①報告様式１別紙イ（年度末分） '!CA4 -> 0 | CC4: ='①報告様式１別紙イ（年度末分） '!CC4 -> 0 | CD4: ='①報告様式１別紙イ（年度末分） '!CD4 -> 0 | CF4: ='①報告様式１別紙イ（年度末分） '!CF4 -> 0 | CG4: ='①報告様式１別紙イ（年度末分） '!CG4 -> 0 | CI4: ='①報告様式１別紙イ（年度末分） '!CI4 -> 0 | CJ4: ='①報告様式１別紙イ（年度末分） '!CJ4 -> 0 | CL4: ='①報告様式１別紙イ（年度末分） '!CL4 -> 0 | CM4: ='①報告様式１別紙イ（年度末分） '!CM4 -> 0 | CO4: ='①報告様式１別紙イ（年度末分） '!CO4 -> 0 | CP4: ='①報告様式１別紙イ（年度末分） '!CP4 -> 0 | CR4: ='①報告様式１別紙イ（年度末分） '!CR4 -> 0 | CS4: ='①報告様式１別紙イ（年度末分） '!CS4 -> 0 | CU4: ='①報告様式１別紙イ（年度末分） '!CU4 -> 0 | CV4: ='①報告様式１別紙イ（年度末分） '!CV4 -> 0 | CX4: ='①報告様式１別紙イ（年度末分） '!CX4 -> 0 | CY4: ='①報告様式１別紙イ（年度末分） '!CY4 -> 0 | DA4: ='①報告様式１別紙イ（年度末分） '!DA4 -> 0 | DB4: ='①報告様式１別紙イ（年度末分） '!DB4 -> 0 | DD4: ='①報告様式１別紙イ（年度末分） '!DD4 -> 0 | DE4: ='①報告様式１別紙イ（年度末分） '!DE4 -> 0 | DG4: ='①報告様式１別紙イ（年度末分） '!DG4 -> 0 | DH4: ='①報告様式１別紙イ（年度末分） '!DH4 -> 0 | DJ4: ='①報告様式１別紙イ（年度末分） '!DJ4 -> 0 | DK4: ='①報告様式１別紙イ（年度末分） '!DK4 -> 0 | DM4: ='①報告様式１別紙イ（年度末分） '!DM4 -> 0 | DN4: ='①報告様式１別紙イ（年度末分） '!DN4 -> 0 | DP4: ='①報告様式１別紙イ（年度末分） '!DP4 -> 0 | DQ4: ='①報告様式１別紙イ（年度末分） '!DQ4 -> 0
B5: 委託種別 | E5: 総額 | H5: 直接契約分（研究開発代表機関） | K5: 再委託費合計 | N5: 再委託1 | Q5: 再委託2 | T5: 再委託3 | W5: 再委託4 | Z5: 再委託5 | AC5: 再委託6 | AF5: 再委託7 | AI5: 再委託8 | AL5: 再委託9 | AO5: 再委託10 | AR5: 再委託11 | AU5: 再委託12 | AX5: 再委託13 | BA5: 再委託14 | BD5: 再委託15 | BG5: 再委託16 | BJ5: 再委託17 | BM5: 再委託18 | BP5: 再委託19 | BS5: 再委託20 | BV5: 再委託21 | BY5: 再委託22 | CB5: 再委託23 | CE5: 再委託24 | CH5: 再委託25 | CK5: 再委託26 | CN5: 再委託27 | CQ5: 再委託28 | CT5: 再委託29 | CW5: 再委託30 | CZ5: 再委託31 | DC5: 再委託32 | DF5: 再委託33 | DI5: 再委託34 | DL5: 再委託35 | DO5: 再委託36
B6: 機関名 | H6: ='①報告様式１別紙イ（年度末分） '!H6:J6 -> 0 | N6: ='①報告様式１別紙イ（年度末分） '!N6:P6 -> 0 | Q6: ='①報告様式１別紙イ（年度末分） '!Q6:S6 -> 0 | T6: ='①報告様式１別紙イ（年度末分） '!T6:V6 -> 0 | W6: ='①報告様式１別紙イ（年度末分） '!W6:Y6 -> 0 | Z6: ='①報告様式１別紙イ（年度末分） '!Z6:AB6 -> 0 | AC6: ='①報告様式１別紙イ（年度末分） '!AC6:AE6 -> 0 | AF6: ='①報告様式１別紙イ（年度末分） '!AF6:AH6 -> 0 | AI6: ='①報告様式１別紙イ（年度末分） '!AI6:AK6 -> 0 | AL6: ='①報告様式１別紙イ（年度末分） '!AL6:AN6 -> 0 | AO6: ='①報告様式１別紙イ（年度末分） '!AO6:AQ6 -> 0 | AR6: ='①報告様式１別紙イ（年度末分） '!AR6:AT6 -> 0 | AU6: ='①報告様式１別紙イ（年度末分） '!AU6:AW6 -> 0 | AX6: ='①報告様式１別紙イ（年度末分） '!AX6:AZ6 -> 0 | BA6: ='①報告様式１別紙イ（年度末分） '!BA6:BC6 -> 0 | BD6: ='①報告様式１別紙イ（年度末分） '!BD6:BF6 -> 0 | BG6: ='①報告様式１別紙イ（年度末分） '!BG6:BI6 -> 0 | BJ6: ='①報告様式１別紙イ（年度末分） '!BJ6:BL6 -> 0 | BM6: ='①報告様式１別紙イ（年度末分） '!BM6:BO6 -> 0 | BP6: ='①報告様式１別紙イ（年度末分） '!BP6:BR6 -> 0 | BS6: ='①報告様式１別紙イ（年度末分） '!BS6:BU6 -> 0 | BV6: ='①報告様式１別紙イ（年度末分） '!BV6:BX6 -> 0 | BY6: ='①報告様式１別紙イ（年度末分） '!BY6:CA6 -> 0 | CB6: ='①報告様式１別紙イ（年度末分） '!CB6:CD6 -> 0 | CE6: ='①報告様式１別紙イ（年度末分） '!CE6:CG6 -> 0 | CH6: ='①報告様式１別紙イ（年度末分） '!CH6:CJ6 -> 0 | CK6: ='①報告様式１別紙イ（年度末分） '!CK6:CM6 -> 0 | CN6: ='①報告様式１別紙イ（年度末分） '!CN6:CP6 -> 0 | CQ6: ='①報告様式１別紙イ（年度末分） '!CQ6:CS6 -> 0 | CT6: ='①報告様式１別紙イ（年度末分） '!CT6:CV6 -> 0 | CW6: ='①報告様式１別紙イ（年度末分） '!CW6:CY6 -> 0 | CZ6: ='①報告様式１別紙イ（年度末分） '!CZ6:DB6 -> 0 | DC6: ='①報告様式１別紙イ（年度末分） '!DC6:DE6 -> 0 | DF6: ='①報告様式１別紙イ（年度末分） '!DF6:DH6 -> 0 | DI6: ='①報告様式１別紙イ（年度末分） '!DI6:DK6 -> 0 | DL6: ='①報告様式１別紙イ（年度末分） '!DL6:DN6 -> 0 | DO6: ='①報告様式１別紙イ（年度末分） '!DO6:DQ6 -> 0
E7: 契約額 | F7: 支出額 | G7: 差引額 | H7: 契約額 | I7: 支出額 | J7: 差額 | K7: 契約額 | L7: 支出額 | M7: 差額 | N7: 契約額 | O7: 支出額 | P7: 差額 | Q7: 契約額 | R7: 支出額 | S7: 差額 | T7: 契約額 | U7: 支出額 | V7: 差額 | W7: 契約額 | X7: 支出額 | Y7: 差額 | Z7: 契約額 | AA7: 支出額 | AB7: 差額 | AC7: 契約額 | AD7: 支出額 | AE7: 差額 | AF7: 契約額 | AG7: 支出額 | AH7: 差額 | AI7: 契約額 | AJ7: 支出額 | AK7: 差額 | AL7: 契約額 | AM7: 支出額 | AN7: 差額 | AO7: 契約額 | AP7: 支出額 | AQ7: 差額 | AR7: 契約額 | AS7: 支出額 | AT7: 差額 | AU7: 契約額 | AV7: 支出額 | AW7: 差額 | AX7: 契約額 | AY7: 支出額 | AZ7: 差額 | BA7: 契約額 | BB7: 支出額 | BC7: 差額 | BD7: 契約額 | BE7: 支出額 | BF7: 差額 | BG7: 契約額 | BH7: 支出額 | BI7: 差額 | BJ7: 契約額 | BK7: 支出額 | BL7: 差額 | BM7: 契約額 | BN7: 支出額 | BO7: 差額 | BP7: 契約額 | BQ7: 支出額 | BR7: 差額 | BS7: 契約額 | BT7: 支出額 | BU7: 差額 | BV7: 契約額 | BW7: 支出額 | BX7: 差額 | BY7: 契約額 | BZ7: 支出額 | CA7: 差額 | CB7: 契約額 | CC7: 支出額 | CD7: 差額 | CE7: 契約額 | CF7: 支出額 | CG7: 差額 | CH7: 契約額 | CI7: 支出額 | CJ7: 差額 | CK7: 契約額 | CL7: 支出額 | CM7: 差額 | CN7: 契約額 | CO7: 支出額 | CP7: 差額 | CQ7: 契約額 | CR7: 支出額 | CS7: 差額 | CT7: 契約額 | CU7: 支出額 | CV7: 差額 | CW7: 契約額 | CX7: 支出額 | CY7: 差額 | CZ7: 契約額 | DA7: 支出額 | DB7: 差額 | DC7: 契約額 | DD7: 支出額 | DE7: 差額 | DF7: 契約額 | DG7: 支出額 | DH7: 差額 | DI7: 契約額 | DJ7: 支出額 | DK7: 差額 | DL7: 契約額 | DM7: 支出額 | DN7: 差額 | DO7: 契約額 | DP7: 支出額 | DQ7: 差額
B8: 総額（A＋B） | E8: =SUM(H8,K8) -> 0 | F8: =SUM(I8,L8) -> 0 | G8: =SUM(J8,M8) -> 0 | H8: =SUM(H13,H14) -> 0 | I8: =SUM(I13,I14) -> 0 | J8: =H8-I8 -> 0 | K8: =SUM(N8,Q8,T8,W8,Z8,AC8,AF8,AI8,AL8,AO8,AR8,AU8,AX8,BA8,BD8,BG8,BJ8,BM8,BP8,BS8,BV8,BY8,CB8,CE8,CH8,CK8,CN8,CQ8,CT8,CW8,CZ8,DC8,DF8,DI8,DL8,DO8) -> 0 | L8: =SUM(O8,R8,U8,X8,AA8,AD8,AG8,AJ8,AM8,AP8,AS8,AV8,AY8,BB8,BE8,BH8,BK8,BN8,BQ8,BT8,BW8,BZ8,CC8,CF8,CI8,CL8,CO8,CR8,CU8,CX8,DA8,DD8,DG8,DJ8,DM8,DP8) -> 0 | M8: =SUM(P8,S8,V8,Y8,AB8,AE8,AH8,AK8,AN8,AQ8,AT8,AW8,AZ8,BC8,BF8,BI8,BL8,BO8,BR8,BU8,BX8,CA8,CD8,CG8,CJ8,CM8,CP8,CS8,CV8,CY8,DB8,DE8,DH8,DK8,DN8,DQ8) -> 0 | N8: =SUM(N13,N14) -> 0 | O8: =SUM(O13,O14) -> 0 | P8: =N8-O8 -> 0 | Q8: =SUM(Q13,Q14) -> 0 | R8: =SUM(R13,R14) -> 0 | S8: =Q8-R8 -> 0 | T8: =SUM(T13,T14) -> 0 | U8: =SUM(U13,U14) -> 0 | V8: =T8-U8 -> 0 | W8: =SUM(W13,W14) -> 0 | X8: =SUM(X13,X14) -> 0 | Y8: =W8-X8 -> 0 | Z8: =SUM(Z13,Z14) -> 0 | AA8: =SUM(AA13,AA14) -> 0 | AB8: =Z8-AA8 -> 0 | AC8: =SUM(AC13,AC14) -> 0 | AD8: =SUM(AD13,AD14) -> 0 | AE8: =AC8-AD8 -> 0 | AF8: =SUM(AF13,AF14) -> 0 | AG8: =SUM(AG13,AG14) -> 0 | AH8: =AF8-AG8 -> 0 | AI8: =SUM(AI13,AI14) -> 0 | AJ8: =SUM(AJ13,AJ14) -> 0 | AK8: =AI8-AJ8 -> 0 | AL8: =SUM(AL13,AL14) -> 0 | AM8: =SUM(AM13,AM14) -> 0 | AN8: =AL8-AM8 -> 0 | AO8: =SUM(AO13,AO14) -> 0 | AP8: =SUM(AP13,AP14) -> 0 | AQ8: =AO8-AP8 -> 0 | AR8: =SUM(AR13,AR14) -> 0 | AS8: =SUM(AS13,AS14) -> 0 | AT8: =AR8-AS8 -> 0 | AU8: =SUM(AU13,AU14) -> 0 | AV8: =SUM(AV13,AV14) -> 0 | AW8: =AU8-AV8 -> 0 | AX8: =SUM(AX13,AX14) -> 0 | AY8: =SUM(AY13,AY14) -> 0 | AZ8: =AX8-AY8 -> 0 | BA8: =SUM(BA13,BA14) -> 0 | BB8: =SUM(BB13,BB14) -> 0 | BC8: =BA8-BB8 -> 0 | BD8: =SUM(BD13,BD14) -> 0 | BE8: =SUM(BE13,BE14) -> 0 | BF8: =BD8-BE8 -> 0 | BG8: =SUM(BG13,BG14) -> 0 | BH8: =SUM(BH13,BH14) -> 0 | BI8: =BG8-BH8 -> 0 | BJ8: =SUM(BJ13,BJ14) -> 0 | BK8: =SUM(BK13,BK14) -> 0 | BL8: =BJ8-BK8 -> 0 | BM8: =SUM(BM13,BM14) -> 0 | BN8: =SUM(BN13,BN14) -> 0 | BO8: =BM8-BN8 -> 0 | BP8: =SUM(BP13,BP14) -> 0 | BQ8: =SUM(BQ13,BQ14) -> 0 | BR8: =BP8-BQ8 -> 0 | BS8: =SUM(BS13,BS14) -> 0 | BT8: =SUM(BT13,BT14) -> 0 | BU8: =BS8-BT8 -> 0 | BV8: =SUM(BV13,BV14) -> 0 | BW8: =SUM(BW13,BW14) -> 0 | BX8: =BV8-BW8 -> 0 | BY8: =SUM(BY13,BY14) -> 0 | BZ8: =SUM(BZ13,BZ14) -> 0 | CA8: =BY8-BZ8 -> 0 | CB8: =SUM(CB13,CB14) -> 0 | CC8: =SUM(CC13,CC14) -> 0 | CD8: =CB8-CC8 -> 0 | CE8: =SUM(CE13,CE14) -> 0 | CF8: =SUM(CF13,CF14) -> 0 | CG8: =CE8-CF8 -> 0 | CH8: =SUM(CH13,CH14) -> 0 | CI8: =SUM(CI13,CI14) -> 0 | CJ8: =CH8-CI8 -> 0 | CK8: =SUM(CK13,CK14) -> 0 | CL8: =SUM(CL13,CL14) -> 0 | CM8: =CK8-CL8 -> 0 | CN8: =SUM(CN13,CN14) -> 0 | CO8: =SUM(CO13,CO14) -> 0 | CP8: =CN8-CO8 -> 0 | CQ8: =SUM(CQ13,CQ14) -> 0 | CR8: =SUM(CR13,CR14) -> 0 | CS8: =CQ8-CR8 -> 0 | CT8: =SUM(CT13,CT14) -> 0 | CU8: =SUM(CU13,CU14) -> 0 | CV8: =CT8-CU8 -> 0 | CW8: =SUM(CW13,CW14) -> 0 | CX8: =SUM(CX13,CX14) -> 0 | CY8: =CW8-CX8 -> 0 | CZ8: =SUM(CZ13,CZ14) -> 0 | DA8: =SUM(DA13,DA14) -> 0 | DB8: =CZ8-DA8 -> 0 | DC8: =SUM(DC13,DC14) -> 0 | DD8: =SUM(DD13,DD14) -> 0 | DE8: =DC8-DD8 -> 0 | DF8: =SUM(DF13,DF14) -> 0 | DG8: =SUM(DG13,DG14) -> 0 | DH8: =DF8-DG8 -> 0 | DI8: =SUM(DI13,DI14) -> 0 | DJ8: =SUM(DJ13,DJ14) -> 0 | DK8: =DI8-DJ8 -> 0 | DL8: =SUM(DL13,DL14) -> 0 | DM8: =SUM(DM13,DM14) -> 0 | DN8: =DL8-DM8 -> 0 | DO8: =SUM(DO13,DO14) -> 0 | DP8: =SUM(DP13,DP14) -> 0 | DQ8: =DO8-DP8 -> 0
B9: 直接経費（A） | C9: 物品費 | E9: =SUM(H9,K9) -> 0 | F9: =SUM(I9,L9) -> 0 | G9: =SUM(J9,M9) -> 0 | J9: =H9-I9 -> 0 | K9: =SUM(N9,Q9,T9,W9,Z9,AC9,AF9,AI9,AL9,AO9,AR9,AU9,AX9,BA9,BD9,BG9,BJ9,BM9,BP9,BS9,BV9,BY9,CB9,CE9,CH9,CK9,CN9,CQ9,CT9,CW9,CZ9,DC9,DF9,DI9,DL9,DO9) -> 0 | L9: =SUM(O9,R9,U9,X9,AA9,AD9,AG9,AJ9,AM9,AP9,AS9,AV9,AY9,BB9,BE9,BH9,BK9,BN9,BQ9,BT9,BW9,BZ9,CC9,CF9,CI9,CL9,CO9,CR9,CU9,CX9,DA9,DD9,DG9,DJ9,DM9,DP9) -> 0 | M9: =SUM(P9,S9,V9,Y9,AB9,AE9,AH9,AK9,AN9,AQ9,AT9,AW9,AZ9,BC9,BF9,BI9,BL9,BO9,BR9,BU9,BX9,CA9,CD9,CG9,CJ9,CM9,CP9,CS9,CV9,CY9,DB9,DE9,DH9,DK9,DN9,DQ9) -> 0 | P9: =N9-O9 -> 0 | S9: =Q9-R9 -> 0 | V9: =T9-U9 -> 0 | Y9: =W9-X9 -> 0 | AB9: =Z9-AA9 -> 0 | AE9: =AC9-AD9 -> 0 | AH9: =AF9-AG9 -> 0 | AK9: =AI9-AJ9 -> 0 | AN9: =AL9-AM9 -> 0 | AQ9: =AO9-AP9 -> 0 | AT9: =AR9-AS9 -> 0 | AW9: =AU9-AV9 -> 0 | AZ9: =AX9-AY9 -> 0 | BC9: =BA9-BB9 -> 0 | BF9: =BD9-BE9 -> 0 | BI9: =BG9-BH9 -> 0 | BL9: =BJ9-BK9 -> 0 | BO9: =BM9-BN9 -> 0 | BR9: =BP9-BQ9 -> 0 | BU9: =BS9-BT9 -> 0 | BX9: =BV9-BW9 -> 0 | CA9: =BY9-BZ9 -> 0 | CD9: =CB9-CC9 -> 0 | CG9: =CE9-CF9 -> 0 | CJ9: =CH9-CI9 -> 0 | CM9: =CK9-CL9 -> 0 | CP9: =CN9-CO9 -> 0 | CS9: =CQ9-CR9 -> 0 | CV9: =CT9-CU9 -> 0 | CY9: =CW9-CX9 -> 0 | DB9: =CZ9-DA9 -> 0 | DE9: =DC9-DD9 -> 0 | DH9: =DF9-DG9 -> 0 | DK9: =DI9-DJ9 -> 0 | DN9: =DL9-DM9 -> 0 | DQ9: =DO9-DP9 -> 0
C10: 旅費 | E10: =SUM(H10,K10) -> 0 | F10: =SUM(I10,L10) -> 0 | G10: =SUM(J10,M10) -> 0 | J10: =H10-I10 -> 0 | K10: =SUM(N10,Q10,T10,W10,Z10,AC10,AF10,AI10,AL10,AO10,AR10,AU10,AX10,BA10,BD10,BG10,BJ10,BM10,BP10,BS10,BV10,BY10,CB10,CE10,CH10,CK10,CN10,CQ10,CT10,CW10,CZ10,DC10,DF10,DI10,DL10,DO10) -> 0 | L10: =SUM(O10,R10,U10,X10,AA10,AD10,AG10,AJ10,AM10,AP10,AS10,AV10,AY10,BB10,BE10,BH10,BK10,BN10,BQ10,BT10,BW10,BZ10,CC10,CF10,CI10,CL10,CO10,CR10,CU10,CX10,DA10,DD10,DG10,DJ10,DM10,DP10) -> 0 | M10: =SUM(P10,S10,V10,Y10,AB10,AE10,AH10,AK10,AN10,AQ10,AT10,AW10,AZ10,BC10,BF10,BI10,BL10,BO10,BR10,BU10,BX10,CA10,CD10,CG10,CJ10,CM10,CP10,CS10,CV10,CY10,DB10,DE10,DH10,DK10,DN10,DQ10) -> 0 | P10: =N10-O10 -> 0 | S10: =Q10-R10 -> 0 | V10: =T10-U10 -> 0 | Y10: =W10-X10 -> 0 | AB10: =Z10-AA10 -> 0 | AE10: =AC10-AD10 -> 0 | AH10: =AF10-AG10 -> 0 | AK10: =AI10-AJ10 -> 0 | AN10: =AL10-AM10 -> 0 | AQ10: =AO10-AP10 -> 0 | AT10: =AR10-AS10 -> 0 | AW10: =AU10-AV10 -> 0 | AZ10: =AX10-AY10 -> 0 | BC10: =BA10-BB10 -> 0 | BF10: =BD10-BE10 -> 0 | BI10: =BG10-BH10 -> 0 | BL10: =BJ10-BK10 -> 0 | BO10: =BM10-BN10 -> 0 | BR10: =BP10-BQ10 -> 0 | BU10: =BS10-BT10 -> 0 | BX10: =BV10-BW10 -> 0 | CA10: =BY10-BZ10 -> 0 | CD10: =CB10-CC10 -> 0 | CG10: =CE10-CF10 -> 0 | CJ10: =CH10-CI10 -> 0 | CM10: =CK10-CL10 -> 0 | CP10: =CN10-CO10 -> 0 | CS10: =CQ10-CR10 -> 0 | CV10: =CT10-CU10 -> 0 | CY10: =CW10-CX10 -> 0 | DB10: =CZ10-DA10 -> 0 | DE10: =DC10-DD10 -> 0 | DH10: =DF10-DG10 -> 0 | DK10: =DI10-DJ10 -> 0 | DN10: =DL10-DM10 -> 0 | DQ10: =DO10-DP10 -> 0
C11: 人件費・謝金 | E11: =SUM(H11,K11) -> 0 | F11: =SUM(I11,L11) -> 0 | G11: =SUM(J11,M11) -> 0 | J11: =H11-I11 -> 0 | K11: =SUM(N11,Q11,T11,W11,Z11,AC11,AF11,AI11,AL11,AO11,AR11,AU11,AX11,BA11,BD11,BG11,BJ11,BM11,BP11,BS11,BV11,BY11,CB11,CE11,CH11,CK11,CN11,CQ11,CT11,CW11,CZ11,DC11,DF11,DI11,DL11,DO11) -> 0 | L11: =SUM(O11,R11,U11,X11,AA11,AD11,AG11,AJ11,AM11,AP11,AS11,AV11,AY11,BB11,BE11,BH11,BK11,BN11,BQ11,BT11,BW11,BZ11,CC11,CF11,CI11,CL11,CO11,CR11,CU11,CX11,DA11,DD11,DG11,DJ11,DM11,DP11) -> 0 | M11: =SUM(P11,S11,V11,Y11,AB11,AE11,AH11,AK11,AN11,AQ11,AT11,AW11,AZ11,BC11,BF11,BI11,BL11,BO11,BR11,BU11,BX11,CA11,CD11,CG11,CJ11,CM11,CP11,CS11,CV11,CY11,DB11,DE11,DH11,DK11,DN11,DQ11) -> 0 | P11: =N11-O11 -> 0 | S11: =Q11-R11 -> 0 | V11: =T11-U11 -> 0 | Y11: =W11-X11 -> 0 | AB11: =Z11-AA11 -> 0 | AE11: =AC11-AD11 -> 0 | AH11: =AF11-AG11 -> 0 | AK11: =AI11-AJ11 -> 0 | AN11: =AL11-AM11 -> 0 | AQ11: =AO11-AP11 -> 0 | AT11: =AR11-AS11 -> 0 | AW11: =AU11-AV11 -> 0 | AZ11: =AX11-AY11 -> 0 | BC11: =BA11-BB11 -> 0 | BF11: =BD11-BE11 -> 0 | BI11: =BG11-BH11 -> 0 | BL11: =BJ11-BK11 -> 0 | BO11: =BM11-BN11 -> 0 | BR11: =BP11-BQ11 -> 0 | BU11: =BS11-BT11 -> 0 | BX11: =BV11-BW11 -> 0 | CA11: =BY11-BZ11 -> 0 | CD11: =CB11-CC11 -> 0 | CG11: =CE11-CF11 -> 0 | CJ11: =CH11-CI11 -> 0 | CM11: =CK11-CL11 -> 0 | CP11: =CN11-CO11 -> 0 | CS11: =CQ11-CR11 -> 0 | CV11: =CT11-CU11 -> 0 | CY11: =CW11-CX11 -> 0 | DB11: =CZ11-DA11 -> 0 | DE11: =DC11-DD11 -> 0 | DH11: =DF11-DG11 -> 0 | DK11: =DI11-DJ11 -> 0 | DN11: =DL11-DM11 -> 0 | DQ11: =DO11-DP11 -> 0
C12: その他 | E12: =SUM(H12,K12) -> 0 | F12: =SUM(I12,L12) -> 0 | G12: =SUM(J12,M12) -> 0 | J12: =H12-I12 -> 0 | K12: =SUM(N12,Q12,T12,W12,Z12,AC12,AF12,AI12,AL12,AO12,AR12,AU12,AX12,BA12,BD12,BG12,BJ12,BM12,BP12,BS12,BV12,BY12,CB12,CE12,CH12,CK12,CN12,CQ12,CT12,CW12,CZ12,DC12,DF12,DI12,DL12,DO12) -> 0 | L12: =SUM(O12,R12,U12,X12,AA12,AD12,AG12,AJ12,AM12,AP12,AS12,AV12,AY12,BB12,BE12,BH12,BK12,BN12,BQ12,BT12,BW12,BZ12,CC12,CF12,CI12,CL12,CO12,CR12,CU12,CX12,DA12,DD12,DG12,DJ12,DM12,DP12) -> 0 | M12: =SUM(P12,S12,V12,Y12,AB12,AE12,AH12,AK12,AN12,AQ12,AT12,AW12,AZ12,BC12,BF12,BI12,BL12,BO12,BR12,BU12,BX12,CA12,CD12,CG12,CJ12,CM12,CP12,CS12,CV12,CY12,DB12,DE12,DH12,DK12,DN12,DQ12) -> 0 | P12: =N12-O12 -> 0 | S12: =Q12-R12 -> 0 | V12: =T12-U12 -> 0 | Y12: =W12-X12 -> 0 | AB12: =Z12-AA12 -> 0 | AE12: =AC12-AD12 -> 0 | AH12: =AF12-AG12 -> 0 | AK12: =AI12-AJ12 -> 0 | AN12: =AL12-AM12 -> 0 | AQ12: =AO12-AP12 -> 0 | AT12: =AR12-AS12 -> 0 | AW12: =AU12-AV12 -> 0 | AZ12: =AX12-AY12 -> 0 | BC12: =BA12-BB12 -> 0 | BF12: =BD12-BE12 -> 0 | BI12: =BG12-BH12 -> 0 | BL12: =BJ12-BK12 -> 0 | BO12: =BM12-BN12 -> 0 | BR12: =BP12-BQ12 -> 0 | BU12: =BS12-BT12 -> 0 | BX12: =BV12-BW12 -> 0 | CA12: =BY12-BZ12 -> 0 | CD12: =CB12-CC12 -> 0 | CG12: =CE12-CF12 -> 0 | CJ12: =CH12-CI12 -> 0 | CM12: =CK12-CL12 -> 0 | CP12: =CN12-CO12 -> 0 | CS12: =CQ12-CR12 -> 0 | CV12: =CT12-CU12 -> 0 | CY12: =CW12-CX12 -> 0 | DB12: =CZ12-DA12 -> 0 | DE12: =DC12-DD12 -> 0 | DH12: =DF12-DG12 -> 0 | DK12: =DI12-DJ12 -> 0 | DN12: =DL12-DM12 -> 0 | DQ12: =DO12-DP12 -> 0
C13: 直接経費合計 | E13: =SUM(H13,K13) -> 0 | F13: =SUM(I13,L13) -> 0 | G13: =SUM(J13,M13) -> 0 | H13: =SUM(H9:H12) -> 0 | I13: =SUM(I9:I12) -> 0 | J13: =H13-I13 -> 0 | K13: =SUM(N13,Q13,T13,W13,Z13,AC13,AF13,AI13,AL13,AO13,AR13,AU13,AX13,BA13,BD13,BG13,BJ13,BM13,BP13,BS13,BV13,BY13,CB13,CE13,CH13,CK13,CN13,CQ13,CT13,CW13,CZ13,DC13,DF13,DI13,DL13,DO13) -> 0 | L13: =SUM(O13,R13,U13,X13,AA13,AD13,AG13,AJ13,AM13,AP13,AS13,AV13,AY13,BB13,BE13,BH13,BK13,BN13,BQ13,BT13,BW13,BZ13,CC13,CF13,CI13,CL13,CO13,CR13,CU13,CX13,DA13,DD13,DG13,DJ13,DM13,DP13) -> 0 | M13: =SUM(P13,S13,V13,Y13,AB13,AE13,AH13,AK13,AN13,AQ13,AT13,AW13,AZ13,BC13,BF13,BI13,BL13,BO13,BR13,BU13,BX13,CA13,CD13,CG13,CJ13,CM13,CP13,CS13,CV13,CY13,DB13,DE13,DH13,DK13,DN13,DQ13) -> 0 | N13: =SUM(N9:N12) -> 0 | O13: =SUM(O9:O12) -> 0 | P13: =N13-O13 -> 0 | Q13: =SUM(Q9:Q12) -> 0 | R13: =SUM(R9:R12) -> 0 | S13: =Q13-R13 -> 0 | T13: =SUM(T9:T12) -> 0 | U13: =SUM(U9:U12) -> 0 | V13: =T13-U13 -> 0 | W13: =SUM(W9:W12) -> 0 | X13: =SUM(X9:X12) -> 0 | Y13: =W13-X13 -> 0 | Z13: =SUM(Z9:Z12) -> 0 | AA13: =SUM(AA9:AA12) -> 0 | AB13: =Z13-AA13 -> 0 | AC13: =SUM(AC9:AC12) -> 0 | AD13: =SUM(AD9:AD12) -> 0 | AE13: =AC13-AD13 -> 0 | AF13: =SUM(AF9:AF12) -> 0 | AG13: =SUM(AG9:AG12) -> 0 | AH13: =AF13-AG13 -> 0 | AI13: =SUM(AI9:AI12) -> 0 | AJ13: =SUM(AJ9:AJ12) -> 0 | AK13: =AI13-AJ13 -> 0 | AL13: =SUM(AL9:AL12) -> 0 | AM13: =SUM(AM9:AM12) -> 0 | AN13: =AL13-AM13 -> 0 | AO13: =SUM(AO9:AO12) -> 0 | AP13: =SUM(AP9:AP12) -> 0 | AQ13: =AO13-AP13 -> 0 | AR13: =SUM(AR9:AR12) -> 0 | AS13: =SUM(AS9:AS12) -> 0 | AT13: =AR13-AS13 -> 0 | AU13: =SUM(AU9:AU12) -> 0 | AV13: =SUM(AV9:AV12) -> 0 | AW13: =AU13-AV13 -> 0 | AX13: =SUM(AX9:AX12) -> 0 | AY13: =SUM(AY9:AY12) -> 0 | AZ13: =AX13-AY13 -> 0 | BA13: =SUM(BA9:BA12) -> 0 | BB13: =SUM(BB9:BB12) -> 0 | BC13: =BA13-BB13 -> 0 | BD13: =SUM(BD9:BD12) -> 0 | BE13: =SUM(BE9:BE12) -> 0 | BF13: =BD13-BE13 -> 0 | BG13: =SUM(BG9:BG12) -> 0 | BH13: =SUM(BH9:BH12) -> 0 | BI13: =BG13-BH13 -> 0 | BJ13: =SUM(BJ9:BJ12) -> 0 | BK13: =SUM(BK9:BK12) -> 0 | BL13: =BJ13-BK13 -> 0 | BM13: =SUM(BM9:BM12) -> 0 | BN13: =SUM(BN9:BN12) -> 0 | BO13: =BM13-BN13 -> 0 | BP13: =SUM(BP9:BP12) -> 0 | BQ13: =SUM(BQ9:BQ12) -> 0 | BR13: =BP13-BQ13 -> 0 | BS13: =SUM(BS9:BS12) -> 0 | BT13: =SUM(BT9:BT12) -> 0 | BU13: =BS13-BT13 -> 0 | BV13: =SUM(BV9:BV12) -> 0 | BW13: =SUM(BW9:BW12) -> 0 | BX13: =BV13-BW13 -> 0 | BY13: =SUM(BY9:BY12) -> 0 | BZ13: =SUM(BZ9:BZ12) -> 0 | CA13: =BY13-BZ13 -> 0 | CB13: =SUM(CB9:CB12) -> 0 | CC13: =SUM(CC9:CC12) -> 0 | CD13: =CB13-CC13 -> 0 | CE13: =SUM(CE9:CE12) -> 0 | CF13: =SUM(CF9:CF12) -> 0 | CG13: =CE13-CF13 -> 0 | CH13: =SUM(CH9:CH12) -> 0 | CI13: =SUM(CI9:CI12) -> 0 | CJ13: =CH13-CI13 -> 0 | CK13: =SUM(CK9:CK12) -> 0 | CL13: =SUM(CL9:CL12) -> 0 | CM13: =CK13-CL13 -> 0 | CN13: =SUM(CN9:CN12) -> 0 | CO13: =SUM(CO9:CO12) -> 0 | CP13: =CN13-CO13 -> 0 | CQ13: =SUM(CQ9:CQ12) -> 0 | CR13: =SUM(CR9:CR12) -> 0 | CS13: =CQ13-CR13 -> 0 | CT13: =SUM(CT9:CT12) -> 0 | CU13: =SUM(CU9:CU12) -> 0 | CV13: =CT13-CU13 -> 0 | CW13: =SUM(CW9:CW12) -> 0 | CX13: =SUM(CX9:CX12) -> 0 | CY13: =CW13-CX13 -> 0 | CZ13: =SUM(CZ9:CZ12) -> 0 | DA13: =SUM(DA9:DA12) -> 0 | DB13: =CZ13-DA13 -> 0 | DC13: =SUM(DC9:DC12) -> 0 | DD13: =SUM(DD9:DD12) -> 0 | DE13: =DC13-DD13 -> 0 | DF13: =SUM(DF9:DF12) -> 0 | DG13: =SUM(DG9:DG12) -> 0 | DH13: =DF13-DG13 -> 0 | DI13: =SUM(DI9:DI12) -> 0 | DJ13: =SUM(DJ9:DJ12) -> 0 | DK13: =DI13-DJ13 -> 0 | DL13: =SUM(DL9:DL12) -> 0 | DM13: =SUM(DM9:DM12) -> 0 | DN13: =DL13-DM13 -> 0 | DO13: =SUM(DO9:DO12) -> 0 | DP13: =SUM(DP9:DP12) -> 0 | DQ13: =DO13-DP13 -> 0
B14: 間接経費（B） | E14: =SUM(H14,K14) -> 0 | F14: =SUM(I14,L14) -> 0 | G14: =SUM(J14,M14) -> 0 | J14: =H14-I14 -> 0 | K14: =SUM(N14,Q14,T14,W14,Z14,AC14,AF14,AI14,AL14,AO14,AR14,AU14,AX14,BA14,BD14,BG14,BJ14,BM14,BP14,BS14,BV14,BY14,CB14,CE14,CH14,CK14,CN14,CQ14,CT14,CW14,CZ14,DC14,DF14,DI14,DL14,DO14) -> 0 | L14: =SUM(O14,R14,U14,X14,AA14,AD14,AG14,AJ14,AM14,AP14,AS14,AV14,AY14,BB14,BE14,BH14,BK14,BN14,BQ14,BT14,BW14,BZ14,CC14,CF14,CI14,CL14,CO14,CR14,CU14,CX14,DA14,DD14,DG14,DJ14,DM14,DP14) -> 0 | M14: =SUM(P14,S14,V14,Y14,AB14,AE14,AH14,AK14,AN14,AQ14,AT14,AW14,AZ14,BC14,BF14,BI14,BL14,BO14,BR14,BU14,BX14,CA14,CD14,CG14,CJ14,CM14,CP14,CS14,CV14,CY14,DB14,DE14,DH14,DK14,DN14,DQ14) -> 0 | P14: =N14-O14 -> 0 | S14: =Q14-R14 -> 0 | V14: =T14-U14 -> 0 | Y14: =W14-X14 -> 0 | AB14: =Z14-AA14 -> 0 | AE14: =AC14-AD14 -> 0 | AH14: =AF14-AG14 -> 0 | AK14: =AI14-AJ14 -> 0 | AN14: =AL14-AM14 -> 0 | AQ14: =AO14-AP14 -> 0 | AT14: =AR14-AS14 -> 0 | AW14: =AU14-AV14 -> 0 | AZ14: =AX14-AY14 -> 0 | BC14: =BA14-BB14 -> 0 | BF14: =BD14-BE14 -> 0 | BI14: =BG14-BH14 -> 0 | BL14: =BJ14-BK14 -> 0 | BO14: =BM14-BN14 -> 0 | BR14: =BP14-BQ14 -> 0 | BU14: =BS14-BT14 -> 0 | BX14: =BV14-BW14 -> 0 | CA14: =BY14-BZ14 -> 0 | CD14: =CB14-CC14 -> 0 | CG14: =CE14-CF14 -> 0 | CJ14: =CH14-CI14 -> 0 | CM14: =CK14-CL14 -> 0 | CP14: =CN14-CO14 -> 0 | CS14: =CQ14-CR14 -> 0 | CV14: =CT14-CU14 -> 0 | CY14: =CW14-CX14 -> 0 | DB14: =CZ14-DA14 -> 0 | DE14: =DC14-DD14 -> 0 | DH14: =DF14-DG14 -> 0 | DK14: =DI14-DJ14 -> 0 | DN14: =DL14-DM14 -> 0 | DQ14: =DO14-DP14 -> 0
B15: 間接経費率 | D15: （上限額）／判定 | E15: 契約時の間接経費率を百分率（％）で入力して下さい→ | H15: ='①報告様式１別紙イ（年度末分） '!H15 -> 0 | I15: =MIN(H14,ROUNDDOWN(I13*H15,0)) -> 0 | J15: =IF(I14>I15,"ERR","") | K15: 契約時の間接経費率を百分率（％）で入力して下さい→ | N15: ='①報告様式１別紙イ（年度末分） '!N15 -> 0 | O15: =MIN(N14,ROUNDDOWN(O13*N15,0)) -> 0 | P15: =IF(O14>O15,"ERR","") | Q15: ='①報告様式１別紙イ（年度末分） '!Q15 -> 0 | R15: =MIN(Q14,ROUNDDOWN(R13*Q15,0)) -> 0 | S15: =IF(R14>R15,"ERR","") | T15: ='①報告様式１別紙イ（年度末分） '!T15 -> 0 | U15: =MIN(T14,ROUNDDOWN(U13*T15,0)) -> 0 | V15: =IF(U14>U15,"ERR","") | W15: ='①報告様式１別紙イ（年度末分） '!W15 -> 0 | X15: =MIN(W14,ROUNDDOWN(X13*W15,0)) -> 0 | Y15: =IF(X14>X15,"ERR","") | AA15: =MIN(Z14,ROUNDDOWN(AA13*Z15,0)) -> 0 | AB15: =IF(AA14>AA15,"ERR","") | AD15: =MIN(AC14,ROUNDDOWN(AD13*AC15,0)) -> 0 | AE15: =IF(AD14>AD15,"ERR","") | AG15: =MIN(AF14,ROUNDDOWN(AG13*AF15,0)) -> 0 | AH15: =IF(AG14>AG15,"ERR","") | AJ15: =MIN(AI14,ROUNDDOWN(AJ13*AI15,0)) -> 0 | AK15: =IF(AJ14>AJ15,"ERR","") | AM15: =MIN(AL14,ROUNDDOWN(AM13*AL15,0)) -> 0 | AN15: =IF(AM14>AM15,"ERR","") | AP15: =MIN(AO14,ROUNDDOWN(AP13*AO15,0)) -> 0 | AQ15: =IF(AP14>AP15,"ERR","") | AS15: =MIN(AR14,ROUNDDOWN(AS13*AR15,0)) -> 0 | AT15: =IF(AS14>AS15,"ERR","") | AV15: =MIN(AU14,ROUNDDOWN(AV13*AU15,0)) -> 0 | AW15: =IF(AV14>AV15,"ERR","") | AY15: =MIN(AX14,ROUNDDOWN(AY13*AX15,0)) -> 0 | AZ15: =IF(AY14>AY15,"ERR","") | BB15: =MIN(BA14,ROUNDDOWN(BB13*BA15,0)) -> 0 | BC15: =IF(BB14>BB15,"ERR","") | BE15: =MIN(BD14,ROUNDDOWN(BE13*BD15,0)) -> 0 | BF15: =IF(BE14>BE15,"ERR","") | BH15: =MIN(BG14,ROUNDDOWN(BH13*BG15,0)) -> 0 | BI15: =IF(BH14>BH15,"ERR","") | BK15: =MIN(BJ14,ROUNDDOWN(BK13*BJ15,0)) -> 0 | BL15: =IF(BK14>BK15,"ERR","") | BN15: =MIN(BM14,ROUNDDOWN(BN13*BM15,0)) -> 0 | BO15: =IF(BN14>BN15,"ERR","") | BQ15: =MIN(BP14,ROUNDDOWN(BQ13*BP15,0)) -> 0 | BR15: =IF(BQ14>BQ15,"ERR","") | BT15: =MIN(BS14,ROUNDDOWN(BT13*BS15,0)) -> 0 | BU15: =IF(BT14>BT15,"ERR","") | BW15: =MIN(BV14,ROUNDDOWN(BW13*BV15,0)) -> 0 | BX15: =IF(BW14>BW15,"ERR","") | BZ15: =MIN(BY14,ROUNDDOWN(BZ13*BY15,0)) -> 0 | CA15: =IF(BZ14>BZ15,"ERR","") | CC15: =MIN(CB14,ROUNDDOWN(CC13*CB15,0)) -> 0 | CD15: =IF(CC14>CC15,"ERR","") | CF15: =MIN(CE14,ROUNDDOWN(CF13*CE15,0)) -> 0 | CG15: =IF(CF14>CF15,"ERR","") | CI15: =MIN(CH14,ROUNDDOWN(CI13*CH15,0)) -> 0 | CJ15: =IF(CI14>CI15,"ERR","") | CL15: =MIN(CK14,ROUNDDOWN(CL13*CK15,0)) -> 0 | CM15: =IF(CL14>CL15,"ERR","") | CO15: =MIN(CN14,ROUNDDOWN(CO13*CN15,0)) -> 0 | CP15: =IF(CO14>CO15,"ERR","") | CR15: =MIN(CQ14,ROUNDDOWN(CR13*CQ15,0)) -> 0 | CS15: =IF(CR14>CR15,"ERR","") | CU15: =MIN(CT14,ROUNDDOWN(CU13*CT15,0)) -> 0 | CV15: =IF(CU14>CU15,"ERR","") | CX15: =MIN(CW14,ROUNDDOWN(CX13*CW15,0)) -> 0 | CY15: =IF(CX14>CX15,"ERR","") | DA15: =MIN(CZ14,ROUNDDOWN(DA13*CZ15,0)) -> 0 | DB15: =IF(DA14>DA15,"ERR","") | DD15: =MIN(DC14,ROUNDDOWN(DD13*DC15,0)) -> 0 | DE15: =IF(DD14>DD15,"ERR","") | DG15: =MIN(DF14,ROUNDDOWN(DG13*DF15,0)) -> 0 | DH15: =IF(DG14>DG15,"ERR","") | DJ15: =MIN(DI14,ROUNDDOWN(DJ13*DI15,0)) -> 0 | DK15: =IF(DJ14>DJ15,"ERR","") | DM15: =MIN(DL14,ROUNDDOWN(DM13*DL15,0)) -> 0 | DN15: =IF(DM14>DM15,"ERR","") | DP15: =MIN(DO14,ROUNDDOWN(DP13*DO15,0)) -> 0 | DQ15: =IF(DP14>DP15,"ERR","")
B16: 返還額 | G16: =SUM(J16,M16) -> 0 | J16: =IF(J13-H19>0,J13-H19,"0")+IF(J14-H20>0,J14-H20,"0")+J18 -> 0 | M16: =SUM(P16,S16,V16,Y16,AB16,AE16,AH16,AK16,AN16,AQ16,AT16,AW16,AZ16,BC16,BF16,BI16,BL16,BO16,BR16,BU16,BX16,CA16,CD16,CG16,CJ16,CM16,CP16,CS16,CV16,CY16,DB16,DE16,DH16,DK16,DN16,DQ16) -> 0 | P16: =IF(P13-N19>0,P13-N19,"0")+IF(P14-N20>0,P14-N20,"0")+P18 -> 0 | S16: =IF(S13-Q19>0,S13-Q19,"0")+IF(S14-Q20>0,S14-Q20,"0")+S18 -> 0 | V16: =IF(V13-T19>0,V13-T19,"0")+IF(V14-T20>0,V14-T20,"0")+V18 -> 0 | Y16: =IF(Y13-W19>0,Y13-W19,"0")+IF(Y14-W20>0,Y14-W20,"0")+Y18 -> 0 | AB16: =IF(AB13-Z19>0,AB13-Z19,"0")+IF(AB14-Z20>0,AB14-Z20,"0")+AB18 -> 0 | AE16: =IF(AE13-AC19>0,AE13-AC19,"0")+IF(AE14-AC20>0,AE14-AC20,"0")+AE18 -> 0 | AH16: =IF(AH13-AF19>0,AH13-AF19,"0")+IF(AH14-AF20>0,AH14-AF20,"0")+AH18 -> 0 | AK16: =IF(AK13-AI19>0,AK13-AI19,"0")+IF(AK14-AI20>0,AK14-AI20,"0")+AK18 -> 0 | AN16: =IF(AN13-AL19>0,AN13-AL19,"0")+IF(AN14-AL20>0,AN14-AL20,"0")+AN18 -> 0 | AQ16: =IF(AQ13-AO19>0,AQ13-AO19,"0")+IF(AQ14-AO20>0,AQ14-AO20,"0")+AQ18 -> 0 | AT16: =IF(AT13-AR19>0,AT13-AR19,"0")+IF(AT14-AR20>0,AT14-AR20,"0")+AT18 -> 0 | AW16: =IF(AW13-AU19>0,AW13-AU19,"0")+IF(AW14-AU20>0,AW14-AU20,"0")+AW18 -> 0 | AZ16: =IF(AZ13-AX19>0,AZ13-AX19,"0")+IF(AZ14-AX20>0,AZ14-AX20,"0")+AZ18 -> 0 | BC16: =IF(BC13-BA19>0,BC13-BA19,"0")+IF(BC14-BA20>0,BC14-BA20,"0")+BC18 -> 0 | BF16: =IF(BF13-BD19>0,BF13-BD19,"0")+IF(BF14-BD20>0,BF14-BD20,"0")+BF18 -> 0 | BI16: =IF(BI13-BG19>0,BI13-BG19,"0")+IF(BI14-BG20>0,BI14-BG20,"0")+BI18 -> 0 | BL16: =IF(BL13-BJ19>0,BL13-BJ19,"0")+IF(BL14-BJ20>0,BL14-BJ20,"0")+BL18 -> 0 | BO16: =IF(BO13-BM19>0,BO13-BM19,"0")+IF(BO14-BM20>0,BO14-BM20,"0")+BO18 -> 0 | BR16: =IF(BR13-BP19>0,BR13-BP19,"0")+IF(BR14-BP20>0,BR14-BP20,"0")+BR18 -> 0 | BU16: =IF(BU13-BS19>0,BU13-BS19,"0")+IF(BU14-BS20>0,BU14-BS20,"0")+BU18 -> 0 | BX16: =IF(BX13-BV19>0,BX13-BV19,"0")+IF(BX14-BV20>0,BX14-BV20,"0")+BX18 -> 0 | CA16: =IF(CA13-BY19>0,CA13-BY19,"0")+IF(CA14-BY20>0,CA14-BY20,"0")+CA18 -> 0 | CD16: =IF(CD13-CB19>0,CD13-CB19,"0")+IF(CD14-CB20>0,CD14-CB20,"0")+CD18 -> 0 | CG16: =IF(CG13-CE19>0,CG13-CE19,"0")+IF(CG14-CE20>0,CG14-CE20,"0")+CG18 -> 0 | CJ16: =IF(CJ13-CH19>0,CJ13-CH19,"0")+IF(CJ14-CH20>0,CJ14-CH20,"0")+CJ18 -> 0 | CM16: =IF(CM13-CK19>0,CM13-CK19,"0")+IF(CM14-CK20>0,CM14-CK20,"0")+CM18 -> 0 | CP16: =IF(CP13-CN19>0,CP13-CN19,"0")+IF(CP14-CN20>0,CP14-CN20,"0")+CP18 -> 0 | CS16: =IF(CS13-CQ19>0,CS13-CQ19,"0")+IF(CS14-CQ20>0,CS14-CQ20,"0")+CS18 -> 0 | CV16: =IF(CV13-CT19>0,CV13-CT19,"0")+IF(CV14-CT20>0,CV14-CT20,"0")+CV18 -> 0 | CY16: =IF(CY13-CW19>0,CY13-CW19,"0")+IF(CY14-CW20>0,CY14-CW20,"0")+CY18 -> 0 | DB16: =IF(DB13-CZ19>0,DB13-CZ19,"0")+IF(DB14-CZ20>0,DB14-CZ20,"0")+DB18 -> 0 | DE16: =IF(DE13-DC19>0,DE13-DC19,"0")+IF(DE14-DC20>0,DE14-DC20,"0")+DE18 -> 0 | DH16: =IF(DH13-DF19>0,DH13-DF19,"0")+IF(DH14-DF20>0,DH14-DF20,"0")+DH18 -> 0 | DK16: =IF(DK13-DI19>0,DK13-DI19,"0")+IF(DK14-DI20>0,DK14-DI20,"0")+DK18 -> 0 | DN16: =IF(DN13-DL19>0,DN13-DL19,"0")+IF(DN14-DL20>0,DN14-DL20,"0")+DN18 -> 0 | DQ16: =IF(DQ13-DO19>0,DQ13-DO19,"0")+IF(DQ14-DO20>0,DQ14-DO20,"0")+DQ18 -> 0
B17: 自己充当額 | G17: =SUM(J17,M17) -> 0 | J17: =IF(J13-H19<0,J13-H19,"0")+IF(J14-H20<0,J14-H20,"0") -> 0 | M17: =SUM(P17,S17,V17,Y17,AB17,AE17,AH17,AK17,AN17,AQ17,AT17,AW17,AZ17,BC17,BF17,BI17,BL17,BO17,BR17,BU17,BX17,CA17,CD17,CG17,CJ17,CM17,CP17,CS17,CV17,CY17,DB17,DE17,DH17,DK17,DN17,DQ17) -> 0 | P17: =IF(P13-N19<0,P13-N19,"0")+IF(P14-N20<0,P14-N20,"0") -> 0 | S17: =IF(S13-Q19<0,S13-Q19,"0")+IF(S14-Q20<0,S14-Q20,"0") -> 0 | V17: =IF(V13-T19<0,V13-T19,"0")+IF(V14-T20<0,V14-T20,"0") -> 0 | Y17: =IF(Y13-W19<0,Y13-W19,"0")+IF(Y14-W20<0,Y14-W20,"0") -> 0 | AB17: =IF(AB13-Z19<0,AB13-Z19,"0")+IF(AB14-Z20<0,AB14-Z20,"0") -> 0 | AE17: =IF(AE13-AC19<0,AE13-AC19,"0")+IF(AE14-AC20<0,AE14-AC20,"0") -> 0 | AH17: =IF(AH13-AF19<0,AH13-AF19,"0")+IF(AH14-AF20<0,AH14-AF20,"0") -> 0 | AK17: =IF(AK13-AI19<0,AK13-AI19,"0")+IF(AK14-AI20<0,AK14-AI20,"0") -> 0 | AN17: =IF(AN13-AL19<0,AN13-AL19,"0")+IF(AN14-AL20<0,AN14-AL20,"0") -> 0 | AQ17: =IF(AQ13-AO19<0,AQ13-AO19,"0")+IF(AQ14-AO20<0,AQ14-AO20,"0") -> 0 | AT17: =IF(AT13-AR19<0,AT13-AR19,"0")+IF(AT14-AR20<0,AT14-AR20,"0") -> 0 | AW17: =IF(AW13-AU19<0,AW13-AU19,"0")+IF(AW14-AU20<0,AW14-AU20,"0") -> 0 | AZ17: =IF(AZ13-AX19<0,AZ13-AX19,"0")+IF(AZ14-AX20<0,AZ14-AX20,"0") -> 0 | BC17: =IF(BC13-BA19<0,BC13-BA19,"0")+IF(BC14-BA20<0,BC14-BA20,"0") -> 0 | BF17: =IF(BF13-BD19<0,BF13-BD19,"0")+IF(BF14-BD20<0,BF14-BD20,"0") -> 0 | BI17: =IF(BI13-BG19<0,BI13-BG19,"0")+IF(BI14-BG20<0,BI14-BG20,"0") -> 0 | BL17: =IF(BL13-BJ19<0,BL13-BJ19,"0")+IF(BL14-BJ20<0,BL14-BJ20,"0") -> 0 | BO17: =IF(BO13-BM19<0,BO13-BM19,"0")+IF(BO14-BM20<0,BO14-BM20,"0") -> 0 | BR17: =IF(BR13-BP19<0,BR13-BP19,"0")+IF(BR14-BP20<0,BR14-BP20,"0") -> 0 | BU17: =IF(BU13-BS19<0,BU13-BS19,"0")+IF(BU14-BS20<0,BU14-BS20,"0") -> 0 | BX17: =IF(BX13-BV19<0,BX13-BV19,"0")+IF(BX14-BV20<0,BX14-BV20,"0") -> 0 | CA17: =IF(CA13-BY19<0,CA13-BY19,"0")+IF(CA14-BY20<0,CA14-BY20,"0") -> 0 | CD17: =IF(CD13-CB19<0,CD13-CB19,"0")+IF(CD14-CB20<0,CD14-CB20,"0") -> 0 | CG17: =IF(CG13-CE19<0,CG13-CE19,"0")+IF(CG14-CE20<0,CG14-CE20,"0") -> 0 | CJ17: =IF(CJ13-CH19<0,CJ13-CH19,"0")+IF(CJ14-CH20<0,CJ14-CH20,"0") -> 0 | CM17: =IF(CM13-CK19<0,CM13-CK19,"0")+IF(CM14-CK20<0,CM14-CK20,"0") -> 0 | CP17: =IF(CP13-CN19<0,CP13-CN19,"0")+IF(CP14-CN20<0,CP14-CN20,"0") -> 0 | CS17: =IF(CS13-CQ19<0,CS13-CQ19,"0")+IF(CS14-CQ20<0,CS14-CQ20,"0") -> 0 | CV17: =IF(CV13-CT19<0,CV13-CT19,"0")+IF(CV14-CT20<0,CV14-CT20,"0") -> 0 | CY17: =IF(CY13-CW19<0,CY13-CW19,"0")+IF(CY14-CW20<0,CY14-CW20,"0") -> 0 | DB17: =IF(DB13-CZ19<0,DB13-CZ19,"0")+IF(DB14-CZ20<0,DB14-CZ20,"0") -> 0 | DE17: =IF(DE13-DC19<0,DE13-DC19,"0")+IF(DE14-DC20<0,DE14-DC20,"0") -> 0 | DH17: =IF(DH13-DF19<0,DH13-DF19,"0")+IF(DH14-DF20<0,DH14-DF20,"0") -> 0 | DK17: =IF(DK13-DI19<0,DK13-DI19,"0")+IF(DK14-DI20<0,DK14-DI20,"0") -> 0 | DN17: =IF(DN13-DL19<0,DN13-DL19,"0")+IF(DN14-DL20<0,DN14-DL20,"0") -> 0 | DQ17: =IF(DQ13-DO19<0,DQ13-DO19,"0")+IF(DQ14-DO20<0,DQ14-DO20,"0") -> 0
B18: その他（収入） | G18: =J18+M18 -> 0 | M18: =SUM(P18,S18,V18,Y18,AB18,AE18,AH18,AK18,AN18,AQ18,AT18,AW18,AZ18,BC18,BF18,BI18,BL18,BO18,BR18,BU18,BX18,CA18,CD18,CG18,CJ18,CM18,CP18,CS18,CV18,CY18,DB18,DE18,DH18,DK18,DN18,DQ18) -> 0
B19: 繰越額 | D19: 直接経費
D20: 間接経費
D21: 合計
B22: 差引 | E22: =G8-G16-G17-E21+G18 -> 0 | H22: =J8-J16-J17-H21+J18 -> 0 | K22: =M8-M16-M17-K21+M18 -> 0 | N22: =P8-P16-P17-N21+P18 -> 0 | Q22: =S8-S16-S17-Q21+S18 -> 0 | T22: =V8-V16-V17-T21+V18 -> 0 | W22: =Y8-Y16-Y17-W21+Y18 -> 0 | Z22: =AB8-AB16-AB17-Z21+AB18 -> 0 | AC22: =AE8-AE16-AE17-AC21+AE18 -> 0 | AF22: =AH8-AH16-AH17-AF21+AH18 -> 0 | AI22: =AK8-AK16-AK17-AI21+AK18 -> 0 | AL22: =AN8-AN16-AN17-AL21+AN18 -> 0 | AO22: =AQ8-AQ16-AQ17-AO21+AQ18 -> 0 | AR22: =AT8-AT16-AT17-AR21+AT18 -> 0 | AU22: =AW8-AW16-AW17-AU21+AW18 -> 0 | AX22: =AZ8-AZ16-AZ17-AX21+AZ18 -> 0 | BA22: =BC8-BC16-BC17-BA21+BC18 -> 0 | BD22: =BF8-BF16-BF17-BD21+BF18 -> 0 | BG22: =BI8-BI16-BI17-BG21+BI18 -> 0 | BJ22: =BL8-BL16-BL17-BJ21+BL18 -> 0 | BM22: =BO8-BO16-BO17-BM21+BO18 -> 0 | BP22: =BR8-BR16-BR17-BP21+BR18 -> 0 | BS22: =BU8-BU16-BU17-BS21+BU18 -> 0 | BV22: =BX8-BX16-BX17-BV21+BX18 -> 0 | BY22: =CA8-CA16-CA17-BY21+CA18 -> 0 | CB22: =CD8-CD16-CD17-CB21+CD18 -> 0 | CE22: =CG8-CG16-CG17-CE21+CG18 -> 0 | CH22: =CJ8-CJ16-CJ17-CH21+CJ18 -> 0 | CK22: =CM8-CM16-CM17-CK21+CM18 -> 0 | CN22: =CP8-CP16-CP17-CN21+CP18 -> 0 | CQ22: =CS8-CS16-CS17-CQ21+CS18 -> 0 | CT22: =CV8-CV16-CV17-CT21+CV18 -> 0 | CW22: =CY8-CY16-CY17-CW21+CY18 -> 0 | CZ22: =DB8-DB16-DB17-CZ21+DB18 -> 0 | DC22: =DE8-DE16-DE17-DC21+DE18 -> 0 | DF22: =DH8-DH16-DH17-DF21+DH18 -> 0 | DI22: =DK8-DK16-DK17-DI21+DK18 -> 0 | DL22: =DN8-DN16-DN17-DL21+DN18 -> 0 | DO22: =DQ8-DQ16-DQ17-DO21+DQ18 -> 0
B23: 不課税消費税相当額等の取扱 | H23: ='①報告様式１別紙イ（年度末分） '!H23:J23 -> プルダウンから選択してください | N23: ='①報告様式１別紙イ（年度末分） '!N23:P23 -> プルダウンから選択してください | Q23: ='①報告様式１別紙イ（年度末分） '!Q23:S23 -> プルダウンから選択してください | T23: ='①報告様式１別紙イ（年度末分） '!T23:V23 -> プルダウンから選択してください | W23: ='①報告様式１別紙イ（年度末分） '!W23:Y23 -> プルダウンから選択してください | Z23: ='①報告様式１別紙イ（年度末分） '!Z23:AB23 -> プルダウンから選択してください | AC23: ='①報告様式１別紙イ（年度末分） '!AC23:AE23 -> プルダウンから選択してください | AF23: ='①報告様式１別紙イ（年度末分） '!AF23:AH23 -> プルダウンから選択してください | AI23: ='①報告様式１別紙イ（年度末分） '!AI23:AK23 -> プルダウンから選択してください | AL23: ='①報告様式１別紙イ（年度末分） '!AL23:AN23 -> プルダウンから選択してください | AO23: ='①報告様式１別紙イ（年度末分） '!AO23:AQ23 -> プルダウンから選択してください | AR23: ='①報告様式１別紙イ（年度末分） '!AR23:AT23 -> プルダウンから選択してください | AU23: ='①報告様式１別紙イ（年度末分） '!AU23:AW23 -> プルダウンから選択してください | AX23: ='①報告様式１別紙イ（年度末分） '!AX23:AZ23 -> プルダウンから選択してください | BA23: ='①報告様式１別紙イ（年度末分） '!BA23:BC23 -> プルダウンから選択してください | BD23: ='①報告様式１別紙イ（年度末分） '!BD23:BF23 -> プルダウンから選択してください | BG23: ='①報告様式１別紙イ（年度末分） '!BG23:BI23 -> プルダウンから選択してください | BJ23: ='①報告様式１別紙イ（年度末分） '!BJ23:BL23 -> プルダウンから選択してください | BM23: ='①報告様式１別紙イ（年度末分） '!BM23:BO23 -> プルダウンから選択してください | BP23: ='①報告様式１別紙イ（年度末分） '!BP23:BR23 -> プルダウンから選択してください | BS23: ='①報告様式１別紙イ（年度末分） '!BS23:BU23 -> プルダウンから選択してください | BV23: ='①報告様式１別紙イ（年度末分） '!BV23:BX23 -> プルダウンから選択してください | BY23: ='①報告様式１別紙イ（年度末分） '!BY23:CA23 -> プルダウンから選択してください | CB23: ='①報告様式１別紙イ（年度末分） '!CB23:CD23 -> プルダウンから選択してください | CE23: ='①報告様式１別紙イ（年度末分） '!CE23:CG23 -> プルダウンから選択してください | CH23: ='①報告様式１別紙イ（年度末分） '!CH23:CJ23 -> プルダウンから選択してください | CK23: ='①報告様式１別紙イ（年度末分） '!CK23:CM23 -> プルダウンから選択してください | CN23: ='①報告様式１別紙イ（年度末分） '!CN23:CP23 -> プルダウンから選択してください | CQ23: ='①報告様式１別紙イ（年度末分） '!CQ23:CS23 -> プルダウンから選択してください | CT23: ='①報告様式１別紙イ（年度末分） '!CT23:CV23 -> プルダウンから選択してください | CW23: ='①報告様式１別紙イ（年度末分） '!CW23:CY23 -> プルダウンから選択してください | CZ23: ='①報告様式１別紙イ（年度末分） '!CZ23:DB23 -> プルダウンから選択してください | DC23: ='①報告様式１別紙イ（年度末分） '!DC23:DE23 -> プルダウンから選択してください | DF23: ='①報告様式１別紙イ（年度末分） '!DF23:DH23 -> プルダウンから選択してください | DI23: ='①報告様式１別紙イ（年度末分） '!DI23:DK23 -> プルダウンから選択してください | DL23: ='①報告様式１別紙イ（年度末分） '!DL23:DN23 -> プルダウンから選択してください | DO23: ='①報告様式１別紙イ（年度末分） '!DO23:DQ23 -> プルダウンから選択してください
B24: 備考欄

Sheet 報告様式１別紙イ（年度末分＋繰越期間分）
B1: （ 報告様式1別紙イ ） | E1: 年度末分＋繰越期間分
B2: 収支決算報告書
I3: 研究者番号 | J3: 研究機関番号 | O3: 研究者番号 | P3: 研究機関番号 | R3: 研究者番号 | S3: 研究機関番号 | U3: 研究者番号 | V3: 研究機関番号 | X3: 研究者番号 | Y3: 研究機関番号 | AA3: 研究者番号 | AB3: 研究機関番号 | AD3: 研究者番号 | AE3: 研究機関番号 | AG3: 研究者番号 | AH3: 研究機関番号 | AJ3: 研究者番号 | AK3: 研究機関番号 | AM3: 研究者番号 | AN3: 研究機関番号 | AP3: 研究者番号 | AQ3: 研究機関番号 | AS3: 研究者番号 | AT3: 研究機関番号 | AV3: 研究者番号 | AW3: 研究機関番号 | AY3: 研究者番号 | AZ3: 研究機関番号 | BB3: 研究者番号 | BC3: 研究機関番号 | BE3: 研究者番号 | BF3: 研究機関番号 | BH3: 研究者番号 | BI3: 研究機関番号 | BK3: 研究者番号 | BL3: 研究機関番号 | BN3: 研究者番号 | BO3: 研究機関番号 | BQ3: 研究者番号 | BR3: 研究機関番号 | BT3: 研究者番号 | BU3: 研究機関番号 | BW3: 研究者番号 | BX3: 研究機関番号 | BZ3: 研究者番号 | CA3: 研究機関番号 | CC3: 研究者番号 | CD3: 研究機関番号 | CF3: 研究者番号 | CG3: 研究機関番号 | CI3: 研究者番号 | CJ3: 研究機関番号 | CL3: 研究者番号 | CM3: 研究機関番号 | CO3: 研究者番号 | CP3: 研究機関番号 | CR3: 研究者番号 | CS3: 研究機関番号 | CU3: 研究者番号 | CV3: 研究機関番号 | CX3: 研究者番号 | CY3: 研究機関番号 | DA3: 研究者番号 | DB3: 研究機関番号 | DD3: 研究者番号 | DE3: 研究機関番号 | DG3: 研究者番号 | DH3: 研究機関番号 | DJ3: 研究者番号 | DK3: 研究機関番号 | DM3: 研究者番号 | DN3: 研究機関番号 | DP3: 研究者番号 | DQ3: 研究機関番号
B4: 契約番号 | D4: ='①報告様式１別紙イ（年度末分） '!D4 -> （例）SIP2023A1 | E4: 課題ID（e-Rad） | F4: ='①報告様式１別紙イ（年度末分） '!F4 -> 0 | I4: ='①報告様式１別紙イ（年度末分） '!I4 -> 0 | J4: ='①報告様式１別紙イ（年度末分） '!J4 -> 0 | M4: （単位：円） | O4: ='①報告様式１別紙イ（年度末分） '!O4 -> 0 | P4: ='①報告様式１別紙イ（年度末分） '!P4 -> 0 | R4: ='①報告様式１別紙イ（年度末分） '!R4 -> 0 | S4: ='①報告様式１別紙イ（年度末分） '!S4 -> 0 | U4: ='①報告様式１別紙イ（年度末分） '!U4 -> 0 | V4: ='①報告様式１別紙イ（年度末分） '!V4 -> 0 | X4: ='①報告様式１別紙イ（年度末分） '!X4 -> 0 | Y4: ='①報告様式１別紙イ（年度末分） '!Y4 -> 0 | AA4: ='①報告様式１別紙イ（年度末分） '!AA4 -> 0 | AB4: ='①報告様式１別紙イ（年度末分） '!AB4 -> 0 | AD4: ='①報告様式１別紙イ（年度末分） '!AD4 -> 0 | AE4: ='①報告様式１別紙イ（年度末分） '!AE4 -> 0 | AG4: ='①報告様式１別紙イ（年度末分） '!AG4 -> 0 | AH4: ='①報告様式１別紙イ（年度末分） '!AH4 -> 0 | AJ4: ='①報告様式１別紙イ（年度末分） '!AJ4 -> 0 | AK4: ='①報告様式１別紙イ（年度末分） '!AK4 -> 0 | AM4: ='①報告様式１別紙イ（年度末分） '!AM4 -> 0 | AN4: ='①報告様式１別紙イ（年度末分） '!AN4 -> 0 | AP4: ='①報告様式１別紙イ（年度末分） '!AP4 -> 0 | AQ4: ='①報告様式１別紙イ（年度末分） '!AQ4 -> 0 | AS4: ='①報告様式１別紙イ（年度末分） '!AS4 -> 0 | AT4: ='①報告様式１別紙イ（年度末分） '!AT4 -> 0 | AV4: ='①報告様式１別紙イ（年度末分） '!AV4 -> 0 | AW4: ='①報告様式１別紙イ（年度末分） '!AW4 -> 0 | AY4: ='①報告様式１別紙イ（年度末分） '!AY4 -> 0 | AZ4: ='①報告様式１別紙イ（年度末分） '!AZ4 -> 0 | BB4: ='①報告様式１別紙イ（年度末分） '!BB4 -> 0 | BC4: ='①報告様式１別紙イ（年度末分） '!BC4 -> 0 | BE4: ='①報告様式１別紙イ（年度末分） '!BE4 -> 0 | BF4: ='①報告様式１別紙イ（年度末分） '!BF4 -> 0 | BH4: ='①報告様式１別紙イ（年度末分） '!BH4 -> 0 | BI4: ='①報告様式１別紙イ（年度末分） '!BI4 -> 0 | BK4: ='①報告様式１別紙イ（年度末分） '!BK4 -> 0 | BL4: ='①報告様式１別紙イ（年度末分） '!BL4 -> 0 | BN4: ='①報告様式１別紙イ（年度末分） '!BN4 -> 0 | BO4: ='①報告様式１別紙イ（年度末分） '!BO4 -> 0 | BQ4: ='①報告様式１別紙イ（年度末分） '!BQ4 -> 0 | BR4: ='①報告様式１別紙イ（年度末分） '!BR4 -> 0 | BT4: ='①報告様式１別紙イ（年度末分） '!BT4 -> 0 | BU4: ='①報告様式１別紙イ（年度末分） '!BU4 -> 0 | BW4: ='①報告様式１別紙イ（年度末分） '!BW4 -> 0 | BX4: ='①報告様式１別紙イ（年度末分） '!BX4 -> 0 | BZ4: ='①報告様式１別紙イ（年度末分） '!BZ4 -> 0 | CA4: ='①報告様式１別紙イ（年度末分） '!CA4 -> 0 | CC4: ='①報告様式１別紙イ（年度末分） '!CC4 -> 0 | CD4: ='①報告様式１別紙イ（年度末分） '!CD4 -> 0 | CF4: ='①報告様式１別紙イ（年度末分） '!CF4 -> 0 | CG4: ='①報告様式１別紙イ（年度末分） '!CG4 -> 0 | CI4: ='①報告様式１別紙イ（年度末分） '!CI4 -> 0 | CJ4: ='①報告様式１別紙イ（年度末分） '!CJ4 -> 0 | CL4: ='①報告様式１別紙イ（年度末分） '!CL4 -> 0 | CM4: ='①報告様式１別紙イ（年度末分） '!CM4 -> 0 | CO4: ='①報告様式１別紙イ（年度末分） '!CO4 -> 0 | CP4: ='①報告様式１別紙イ（年度末分） '!CP4 -> 0 | CR4: ='①報告様式１別紙イ（年度末分） '!CR4 -> 0 | CS4: ='①報告様式１別紙イ（年度末分） '!CS4 -> 0 | CU4: ='①報告様式１別紙イ（年度末分） '!CU4 -> 0 | CV4: ='①報告様式１別紙イ（年度末分） '!CV4 -> 0 | CX4: ='①報告様式１別紙イ（年度末分） '!CX4 -> 0 | CY4: ='①報告様式１別紙イ（年度末分） '!CY4 -> 0 | DA4: ='①報告様式１別紙イ（年度末分） '!DA4 -> 0 | DB4: ='①報告様式１別紙イ（年度末分） '!DB4 -> 0 | DD4: ='①報告様式１別紙イ（年度末分） '!DD4 -> 0 | DE4: ='①報告様式１別紙イ（年度末分） '!DE4 -> 0 | DG4: ='①報告様式１別紙イ（年度末分） '!DG4 -> 0 | DH4: ='①報告様式１別紙イ（年度末分） '!DH4 -> 0 | DJ4: ='①報告様式１別紙イ（年度末分） '!DJ4 -> 0 | DK4: ='①報告様式１別紙イ（年度末分） '!DK4 -> 0 | DM4: ='①報告様式１別紙イ（年度末分） '!DM4 -> 0 | DN4: ='①報告様式１別紙イ（年度末分） '!DN4 -> 0 | DP4: ='①報告様式１別紙イ（年度末分） '!DP4 -> 0 | DQ4: ='①報告様式１別紙イ（年度末分） '!DQ4 -> 0
B5: 委託種別 | E5: 総額 | H5: 直接契約分（研究開発代表機関） | K5: 再委託費合計 | N5: 再委託1 | Q5: 再委託2 | T5: 再委託3 | W5: 再委託4 | Z5: 再委託5 | AC5: 再委託6 | AF5: 再委託7 | AI5: 再委託8 | AL5: 再委託9 | AO5: 再委託10 | AR5: 再委託11 | AU5: 再委託12 | AX5: 再委託13 | BA5: 再委託14 | BD5: 再委託15 | BG5: 再委託16 | BJ5: 再委託17 | BM5: 再委託18 | BP5: 再委託19 | BS5: 再委託20 | BV5: 再委託21 | BY5: 再委託22 | CB5: 再委託23 | CE5: 再委託24 | CH5: 再委託25 | CK5: 再委託26 | CN5: 再委託27 | CQ5: 再委託28 | CT5: 再委託29 | CW5: 再委託30 | CZ5: 再委託31 | DC5: 再委託32 | DF5: 再委託33 | DI5: 再委託34 | DL5: 再委託35 | DO5: 再委託36
B6: 機関名 | H6: ='①報告様式１別紙イ（年度末分） '!H6:J6 -> 0 | N6: ='①報告様式１別紙イ（年度末分） '!N6:P6 -> 0 | Q6: ='①報告様式１別紙イ（年度末分） '!Q6:S6 -> 0 | T6: ='①報告様式１別紙イ（年度末分） '!T6:V6 -> 0 | W6: ='①報告様式１別紙イ（年度末分） '!W6:Y6 -> 0 | Z6: ='①報告様式１別紙イ（年度末分） '!Z6:AB6 -> 0 | AC6: ='①報告様式１別紙イ（年度末分） '!AC6:AE6 -> 0 | AF6: ='①報告様式１別紙イ（年度末分） '!AF6:AH6 -> 0 | AI6: ='①報告様式１別紙イ（年度末分） '!AI6:AK6 -> 0 | AL6: ='①報告様式１別紙イ（年度末分） '!AL6:AN6 -> 0 | AO6: ='①報告様式１別紙イ（年度末分） '!AO6:AQ6 -> 0 | AR6: ='①報告様式１別紙イ（年度末分） '!AR6:AT6 -> 0 | AU6: ='①報告様式１別紙イ（年度末分） '!AU6:AW6 -> 0 | AX6: ='①報告様式１別紙イ（年度末分） '!AX6:AZ6 -> 0 | BA6: ='①報告様式１別紙イ（年度末分） '!BA6:BC6 -> 0 | BD6: ='①報告様式１別紙イ（年度末分） '!BD6:BF6 -> 0 | BG6: ='①報告様式１別紙イ（年度末分） '!BG6:BI6 -> 0 | BJ6: ='①報告様式１別紙イ（年度末分） '!BJ6:BL6 -> 0 | BM6: ='①報告様式１別紙イ（年度末分） '!BM6:BO6 -> 0 | BP6: ='①報告様式１別紙イ（年度末分） '!BP6:BR6 -> 0 | BS6: ='①報告様式１別紙イ（年度末分） '!BS6:BU6 -> 0 | BV6: ='①報告様式１別紙イ（年度末分） '!BV6:BX6 -> 0 | BY6: ='①報告様式１別紙イ（年度末分） '!BY6:CA6 -> 0 | CB6: ='①報告様式１別紙イ（年度末分） '!CB6:CD6 -> 0 | CE6: ='①報告様式１別紙イ（年度末分） '!CE6:CG6 -> 0 | CH6: ='①報告様式１別紙イ（年度末分） '!CH6:CJ6 -> 0 | CK6: ='①報告様式１別紙イ（年度末分） '!CK6:CM6 -> 0 | CN6: ='①報告様式１別紙イ（年度末分） '!CN6:CP6 -> 0 | CQ6: ='①報告様式１別紙イ（年度末分） '!CQ6:CS6 -> 0 | CT6: ='①報告様式１別紙イ（年度末分） '!CT6:CV6 -> 0 | CW6: ='①報告様式１別紙イ（年度末分） '!CW6:CY6 -> 0 | CZ6: ='①報告様式１別紙イ（年度末分） '!CZ6:DB6 -> 0 | DC6: ='①報告様式１別紙イ（年度末分） '!DC6:DE6 -> 0 | DF6: ='①報告様式１別紙イ（年度末分） '!DF6:DH6 -> 0 | DI6: ='①報告様式１別紙イ（年度末分） '!DI6:DK6 -> 0 | DL6: ='①報告様式１別紙イ（年度末分） '!DL6:DN6 -> 0 | DO6: ='①報告様式１別紙イ（年度末分） '!DO6:DQ6 -> 0
E7: 契約額 | F7: 支出額 | G7: 差引額 | H7: 契約額 | I7: 支出額 | J7: 差額 | K7: 契約額 | L7: 支出額 | M7: 差額 | N7: 契約額 | O7: 支出額 | P7: 差額 | Q7: 契約額 | R7: 支出額 | S7: 差額 | T7: 契約額 | U7: 支出額 | V7: 差額 | W7: 契約額 | X7: 支出額 | Y7: 差額 | Z7: 契約額 | AA7: 支出額 | AB7: 差額 | AC7: 契約額 | AD7: 支出額 | AE7: 差額 | AF7: 契約額 | AG7: 支出額 | AH7: 差額 | AI7: 契約額 | AJ7: 支出額 | AK7: 差額 | AL7: 契約額 | AM7: 支出額 | AN7: 差額 | AO7: 契約額 | AP7: 支出額 | AQ7: 差額 | AR7: 契約額 | AS7: 支出額 | AT7: 差額 | AU7: 契約額 | AV7: 支出額 | AW7: 差額 | AX7: 契約額 | AY7: 支出額 | AZ7: 差額 | BA7: 契約額 | BB7: 支出額 | BC7: 差額 | BD7: 契約額 | BE7: 支出額 | BF7: 差額 | BG7: 契約額 | BH7: 支出額 | BI7: 差額 | BJ7: 契約額 | BK7: 支出額 | BL7: 差額 | BM7: 契約額 | BN7: 支出額 | BO7: 差額 | BP7: 契約額 | BQ7: 支出額 | BR7: 差額 | BS7: 契約額 | BT7: 支出額 | BU7: 差額 | BV7: 契約額 | BW7: 支出額 | BX7: 差額 | BY7: 契約額 | BZ7: 支出額 | CA7: 差額 | CB7: 契約額 | CC7: 支出額 | CD7: 差額 | CE7: 契約額 | CF7: 支出額 | CG7: 差額 | CH7: 契約額 | CI7: 支出額 | CJ7: 差額 | CK7: 契約額 | CL7: 支出額 | CM7: 差額 | CN7: 契約額 | CO7: 支出額 | CP7: 差額 | CQ7: 契約額 | CR7: 支出額 | CS7: 差額 | CT7: 契約額 | CU7: 支出額 | CV7: 差額 | CW7: 契約額 | CX7: 支出額 | CY7: 差額 | CZ7: 契約額 | DA7: 支出額 | DB7: 差額 | DC7: 契約額 | DD7: 支出額 | DE7: 差額 | DF7: 契約額 | DG7: 支出額 | DH7: 差額 | DI7: 契約額 | DJ7: 支出額 | DK7: 差額 | DL7: 契約額 | DM7: 支出額 | DN7: 差額 | DO7: 契約額 | DP7: 支出額 | DQ7: 差額
B8: 総額（A＋B） | E8: =SUM(H8,K8) -> 0 | F8: =SUM(I8,L8) -> 0 | G8: =SUM(J8,M8) -> 0 | H8: =SUM(H13,H14) -> 0 | I8: =SUM(I13,I14) -> 0 | J8: =H8-I8 -> 0 | K8: =SUM(N8,Q8,T8,W8,Z8,AC8,AF8,AI8,AL8,AO8,AR8,AU8,AX8,BA8,BD8,BG8,BJ8,BM8,BP8,BS8,BV8,BY8,CB8,CE8,CH8,CK8,CN8,CQ8,CT8,CW8,CZ8,DC8,DF8,DI8,DL8,DO8) -> 0 | L8: =SUM(O8,R8,U8,X8,AA8,AD8,AG8,AJ8,AM8,AP8,AS8,AV8,AY8,BB8,BE8,BH8,BK8,BN8,BQ8,BT8,BW8,BZ8,CC8,CF8,CI8,CL8,CO8,CR8,CU8,CX8,DA8,DD8,DG8,DJ8,DM8,DP8) -> 0 | M8: =SUM(P8,S8,V8,Y8,AB8,AE8,AH8,AK8,AN8,AQ8,AT8,AW8,AZ8,BC8,BF8,BI8,BL8,BO8,BR8,BU8,BX8,CA8,CD8,CG8,CJ8,CM8,CP8,CS8,CV8,CY8,DB8,DE8,DH8,DK8,DN8,DQ8) -> 0 | N8: =SUM(N13,N14) -> 0 | O8: =SUM(O13,O14) -> 0 | P8: =N8-O8 -> 0 | Q8: =SUM(Q13,Q14) -> 0 | R8: =SUM(R13,R14) -> 0 | S8: =Q8-R8 -> 0 | T8: =SUM(T13,T14) -> 0 | U8: =SUM(U13,U14) -> 0 | V8: =T8-U8 -> 0 | W8: =SUM(W13,W14) -> 0 | X8: =SUM(X13,X14) -> 0 | Y8: =W8-X8 -> 0 | Z8: =SUM(Z13,Z14) -> 0 | AA8: =SUM(AA13,AA14) -> 0 | AB8: =Z8-AA8 -> 0 | AC8: =SUM(AC13,AC14) -> 0 | AD8: =SUM(AD13,AD14) -> 0 | AE8: =AC8-AD8 -> 0 | AF8: =SUM(AF13,AF14) -> 0 | AG8: =SUM(AG13,AG14) -> 0 | AH8: =AF8-AG8 -> 0 | AI8: =SUM(AI13,AI14) -> 0 | AJ8: =SUM(AJ13,AJ14) -> 0 | AK8: =AI8-AJ8 -> 0 | AL8: =SUM(AL13,AL14) -> 0 | AM8: =SUM(AM13,AM14) -> 0 | AN8: =AL8-AM8 -> 0 | AO8: =SUM(AO13,AO14) -> 0 | AP8: =SUM(AP13,AP14) -> 0 | AQ8: =AO8-AP8 -> 0 | AR8: =SUM(AR13,AR14) -> 0 | AS8: =SUM(AS13,AS14) -> 0 | AT8: =AR8-AS8 -> 0 | AU8: =SUM(AU13,AU14) -> 0 | AV8: =SUM(AV13,AV14) -> 0 | AW8: =AU8-AV8 -> 0 | AX8: =SUM(AX13,AX14) -> 0 | AY8: =SUM(AY13,AY14) -> 0 | AZ8: =AX8-AY8 -> 0 | BA8: =SUM(BA13,BA14) -> 0 | BB8: =SUM(BB13,BB14) -> 0 | BC8: =BA8-BB8 -> 0 | BD8: =SUM(BD13,BD14) -> 0 | BE8: =SUM(BE13,BE14) -> 0 | BF8: =BD8-BE8 -> 0 | BG8: =SUM(BG13,BG14) -> 0 | BH8: =SUM(BH13,BH14) -> 0 | BI8: =BG8-BH8 -> 0 | BJ8: =SUM(BJ13,BJ14) -> 0 | BK8: =SUM(BK13,BK14) -> 0 | BL8: =BJ8-BK8 -> 0 | BM8: =SUM(BM13,BM14) -> 0 | BN8: =SUM(BN13,BN14) -> 0 | BO8: =BM8-BN8 -> 0 | BP8: =SUM(BP13,BP14) -> 0 | BQ8: =SUM(BQ13,BQ14) -> 0 | BR8: =BP8-BQ8 -> 0 | BS8: =SUM(BS13,BS14) -> 0 | BT8: =SUM(BT13,BT14) -> 0 | BU8: =BS8-BT8 -> 0 | BV8: =SUM(BV13,BV14) -> 0 | BW8: =SUM(BW13,BW14) -> 0 | BX8: =BV8-BW8 -> 0 | BY8: =SUM(BY13,BY14) -> 0 | BZ8: =SUM(BZ13,BZ14) -> 0 | CA8: =BY8-BZ8 -> 0 | CB8: =SUM(CB13,CB14) -> 0 | CC8: =SUM(CC13,CC14) -> 0 | CD8: =CB8-CC8 -> 0 | CE8: =SUM(CE13,CE14) -> 0 | CF8: =SUM(CF13,CF14) -> 0 | CG8: =CE8-CF8 -> 0 | CH8: =SUM(CH13,CH14) -> 0 | CI8: =SUM(CI13,CI14) -> 0 | CJ8: =CH8-CI8 -> 0 | CK8: =SUM(CK13,CK14) -> 0 | CL8: =SUM(CL13,CL14) -> 0 | CM8: =CK8-CL8 -> 0 | CN8: =SUM(CN13,CN14) -> 0 | CO8: =SUM(CO13,CO14) -> 0 | CP8: =CN8-CO8 -> 0 | CQ8: =SUM(CQ13,CQ14) -> 0 | CR8: =SUM(CR13,CR14) -> 0 | CS8: =CQ8-CR8 -> 0 | CT8: =SUM(CT13,CT14) -> 0 | CU8: =SUM(CU13,CU14) -> 0 | CV8: =CT8-CU8 -> 0 | CW8: =SUM(CW13,CW14) -> 0 | CX8: =SUM(CX13,CX14) -> 0 | CY8: =CW8-CX8 -> 0 | CZ8: =SUM(CZ13,CZ14) -> 0 | DA8: =SUM(DA13,DA14) -> 0 | DB8: =CZ8-DA8 -> 0 | DC8: =SUM(DC13,DC14) -> 0 | DD8: =SUM(DD13,DD14) -> 0 | DE8: =DC8-DD8 -> 0 | DF8: =SUM(DF13,DF14) -> 0 | DG8: =SUM(DG13,DG14) -> 0 | DH8: =DF8-DG8 -> 0 | DI8: =SUM(DI13,DI14) -> 0 | DJ8: =SUM(DJ13,DJ14) -> 0 | DK8: =DI8-DJ8 -> 0 | DL8: =SUM(DL13,DL14) -> 0 | DM8: =SUM(DM13,DM14) -> 0 | DN8: =DL8-DM8 -> 0 | DO8: =SUM(DO13,DO14) -> 0 | DP8: =SUM(DP13,DP14) -> 0 | DQ8: =DO8-DP8 -> 0
B9: 直接経費（A） | C9: 物品費 | E9: =SUM(H9,K9) -> 0 | F9: =SUM(I9,L9) -> 0 | G9: =SUM(J9,M9) -> 0 | H9: ='①報告様式１別紙イ（年度末分） '!H9+'②報告様式１別紙イ (繰越期間分)'!H9 -> 0 | I9: ='①報告様式１別紙イ（年度末分） '!I9+'②報告様式１別紙イ (繰越期間分)'!I9 -> 0 | J9: =H9-I9 -> 0 | K9: =SUM(N9,Q9,T9,W9,Z9,AC9,AF9,AI9,AL9,AO9,AR9,AU9,AX9,BA9,BD9,BG9,BJ9,BM9,BP9,BS9,BV9,BY9,CB9,CE9,CH9,CK9,CN9,CQ9,CT9,CW9,CZ9,DC9,DF9,DI9,DL9,DO9) -> 0 | L9: =SUM(O9,R9,U9,X9,AA9,AD9,AG9,AJ9,AM9,AP9,AS9,AV9,AY9,BB9,BE9,BH9,BK9,BN9,BQ9,BT9,BW9,BZ9,CC9,CF9,CI9,CL9,CO9,CR9,CU9,CX9,DA9,DD9,DG9,DJ9,DM9,DP9) -> 0 | M9: =SUM(P9,S9,V9,Y9,AB9,AE9,AH9,AK9,AN9,AQ9,AT9,AW9,AZ9,BC9,BF9,BI9,BL9,BO9,BR9,BU9,BX9,CA9,CD9,CG9,CJ9,CM9,CP9,CS9,CV9,CY9,DB9,DE9,DH9,DK9,DN9,DQ9) -> 0 | N9: ='①報告様式１別紙イ（年度末分） '!N9+'②報告様式１別紙イ (繰越期間分)'!N9 -> 0 | O9: ='①報告様式１別紙イ（年度末分） '!O9+'②報告様式１別紙イ (繰越期間分)'!O9 -> 0 | P9: =N9-O9 -> 0 | Q9: ='①報告様式１別紙イ（年度末分） '!Q9+'②報告様式１別紙イ (繰越期間分)'!Q9 -> 0 | R9: ='①報告様式１別紙イ（年度末分） '!R9+'②報告様式１別紙イ (繰越期間分)'!R9 -> 0 | S9: =Q9-R9 -> 0 | T9: ='①報告様式１別紙イ（年度末分） '!T9+'②報告様式１別紙イ (繰越期間分)'!T9 -> 0 | U9: ='①報告様式１別紙イ（年度末分） '!U9+'②報告様式１別紙イ (繰越期間分)'!U9 -> 0 | V9: =T9-U9 -> 0 | W9: ='①報告様式１別紙イ（年度末分） '!W9+'②報告様式１別紙イ (繰越期間分)'!W9 -> 0 | X9: ='①報告様式１別紙イ（年度末分） '!X9+'②報告様式１別紙イ (繰越期間分)'!X9 -> 0 | Y9: =W9-X9 -> 0 | Z9: ='①報告様式１別紙イ（年度末分） '!Z9+'②報告様式１別紙イ (繰越期間分)'!Z9 -> 0 | AA9: ='①報告様式１別紙イ（年度末分） '!AA9+'②報告様式１別紙イ (繰越期間分)'!AA9 -> 0 | AB9: =Z9-AA9 -> 0 | AC9: ='①報告様式１別紙イ（年度末分） '!AC9+'②報告様式１別紙イ (繰越期間分)'!AC9 -> 0 | AD9: ='①報告様式１別紙イ（年度末分） '!AD9+'②報告様式１別紙イ (繰越期間分)'!AD9 -> 0 | AE9: =AC9-AD9 -> 0 | AF9: ='①報告様式１別紙イ（年度末分） '!AF9+'②報告様式１別紙イ (繰越期間分)'!AF9 -> 0 | AG9: ='①報告様式１別紙イ（年度末分） '!AG9+'②報告様式１別紙イ (繰越期間分)'!AG9 -> 0 | AH9: =AF9-AG9 -> 0 | AI9: ='①報告様式１別紙イ（年度末分） '!AI9+'②報告様式１別紙イ (繰越期間分)'!AI9 -> 0 | AJ9: ='①報告様式１別紙イ（年度末分） '!AJ9+'②報告様式１別紙イ (繰越期間分)'!AJ9 -> 0 | AK9: =AI9-AJ9 -> 0 | AL9: ='①報告様式１別紙イ（年度末分） '!AL9+'②報告様式１別紙イ (繰越期間分)'!AL9 -> 0 | AM9: ='①報告様式１別紙イ（年度末分） '!AM9+'②報告様式１別紙イ (繰越期間分)'!AM9 -> 0 | AN9: =AL9-AM9 -> 0 | AO9: ='①報告様式１別紙イ（年度末分） '!AO9+'②報告様式１別紙イ (繰越期間分)'!AO9 -> 0 | AP9: ='①報告様式１別紙イ（年度末分） '!AP9+'②報告様式１別紙イ (繰越期間分)'!AP9 -> 0 | AQ9: =AO9-AP9 -> 0 | AR9: ='①報告様式１別紙イ（年度末分） '!AR9+'②報告様式１別紙イ (繰越期間分)'!AR9 -> 0 | AS9: ='①報告様式１別紙イ（年度末分） '!AS9+'②報告様式１別紙イ (繰越期間分)'!AS9 -> 0 | AT9: =AR9-AS9 -> 0 | AU9: ='①報告様式１別紙イ（年度末分） '!AU9+'②報告様式１別紙イ (繰越期間分)'!AU9 -> 0 | AV9: ='①報告様式１別紙イ（年度末分） '!AV9+'②報告様式１別紙イ (繰越期間分)'!AV9 -> 0 | AW9: =AU9-AV9 -> 0 | AX9: ='①報告様式１別紙イ（年度末分） '!AX9+'②報告様式１別紙イ (繰越期間分)'!AX9 -> 0 | AY9: ='①報告様式１別紙イ（年度末分） '!AY9+'②報告様式１別紙イ (繰越期間分)'!AY9 -> 0 | AZ9: =AX9-AY9 -> 0 | BA9: ='①報告様式１別紙イ（年度末分） '!BA9+'②報告様式１別紙イ (繰越期間分)'!BA9 -> 0 | BB9: ='①報告様式１別紙イ（年度末分） '!BB9+'②報告様式１別紙イ (繰越期間分)'!BB9 -> 0 | BC9: =BA9-BB9 -> 0 | BD9: ='①報告様式１別紙イ（年度末分） '!BD9+'②報告様式１別紙イ (繰越期間分)'!BD9 -> 0 | BE9: ='①報告様式１別紙イ（年度末分） '!BE9+'②報告様式１別紙イ (繰越期間分)'!BE9 -> 0 | BF9: =BD9-BE9 -> 0 | BG9: ='①報告様式１別紙イ（年度末分） '!BG9+'②報告様式１別紙イ (繰越期間分)'!BG9 -> 0 | BH9: ='①報告様式１別紙イ（年度末分） '!BH9+'②報告様式１別紙イ (繰越期間分)'!BH9 -> 0 | BI9: =BG9-BH9 -> 0 | BJ9: ='①報告様式１別紙イ（年度末分） '!BJ9+'②報告様式１別紙イ (繰越期間分)'!BJ9 -> 0 | BK9: ='①報告様式１別紙イ（年度末分） '!BK9+'②報告様式１別紙イ (繰越期間分)'!BK9 -> 0 | BL9: =BJ9-BK9 -> 0 | BM9: ='①報告様式１別紙イ（年度末分） '!BM9+'②報告様式１別紙イ (繰越期間分)'!BM9 -> 0 | BN9: ='①報告様式１別紙イ（年度末分） '!BN9+'②報告様式１別紙イ (繰越期間分)'!BN9 -> 0 | BO9: =BM9-BN9 -> 0 | BP9: ='①報告様式１別紙イ（年度末分） '!BP9+'②報告様式１別紙イ (繰越期間分)'!BP9 -> 0 | BQ9: ='①報告様式１別紙イ（年度末分） '!BQ9+'②報告様式１別紙イ (繰越期間分)'!BQ9 -> 0 | BR9: =BP9-BQ9 -> 0 | BS9: ='①報告様式１別紙イ（年度末分） '!BS9+'②報告様式１別紙イ (繰越期間分)'!BS9 -> 0 | BT9: ='①報告様式１別紙イ（年度末分） '!BT9+'②報告様式１別紙イ (繰越期間分)'!BT9 -> 0 | BU9: =BS9-BT9 -> 0 | BV9: ='①報告様式１別紙イ（年度末分） '!BV9+'②報告様式１別紙イ (繰越期間分)'!BV9 -> 0 | BW9: ='①報告様式１別紙イ（年度末分） '!BW9+'②報告様式１別紙イ (繰越期間分)'!BW9 -> 0 | BX9: =BV9-BW9 -> 0 | BY9: ='①報告様式１別紙イ（年度末分） '!BY9+'②報告様式１別紙イ (繰越期間分)'!BY9 -> 0 | BZ9: ='①報告様式１別紙イ（年度末分） '!BZ9+'②報告様式１別紙イ (繰越期間分)'!BZ9 -> 0 | CA9: =BY9-BZ9 -> 0 | CB9: ='①報告様式１別紙イ（年度末分） '!CB9+'②報告様式１別紙イ (繰越期間分)'!CB9 -> 0 | CC9: ='①報告様式１別紙イ（年度末分） '!CC9+'②報告様式１別紙イ (繰越期間分)'!CC9 -> 0 | CD9: =CB9-CC9 -> 0 | CE9: ='①報告様式１別紙イ（年度末分） '!CE9+'②報告様式１別紙イ (繰越期間分)'!CE9 -> 0 | CF9: ='①報告様式１別紙イ（年度末分） '!CF9+'②報告様式１別紙イ (繰越期間分)'!CF9 -> 0 | CG9: =CE9-CF9 -> 0 | CH9: ='①報告様式１別紙イ（年度末分） '!CH9+'②報告様式１別紙イ (繰越期間分)'!CH9 -> 0 | CI9: ='①報告様式１別紙イ（年度末分） '!CI9+'②報告様式１別紙イ (繰越期間分)'!CI9 -> 0 | CJ9: =CH9-CI9 -> 0 | CK9: ='①報告様式１別紙イ（年度末分） '!CK9+'②報告様式１別紙イ (繰越期間分)'!CK9 -> 0 | CL9: ='①報告様式１別紙イ（年度末分） '!CL9+'②報告様式１別紙イ (繰越期間分)'!CL9 -> 0 | CM9: =CK9-CL9 -> 0 | CN9: ='①報告様式１別紙イ（年度末分） '!CN9+'②報告様式１別紙イ (繰越期間分)'!CN9 -> 0 | CO9: ='①報告様式１別紙イ（年度末分） '!CO9+'②報告様式１別紙イ (繰越期間分)'!CO9 -> 0 | CP9: =CN9-CO9 -> 0 | CQ9: ='①報告様式１別紙イ（年度末分） '!CQ9+'②報告様式１別紙イ (繰越期間分)'!CQ9 -> 0 | CR9: ='①報告様式１別紙イ（年度末分） '!CR9+'②報告様式１別紙イ (繰越期間分)'!CR9 -> 0 | CS9: =CQ9-CR9 -> 0 | CT9: ='①報告様式１別紙イ（年度末分） '!CT9+'②報告様式１別紙イ (繰越期間分)'!CT9 -> 0 | CU9: ='①報告様式１別紙イ（年度末分） '!CU9+'②報告様式１別紙イ (繰越期間分)'!CU9 -> 0 | CV9: =CT9-CU9 -> 0 | CW9: ='①報告様式１別紙イ（年度末分） '!CW9+'②報告様式１別紙イ (繰越期間分)'!CW9 -> 0 | CX9: ='①報告様式１別紙イ（年度末分） '!CX9+'②報告様式１別紙イ (繰越期間分)'!CX9 -> 0 | CY9: =CW9-CX9 -> 0 | CZ9: ='①報告様式１別紙イ（年度末分） '!CZ9+'②報告様式１別紙イ (繰越期間分)'!CZ9 -> 0 | DA9: ='①報告様式１別紙イ（年度末分） '!DA9+'②報告様式１別紙イ (繰越期間分)'!DA9 -> 0 | DB9: =CZ9-DA9 -> 0 | DC9: ='①報告様式１別紙イ（年度末分） '!DC9+'②報告様式１別紙イ (繰越期間分)'!DC9 -> 0 | DD9: ='①報告様式１別紙イ（年度末分） '!DD9+'②報告様式１別紙イ (繰越期間分)'!DD9 -> 0 | DE9: =DC9-DD9 -> 0 | DF9: ='①報告様式１別紙イ（年度末分） '!DF9+'②報告様式１別紙イ (繰越期間分)'!DF9 -> 0 | DG9: ='①報告様式１別紙イ（年度末分） '!DG9+'②報告様式１別紙イ (繰越期間分)'!DG9 -> 0 | DH9: =DF9-DG9 -> 0 | DI9: ='①報告様式１別紙イ（年度末分） '!DI9+'②報告様式１別紙イ (繰越期間分)'!DI9 -> 0 | DJ9: ='①報告様式１別紙イ（年度末分） '!DJ9+'②報告様式１別紙イ (繰越期間分)'!DJ9 -> 0 | DK9: =DI9-DJ9 -> 0 | DL9: ='①報告様式１別紙イ（年度末分） '!DL9+'②報告様式１別紙イ (繰越期間分)'!DL9 -> 0 | DM9: ='①報告様式１別紙イ（年度末分） '!DM9+'②報告様式１別紙イ (繰越期間分)'!DM9 -> 0 | DN9: =DL9-DM9 -> 0 | DO9: ='①報告様式１別紙イ（年度末分） '!DO9+'②報告様式１別紙イ (繰越期間分)'!DO9 -> 0 | DP9: ='①報告様式１別紙イ（年度末分） '!DP9+'②報告様式１別紙イ (繰越期間分)'!DP9 -> 0 | DQ9: =DO9-DP9 -> 0
C10: 旅費 | E10: =SUM(H10,K10) -> 0 | F10: =SUM(I10,L10) -> 0 | G10: =SUM(J10,M10) -> 0 | H10: ='①報告様式１別紙イ（年度末分） '!H10+'②報告様式１別紙イ (繰越期間分)'!H10 -> 0 | I10: ='①報告様式１別紙イ（年度末分） '!I10+'②報告様式１別紙イ (繰越期間分)'!I10 -> 0 | J10: =H10-I10 -> 0 | K10: =SUM(N10,Q10,T10,W10,Z10,AC10,AF10,AI10,AL10,AO10,AR10,AU10,AX10,BA10,BD10,BG10,BJ10,BM10,BP10,BS10,BV10,BY10,CB10,CE10,CH10,CK10,CN10,CQ10,CT10,CW10,CZ10,DC10,DF10,DI10,DL10,DO10) -> 0 | L10: =SUM(O10,R10,U10,X10,AA10,AD10,AG10,AJ10,AM10,AP10,AS10,AV10,AY10,BB10,BE10,BH10,BK10,BN10,BQ10,BT10,BW10,BZ10,CC10,CF10,CI10,CL10,CO10,CR10,CU10,CX10,DA10,DD10,DG10,DJ10,DM10,DP10) -> 0 | M10: =SUM(P10,S10,V10,Y10,AB10,AE10,AH10,AK10,AN10,AQ10,AT10,AW10,AZ10,BC10,BF10,BI10,BL10,BO10,BR10,BU10,BX10,CA10,CD10,CG10,CJ10,CM10,CP10,CS10,CV10,CY10,DB10,DE10,DH10,DK10,DN10,DQ10) -> 0 | N10: ='①報告様式１別紙イ（年度末分） '!N10+'②報告様式１別紙イ (繰越期間分)'!N10 -> 0 | O10: ='①報告様式１別紙イ（年度末分） '!O10+'②報告様式１別紙イ (繰越期間分)'!O10 -> 0 | P10: =N10-O10 -> 0 | Q10: ='①報告様式１別紙イ（年度末分） '!Q10+'②報告様式１別紙イ (繰越期間分)'!Q10 -> 0 | R10: ='①報告様式１別紙イ（年度末分） '!R10+'②報告様式１別紙イ (繰越期間分)'!R10 -> 0 | S10: =Q10-R10 -> 0 | T10: ='①報告様式１別紙イ（年度末分） '!T10+'②報告様式１別紙イ (繰越期間分)'!T10 -> 0 | U10: ='①報告様式１別紙イ（年度末分） '!U10+'②報告様式１別紙イ (繰越期間分)'!U10 -> 0 | V10: =T10-U10 -> 0 | W10: ='①報告様式１別紙イ（年度末分） '!W10+'②報告様式１別紙イ (繰越期間分)'!W10 -> 0 | X10: ='①報告様式１別紙イ（年度末分） '!X10+'②報告様式１別紙イ (繰越期間分)'!X10 -> 0 | Y10: =W10-X10 -> 0 | Z10: ='①報告様式１別紙イ（年度末分） '!Z10+'②報告様式１別紙イ (繰越期間分)'!Z10 -> 0 | AA10: ='①報告様式１別紙イ（年度末分） '!AA10+'②報告様式１別紙イ (繰越期間分)'!AA10 -> 0 | AB10: =Z10-AA10 -> 0 | AC10: ='①報告様式１別紙イ（年度末分） '!AC10+'②報告様式１別紙イ (繰越期間分)'!AC10 -> 0 | AD10: ='①報告様式１別紙イ（年度末分） '!AD10+'②報告様式１別紙イ (繰越期間分)'!AD10 -> 0 | AE10: =AC10-AD10 -> 0 | AF10: ='①報告様式１別紙イ（年度末分） '!AF10+'②報告様式１別紙イ (繰越期間分)'!AF10 -> 0 | AG10: ='①報告様式１別紙イ（年度末分） '!AG10+'②報告様式１別紙イ (繰越期間分)'!AG10 -> 0 | AH10: =AF10-AG10 -> 0 | AI10: ='①報告様式１別紙イ（年度末分） '!AI10+'②報告様式１別紙イ (繰越期間分)'!AI10 -> 0 | AJ10: ='①報告様式１別紙イ（年度末分） '!AJ10+'②報告様式１別紙イ (繰越期間分)'!AJ10 -> 0 | AK10: =AI10-AJ10 -> 0 | AL10: ='①報告様式１別紙イ（年度末分） '!AL10+'②報告様式１別紙イ (繰越期間分)'!AL10 -> 0 | AM10: ='①報告様式１別紙イ（年度末分） '!AM10+'②報告様式１別紙イ (繰越期間分)'!AM10 -> 0 | AN10: =AL10-AM10 -> 0 | AO10: ='①報告様式１別紙イ（年度末分） '!AO10+'②報告様式１別紙イ (繰越期間分)'!AO10 -> 0 | AP10: ='①報告様式１別紙イ（年度末分） '!AP10+'②報告様式１別紙イ (繰越期間分)'!AP10 -> 0 | AQ10: =AO10-AP10 -> 0 | AR10: ='①報告様式１別紙イ（年度末分） '!AR10+'②報告様式１別紙イ (繰越期間分)'!AR10 -> 0 | AS10: ='①報告様式１別紙イ（年度末分） '!AS10+'②報告様式１別紙イ (繰越期間分)'!AS10 -> 0 | AT10: =AR10-AS10 -> 0 | AU10: ='①報告様式１別紙イ（年度末分） '!AU10+'②報告様式１別紙イ (繰越期間分)'!AU10 -> 0 | AV10: ='①報告様式１別紙イ（年度末分） '!AV10+'②報告様式１別紙イ (繰越期間分)'!AV10 -> 0 | AW10: =AU10-AV10 -> 0 | AX10: ='①報告様式１別紙イ（年度末分） '!AX10+'②報告様式１別紙イ (繰越期間分)'!AX10 -> 0 | AY10: ='①報告様式１別紙イ（年度末分） '!AY10+'②報告様式１別紙イ (繰越期間分)'!AY10 -> 0 | AZ10: =AX10-AY10 -> 0 | BA10: ='①報告様式１別紙イ（年度末分） '!BA10+'②報告様式１別紙イ (繰越期間分)'!BA10 -> 0 | BB10: ='①報告様式１別紙イ（年度末分） '!BB10+'②報告様式１別紙イ (繰越期間分)'!BB10 -> 0 | BC10: =BA10-BB10 -> 0 | BD10: ='①報告様式１別紙イ（年度末分） '!BD10+'②報告様式１別紙イ (繰越期間分)'!BD10 -> 0 | BE10: ='①報告様式１別紙イ（年度末分） '!BE10+'②報告様式１別紙イ (繰越期間分)'!BE10 -> 0 | BF10: =BD10-BE10 -> 0 | BG10: ='①報告様式１別紙イ（年度末分） '!BG10+'②報告様式１別紙イ (繰越期間分)'!BG10 -> 0 | BH10: ='①報告様式１別紙イ（年度末分） '!BH10+'②報告様式１別紙イ (繰越期間分)'!BH10 -> 0 | BI10: =BG10-BH10 -> 0 | BJ10: ='①報告様式１別紙イ（年度末分） '!BJ10+'②報告様式１別紙イ (繰越期間分)'!BJ10 -> 0 | BK10: ='①報告様式１別紙イ（年度末分） '!BK10+'②報告様式１別紙イ (繰越期間分)'!BK10 -> 0 | BL10: =BJ10-BK10 -> 0 | BM10: ='①報告様式１別紙イ（年度末分） '!BM10+'②報告様式１別紙イ (繰越期間分)'!BM10 -> 0 | BN10: ='①報告様式１別紙イ（年度末分） '!BN10+'②報告様式１別紙イ (繰越期間分)'!BN10 -> 0 | BO10: =BM10-BN10 -> 0 | BP10: ='①報告様式１別紙イ（年度末分） '!BP10+'②報告様式１別紙イ (繰越期間分)'!BP10 -> 0 | BQ10: ='①報告様式１別紙イ（年度末分） '!BQ10+'②報告様式１別紙イ (繰越期間分)'!BQ10 -> 0 | BR10: =BP10-BQ10 -> 0 | BS10: ='①報告様式１別紙イ（年度末分） '!BS10+'②報告様式１別紙イ (繰越期間分)'!BS10 -> 0 | BT10: ='①報告様式１別紙イ（年度末分） '!BT10+'②報告様式１別紙イ (繰越期間分)'!BT10 -> 0 | BU10: =BS10-BT10 -> 0 | BV10: ='①報告様式１別紙イ（年度末分） '!BV10+'②報告様式１別紙イ (繰越期間分)'!BV10 -> 0 | BW10: ='①報告様式１別紙イ（年度末分） '!BW10+'②報告様式１別紙イ (繰越期間分)'!BW10 -> 0 | BX10: =BV10-BW10 -> 0 | BY10: ='①報告様式１別紙イ（年度末分） '!BY10+'②報告様式１別紙イ (繰越期間分)'!BY10 -> 0 | BZ10: ='①報告様式１別紙イ（年度末分） '!BZ10+'②報告様式１別紙イ (繰越期間分)'!BZ10 -> 0 | CA10: =BY10-BZ10 -> 0 | CB10: ='①報告様式１別紙イ（年度末分） '!CB10+'②報告様式１別紙イ (繰越期間分)'!CB10 -> 0 | CC10: ='①報告様式１別紙イ（年度末分） '!CC10+'②報告様式１別紙イ (繰越期間分)'!CC10 -> 0 | CD10: =CB10-CC10 -> 0 | CE10: ='①報告様式１別紙イ（年度末分） '!CE10+'②報告様式１別紙イ (繰越期間分)'!CE10 -> 0 | CF10: ='①報告様式１別紙イ（年度末分） '!CF10+'②報告様式１別紙イ (繰越期間分)'!CF10 -> 0 | CG10: =CE10-CF10 -> 0 | CH10: ='①報告様式１別紙イ（年度末分） '!CH10+'②報告様式１別紙イ (繰越期間分)'!CH10 -> 0 | CI10: ='①報告様式１別紙イ（年度末分） '!CI10+'②報告様式１別紙イ (繰越期間分)'!CI10 -> 0 | CJ10: =CH10-CI10 -> 0 | CK10: ='①報告様式１別紙イ（年度末分） '!CK10+'②報告様式１別紙イ (繰越期間分)'!CK10 -> 0 | CL10: ='①報告様式１別紙イ（年度末分） '!CL10+'②報告様式１別紙イ (繰越期間分)'!CL10 -> 0 | CM10: =CK10-CL10 -> 0 | CN10: ='①報告様式１別紙イ（年度末分） '!CN10+'②報告様式１別紙イ (繰越期間分)'!CN10 -> 0 | CO10: ='①報告様式１別紙イ（年度末分） '!CO10+'②報告様式１別紙イ (繰越期間分)'!CO10 -> 0 | CP10: =CN10-CO10 -> 0 | CQ10: ='①報告様式１別紙イ（年度末分） '!CQ10+'②報告様式１別紙イ (繰越期間分)'!CQ10 -> 0 | CR10: ='①報告様式１別紙イ（年度末分） '!CR10+'②報告様式１別紙イ (繰越期間分)'!CR10 -> 0 | CS10: =CQ10-CR10 -> 0 | CT10: ='①報告様式１別紙イ（年度末分） '!CT10+'②報告様式１別紙イ (繰越期間分)'!CT10 -> 0 | CU10: ='①報告様式１別紙イ（年度末分） '!CU10+'②報告様式１別紙イ (繰越期間分)'!CU10 -> 0 | CV10: =CT10-CU10 -> 0 | CW10: ='①報告様式１別紙イ（年度末分） '!CW10+'②報告様式１別紙イ (繰越期間分)'!CW10 -> 0 | CX10: ='①報告様式１別紙イ（年度末分） '!CX10+'②報告様式１別紙イ (繰越期間分)'!CX10 -> 0 | CY10: =CW10-CX10 -> 0 | CZ10: ='①報告様式１別紙イ（年度末分） '!CZ10+'②報告様式１別紙イ (繰越期間分)'!CZ10 -> 0 | DA10: ='①報告様式１別紙イ（年度末分） '!DA10+'②報告様式１別紙イ (繰越期間分)'!DA10 -> 0 | DB10: =CZ10-DA10 -> 0 | DC10: ='①報告様式１別紙イ（年度末分） '!DC10+'②報告様式１別紙イ (繰越期間分)'!DC10 -> 0 | DD10: ='①報告様式１別紙イ（年度末分） '!DD10+'②報告様式１別紙イ (繰越期間分)'!DD10 -> 0 | DE10: =DC10-DD10 -> 0 | DF10: ='①報告様式１別紙イ（年度末分） '!DF10+'②報告様式１別紙イ (繰越期間分)'!DF10 -> 0 | DG10: ='①報告様式１別紙イ（年度末分） '!DG10+'②報告様式１別紙イ (繰越期間分)'!DG10 -> 0 | DH10: =DF10-DG10 -> 0 | DI10: ='①報告様式１別紙イ（年度末分） '!DI10+'②報告様式１別紙イ (繰越期間分)'!DI10 -> 0 | DJ10: ='①報告様式１別紙イ（年度末分） '!DJ10+'②報告様式１別紙イ (繰越期間分)'!DJ10 -> 0 | DK10: =DI10-DJ10 -> 0 | DL10: ='①報告様式１別紙イ（年度末分） '!DL10+'②報告様式１別紙イ (繰越期間分)'!DL10 -> 0 | DM10: ='①報告様式１別紙イ（年度末分） '!DM10+'②報告様式１別紙イ (繰越期間分)'!DM10 -> 0 | DN10: =DL10-DM10 -> 0 | DO10: ='①報告様式１別紙イ（年度末分） '!DO10+'②報告様式１別紙イ (繰越期間分)'!DO10 -> 0 | DP10: ='①報告様式１別紙イ（年度末分） '!DP10+'②報告様式１別紙イ (繰越期間分)'!DP10 -> 0 | DQ10: =DO10-DP10 -> 0
C11: 人件費・謝金 | E11: =SUM(H11,K11) -> 0 | F11: =SUM(I11,L11) -> 0 | G11: =SUM(J11,M11) -> 0 | H11: ='①報告様式１別紙イ（年度末分） '!H11+'②報告様式１別紙イ (繰越期間分)'!H11 -> 0 | I11: ='①報告様式１別紙イ（年度末分） '!I11+'②報告様式１別紙イ (繰越期間分)'!I11 -> 0 | J11: =H11-I11 -> 0 | K11: =SUM(N11,Q11,T11,W11,Z11,AC11,AF11,AI11,AL11,AO11,AR11,AU11,AX11,BA11,BD11,BG11,BJ11,BM11,BP11,BS11,BV11,BY11,CB11,CE11,CH11,CK11,CN11,CQ11,CT11,CW11,CZ11,DC11,DF11,DI11,DL11,DO11) -> 0 | L11: =SUM(O11,R11,U11,X11,AA11,AD11,AG11,AJ11,AM11,AP11,AS11,AV11,AY11,BB11,BE11,BH11,BK11,BN11,BQ11,BT11,BW11,BZ11,CC11,CF11,CI11,CL11,CO11,CR11,CU11,CX11,DA11,DD11,DG11,DJ11,DM11,DP11) -> 0 | M11: =SUM(P11,S11,V11,Y11,AB11,AE11,AH11,AK11,AN11,AQ11,AT11,AW11,AZ11,BC11,BF11,BI11,BL11,BO11,BR11,BU11,BX11,CA11,CD11,CG11,CJ11,CM11,CP11,CS11,CV11,CY11,DB11,DE11,DH11,DK11,DN11,DQ11) -> 0 | N11: ='①報告様式１別紙イ（年度末分） '!N11+'②報告様式１別紙イ (繰越期間分)'!N11 -> 0 | O11: ='①報告様式１別紙イ（年度末分） '!O11+'②報告様式１別紙イ (繰越期間分)'!O11 -> 0 | P11: =N11-O11 -> 0 | Q11: ='①報告様式１別紙イ（年度末分） '!Q11+'②報告様式１別紙イ (繰越期間分)'!Q11 -> 0 | R11: ='①報告様式１別紙イ（年度末分） '!R11+'②報告様式１別紙イ (繰越期間分)'!R11 -> 0 | S11: =Q11-R11 -> 0 | T11: ='①報告様式１別紙イ（年度末分） '!T11+'②報告様式１別紙イ (繰越期間分)'!T11 -> 0 | U11: ='①報告様式１別紙イ（年度末分） '!U11+'②報告様式１別紙イ (繰越期間分)'!U11 -> 0 | V11: =T11-U11 -> 0 | W11: ='①報告様式１別紙イ（年度末分） '!W11+'②報告様式１別紙イ (繰越期間分)'!W11 -> 0 | X11: ='①報告様式１別紙イ（年度末分） '!X11+'②報告様式１別紙イ (繰越期間分)'!X11 -> 0 | Y11: =W11-X11 -> 0 | Z11: ='①報告様式１別紙イ（年度末分） '!Z11+'②報告様式１別紙イ (繰越期間分)'!Z11 -> 0 | AA11: ='①報告様式１別紙イ（年度末分） '!AA11+'②報告様式１別紙イ (繰越期間分)'!AA11 -> 0 | AB11: =Z11-AA11 -> 0 | AC11: ='①報告様式１別紙イ（年度末分） '!AC11+'②報告様式１別紙イ (繰越期間分)'!AC11 -> 0 | AD11: ='①報告様式１別紙イ（年度末分） '!AD11+'②報告様式１別紙イ (繰越期間分)'!AD11 -> 0 | AE11: =AC11-AD11 -> 0 | AF11: ='①報告様式１別紙イ（年度末分） '!AF11+'②報告様式１別紙イ (繰越期間分)'!AF11 -> 0 | AG11: ='①報告様式１別紙イ（年度末分） '!AG11+'②報告様式１別紙イ (繰越期間分)'!AG11 -> 0 | AH11: =AF11-AG11 -> 0 | AI11: ='①報告様式１別紙イ（年度末分） '!AI11+'②報告様式１別紙イ (繰越期間分)'!AI11 -> 0 | AJ11: ='①報告様式１別紙イ（年度末分） '!AJ11+'②報告様式１別紙イ (繰越期間分)'!AJ11 -> 0 | AK11: =AI11-AJ11 -> 0 | AL11: ='①報告様式１別紙イ（年度末分） '!AL11+'②報告様式１別紙イ (繰越期間分)'!AL11 -> 0 | AM11: ='①報告様式１別紙イ（年度末分） '!AM11+'②報告様式１別紙イ (繰越期間分)'!AM11 -> 0 | AN11: =AL11-AM11 -> 0 | AO11: ='①報告様式１別紙イ（年度末分） '!AO11+'②報告様式１別紙イ (繰越期間分)'!AO11 -> 0 | AP11: ='①報告様式１別紙イ（年度末分） '!AP11+'②報告様式１別紙イ (繰越期間分)'!AP11 -> 0 | AQ11: =AO11-AP11 -> 0 | AR11: ='①報告様式１別紙イ（年度末分） '!AR11+'②報告様式１別紙イ (繰越期間分)'!AR11 -> 0 | AS11: ='①報告様式１別紙イ（年度末分） '!AS11+'②報告様式１別紙イ (繰越期間分)'!AS11 -> 0 | AT11: =AR11-AS11 -> 0 | AU11: ='①報告様式１別紙イ（年度末分） '!AU11+'②報告様式１別紙イ (繰越期間分)'!AU11 -> 0 | AV11: ='①報告様式１別紙イ（年度末分） '!AV11+'②報告様式１別紙イ (繰越期間分)'!AV11 -> 0 | AW11: =AU11-AV11 -> 0 | AX11: ='①報告様式１別紙イ（年度末分） '!AX11+'②報告様式１別紙イ (繰越期間分)'!AX11 -> 0 | AY11: ='①報告様式１別紙イ（年度末分） '!AY11+'②報告様式１別紙イ (繰越期間分)'!AY11 -> 0 | AZ11: =AX11-AY11 -> 0 | BA11: ='①報告様式１別紙イ（年度末分） '!BA11+'②報告様式１別紙イ (繰越期間分)'!BA11 -> 0 | BB11: ='①報告様式１別紙イ（年度末分） '!BB11+'②報告様式１別紙イ (繰越期間分)'!BB11 -> 0 | BC11: =BA11-BB11 -> 0 | BD11: ='①報告様式１別紙イ（年度末分） '!BD11+'②報告様式１別紙イ (繰越期間分)'!BD11 -> 0 | BE11: ='①報告様式１別紙イ（年度末分） '!BE11+'②報告様式１別紙イ (繰越期間分)'!BE11 -> 0 | BF11: =BD11-BE11 -> 0 | BG11: ='①報告様式１別紙イ（年度末分） '!BG11+'②報告様式１別紙イ (繰越期間分)'!BG11 -> 0 | BH11: ='①報告様式１別紙イ（年度末分） '!BH11+'②報告様式１別紙イ (繰越期間分)'!BH11 -> 0 | BI11: =BG11-BH11 -> 0 | BJ11: ='①報告様式１別紙イ（年度末分） '!BJ11+'②報告様式１別紙イ (繰越期間分)'!BJ11 -> 0 | BK11: ='①報告様式１別紙イ（年度末分） '!BK11+'②報告様式１別紙イ (繰越期間分)'!BK11 -> 0 | BL11: =BJ11-BK11 -> 0 | BM11: ='①報告様式１別紙イ（年度末分） '!BM11+'②報告様式１別紙イ (繰越期間分)'!BM11 -> 0 | BN11: ='①報告様式１別紙イ（年度末分） '!BN11+'②報告様式１別紙イ (繰越期間分)'!BN11 -> 0 | BO11: =BM11-BN11 -> 0 | BP11: ='①報告様式１別紙イ（年度末分） '!BP11+'②報告様式１別紙イ (繰越期間分)'!BP11 -> 0 | BQ11: ='①報告様式１別紙イ（年度末分） '!BQ11+'②報告様式１別紙イ (繰越期間分)'!BQ11 -> 0 | BR11: =BP11-BQ11 -> 0 | BS11: ='①報告様式１別紙イ（年度末分） '!BS11+'②報告様式１別紙イ (繰越期間分)'!BS11 -> 0 | BT11: ='①報告様式１別紙イ（年度末分） '!BT11+'②報告様式１別紙イ (繰越期間分)'!BT11 -> 0 | BU11: =BS11-BT11 -> 0 | BV11: ='①報告様式１別紙イ（年度末分） '!BV11+'②報告様式１別紙イ (繰越期間分)'!BV11 -> 0 | BW11: ='①報告様式１別紙イ（年度末分） '!BW11+'②報告様式１別紙イ (繰越期間分)'!BW11 -> 0 | BX11: =BV11-BW11 -> 0 | BY11: ='①報告様式１別紙イ（年度末分） '!BY11+'②報告様式１別紙イ (繰越期間分)'!BY11 -> 0 | BZ11: ='①報告様式１別紙イ（年度末分） '!BZ11+'②報告様式１別紙イ (繰越期間分)'!BZ11 -> 0 | CA11: =BY11-BZ11 -> 0 | CB11: ='①報告様式１別紙イ（年度末分） '!CB11+'②報告様式１別紙イ (繰越期間分)'!CB11 -> 0 | CC11: ='①報告様式１別紙イ（年度末分） '!CC11+'②報告様式１別紙イ (繰越期間分)'!CC11 -> 0 | CD11: =CB11-CC11 -> 0 | CE11: ='①報告様式１別紙イ（年度末分） '!CE11+'②報告様式１別紙イ (繰越期間分)'!CE11 -> 0 | CF11: ='①報告様式１別紙イ（年度末分） '!CF11+'②報告様式１別紙イ (繰越期間分)'!CF11 -> 0 | CG11: =CE11-CF11 -> 0 | CH11: ='①報告様式１別紙イ（年度末分） '!CH11+'②報告様式１別紙イ (繰越期間分)'!CH11 -> 0 | CI11: ='①報告様式１別紙イ（年度末分） '!CI11+'②報告様式１別紙イ (繰越期間分)'!CI11 -> 0 | CJ11: =CH11-CI11 -> 0 | CK11: ='①報告様式１別紙イ（年度末分） '!CK11+'②報告様式１別紙イ (繰越期間分)'!CK11 -> 0 | CL11: ='①報告様式１別紙イ（年度末分） '!CL11+'②報告様式１別紙イ (繰越期間分)'!CL11 -> 0 | CM11: =CK11-CL11 -> 0 | CN11: ='①報告様式１別紙イ（年度末分） '!CN11+'②報告様式１別紙イ (繰越期間分)'!CN11 -> 0 | CO11: ='①報告様式１別紙イ（年度末分） '!CO11+'②報告様式１別紙イ (繰越期間分)'!CO11 -> 0 | CP11: =CN11-CO11 -> 0 | CQ11: ='①報告様式１別紙イ（年度末分） '!CQ11+'②報告様式１別紙イ (繰越期間分)'!CQ11 -> 0 | CR11: ='①報告様式１別紙イ（年度末分） '!CR11+'②報告様式１別紙イ (繰越期間分)'!CR11 -> 0 | CS11: =CQ11-CR11 -> 0 | CT11: ='①報告様式１別紙イ（年度末分） '!CT11+'②報告様式１別紙イ (繰越期間分)'!CT11 -> 0 | CU11: ='①報告様式１別紙イ（年度末分） '!CU11+'②報告様式１別紙イ (繰越期間分)'!CU11 -> 0 | CV11: =CT11-CU11 -> 0 | CW11: ='①報告様式１別紙イ（年度末分） '!CW11+'②報告様式１別紙イ (繰越期間分)'!CW11 -> 0 | CX11: ='①報告様式１別紙イ（年度末分） '!CX11+'②報告様式１別紙イ (繰越期間分)'!CX11 -> 0 | CY11: =CW11-CX11 -> 0 | CZ11: ='①報告様式１別紙イ（年度末分） '!CZ11+'②報告様式１別紙イ (繰越期間分)'!CZ11 -> 0 | DA11: ='①報告様式１別紙イ（年度末分） '!DA11+'②報告様式１別紙イ (繰越期間分)'!DA11 -> 0 | DB11: =CZ11-DA11 -> 0 | DC11: ='①報告様式１別紙イ（年度末分） '!DC11+'②報告様式１別紙イ (繰越期間分)'!DC11 -> 0 | DD11: ='①報告様式１別紙イ（年度末分） '!DD11+'②報告様式１別紙イ (繰越期間分)'!DD11 -> 0 | DE11: =DC11-DD11 -> 0 | DF11: ='①報告様式１別紙イ（年度末分） '!DF11+'②報告様式１別紙イ (繰越期間分)'!DF11 -> 0 | DG11: ='①報告様式１別紙イ（年度末分） '!DG11+'②報告様式１別紙イ (繰越期間分)'!DG11 -> 0 | DH11: =DF11-DG11 -> 0 | DI11: ='①報告様式１別紙イ（年度末分） '!DI11+'②報告様式１別紙イ (繰越期間分)'!DI11 -> 0 | DJ11: ='①報告様式１別紙イ（年度末分） '!DJ11+'②報告様式１別紙イ (繰越期間分)'!DJ11 -> 0 | DK11: =DI11-DJ11 -> 0 | DL11: ='①報告様式１別紙イ（年度末分） '!DL11+'②報告様式１別紙イ (繰越期間分)'!DL11 -> 0 | DM11: ='①報告様式１別紙イ（年度末分） '!DM11+'②報告様式１別紙イ (繰越期間分)'!DM11 -> 0 | DN11: =DL11-DM11 -> 0 | DO11: ='①報告様式１別紙イ（年度末分） '!DO11+'②報告様式１別紙イ (繰越期間分)'!DO11 -> 0 | DP11: ='①報告様式１別紙イ（年度末分） '!DP11+'②報告様式１別紙イ (繰越期間分)'!DP11 -> 0 | DQ11: =DO11-DP11 -> 0
C12: その他 | E12: =SUM(H12,K12) -> 0 | F12: =SUM(I12,L12) -> 0 | G12: =SUM(J12,M12) -> 0 | H12: ='①報告様式１別紙イ（年度末分） '!H12+'②報告様式１別紙イ (繰越期間分)'!H12 -> 0 | I12: ='①報告様式１別紙イ（年度末分） '!I12+'②報告様式１別紙イ (繰越期間分)'!I12 -> 0 | J12: =H12-I12 -> 0 | K12: =SUM(N12,Q12,T12,W12,Z12,AC12,AF12,AI12,AL12,AO12,AR12,AU12,AX12,BA12,BD12,BG12,BJ12,BM12,BP12,BS12,BV12,BY12,CB12,CE12,CH12,CK12,CN12,CQ12,CT12,CW12,CZ12,DC12,DF12,DI12,DL12,DO12) -> 0 | L12: =SUM(O12,R12,U12,X12,AA12,AD12,AG12,AJ12,AM12,AP12,AS12,AV12,AY12,BB12,BE12,BH12,BK12,BN12,BQ12,BT12,BW12,BZ12,CC12,CF12,CI12,CL12,CO12,CR12,CU12,CX12,DA12,DD12,DG12,DJ12,DM12,DP12) -> 0 | M12: =SUM(P12,S12,V12,Y12,AB12,AE12,AH12,AK12,AN12,AQ12,AT12,AW12,AZ12,BC12,BF12,BI12,BL12,BO12,BR12,BU12,BX12,CA12,CD12,CG12,CJ12,CM12,CP12,CS12,CV12,CY12,DB12,DE12,DH12,DK12,DN12,DQ12) -> 0 | N12: ='①報告様式１別紙イ（年度末分） '!N12+'②報告様式１別紙イ (繰越期間分)'!N12 -> 0 | O12: ='①報告様式１別紙イ（年度末分） '!O12+'②報告様式１別紙イ (繰越期間分)'!O12 -> 0 | P12: =N12-O12 -> 0 | Q12: ='①報告様式１別紙イ（年度末分） '!Q12+'②報告様式１別紙イ (繰越期間分)'!Q12 -> 0 | R12: ='①報告様式１別紙イ（年度末分） '!R12+'②報告様式１別紙イ (繰越期間分)'!R12 -> 0 | S12: =Q12-R12 -> 0 | T12: ='①報告様式１別紙イ（年度末分） '!T12+'②報告様式１別紙イ (繰越期間分)'!T12 -> 0 | U12: ='①報告様式１別紙イ（年度末分） '!U12+'②報告様式１別紙イ (繰越期間分)'!U12 -> 0 | V12: =T12-U12 -> 0 | W12: ='①報告様式１別紙イ（年度末分） '!W12+'②報告様式１別紙イ (繰越期間分)'!W12 -> 0 | X12: ='①報告様式１別紙イ（年度末分） '!X12+'②報告様式１別紙イ (繰越期間分)'!X12 -> 0 | Y12: =W12-X12 -> 0 | Z12: ='①報告様式１別紙イ（年度末分） '!Z12+'②報告様式１別紙イ (繰越期間分)'!Z12 -> 0 | AA12: ='①報告様式１別紙イ（年度末分） '!AA12+'②報告様式１別紙イ (繰越期間分)'!AA12 -> 0 | AB12: =Z12-AA12 -> 0 | AC12: ='①報告様式１別紙イ（年度末分） '!AC12+'②報告様式１別紙イ (繰越期間分)'!AC12 -> 0 | AD12: ='①報告様式１別紙イ（年度末分） '!AD12+'②報告様式１別紙イ (繰越期間分)'!AD12 -> 0 | AE12: =AC12-AD12 -> 0 | AF12: ='①報告様式１別紙イ（年度末分） '!AF12+'②報告様式１別紙イ (繰越期間分)'!AF12 -> 0 | AG12: ='①報告様式１別紙イ（年度末分） '!AG12+'②報告様式１別紙イ (繰越期間分)'!AG12 -> 0 | AH12: =AF12-AG12 -> 0 | AI12: ='①報告様式１別紙イ（年度末分） '!AI12+'②報告様式１別紙イ (繰越期間分)'!AI12 -> 0 | AJ12: ='①報告様式１別紙イ（年度末分） '!AJ12+'②報告様式１別紙イ (繰越期間分)'!AJ12 -> 0 | AK12: =AI12-AJ12 -> 0 | AL12: ='①報告様式１別紙イ（年度末分） '!AL12+'②報告様式１別紙イ (繰越期間分)'!AL12 -> 0 | AM12: ='①報告様式１別紙イ（年度末分） '!AM12+'②報告様式１別紙イ (繰越期間分)'!AM12 -> 0 | AN12: =AL12-AM12 -> 0 | AO12: ='①報告様式１別紙イ（年度末分） '!AO12+'②報告様式１別紙イ (繰越期間分)'!AO12 -> 0 | AP12: ='①報告様式１別紙イ（年度末分） '!AP12+'②報告様式１別紙イ (繰越期間分)'!AP12 -> 0 | AQ12: =AO12-AP12 -> 0 | AR12: ='①報告様式１別紙イ（年度末分） '!AR12+'②報告様式１別紙イ (繰越期間分)'!AR12 -> 0 | AS12: ='①報告様式１別紙イ（年度末分） '!AS12+'②報告様式１別紙イ (繰越期間分)'!AS12 -> 0 | AT12: =AR12-AS12 -> 0 | AU12: ='①報告様式１別紙イ（年度末分） '!AU12+'②報告様式１別紙イ (繰越期間分)'!AU12 -> 0 | AV12: ='①報告様式１別紙イ（年度末分） '!AV12+'②報告様式１別紙イ (繰越期間分)'!AV12 -> 0 | AW12: =AU12-AV12 -> 0 | AX12: ='①報告様式１別紙イ（年度末分） '!AX12+'②報告様式１別紙イ (繰越期間分)'!AX12 -> 0 | AY12: ='①報告様式１別紙イ（年度末分） '!AY12+'②報告様式１別紙イ (繰越期間分)'!AY12 -> 0 | AZ12: =AX12-AY12 -> 0 | BA12: ='①報告様式１別紙イ（年度末分） '!BA12+'②報告様式１別紙イ (繰越期間分)'!BA12 -> 0 | BB12: ='①報告様式１別紙イ（年度末分） '!BB12+'②報告様式１別紙イ (繰越期間分)'!BB12 -> 0 | BC12: =BA12-BB12 -> 0 | BD12: ='①報告様式１別紙イ（年度末分） '!BD12+'②報告様式１別紙イ (繰越期間分)'!BD12 -> 0 | BE12: ='①報告様式１別紙イ（年度末分） '!BE12+'②報告様式１別紙イ (繰越期間分)'!BE12 -> 0 | BF12: =BD12-BE12 -> 0 | BG12: ='①報告様式１別紙イ（年度末分） '!BG12+'②報告様式１別紙イ (繰越期間分)'!BG12 -> 0 | BH12: ='①報告様式１別紙イ（年度末分） '!BH12+'②報告様式１別紙イ (繰越期間分)'!BH12 -> 0 | BI12: =BG12-BH12 -> 0 | BJ12: ='①報告様式１別紙イ（年度末分） '!BJ12+'②報告様式１別紙イ (繰越期間分)'!BJ12 -> 0 | BK12: ='①報告様式１別紙イ（年度末分） '!BK12+'②報告様式１別紙イ (繰越期間分)'!BK12 -> 0 | BL12: =BJ12-BK12 -> 0 | BM12: ='①報告様式１別紙イ（年度末分） '!BM12+'②報告様式１別紙イ (繰越期間分)'!BM12 -> 0 | BN12: ='①報告様式１別紙イ（年度末分） '!BN12+'②報告様式１別紙イ (繰越期間分)'!BN12 -> 0 | BO12: =BM12-BN12 -> 0 | BP12: ='①報告様式１別紙イ（年度末分） '!BP12+'②報告様式１別紙イ (繰越期間分)'!BP12 -> 0 | BQ12: ='①報告様式１別紙イ（年度末分） '!BQ12+'②報告様式１別紙イ (繰越期間分)'!BQ12 -> 0 | BR12: =BP12-BQ12 -> 0 | BS12: ='①報告様式１別紙イ（年度末分） '!BS12+'②報告様式１別紙イ (繰越期間分)'!BS12 -> 0 | BT12: ='①報告様式１別紙イ（年度末分） '!BT12+'②報告様式１別紙イ (繰越期間分)'!BT12 -> 0 | BU12: =BS12-BT12 -> 0 | BV12: ='①報告様式１別紙イ（年度末分） '!BV12+'②報告様式１別紙イ (繰越期間分)'!BV12 -> 0 | BW12: ='①報告様式１別紙イ（年度末分） '!BW12+'②報告様式１別紙イ (繰越期間分)'!BW12 -> 0 | BX12: =BV12-BW12 -> 0 | BY12: ='①報告様式１別紙イ（年度末分） '!BY12+'②報告様式１別紙イ (繰越期間分)'!BY12 -> 0 | BZ12: ='①報告様式１別紙イ（年度末分） '!BZ12+'②報告様式１別紙イ (繰越期間分)'!BZ12 -> 0 | CA12: =BY12-BZ12 -> 0 | CB12: ='①報告様式１別紙イ（年度末分） '!CB12+'②報告様式１別紙イ (繰越期間分)'!CB12 -> 0 | CC12: ='①報告様式１別紙イ（年度末分） '!CC12+'②報告様式１別紙イ (繰越期間分)'!CC12 -> 0 | CD12: =CB12-CC12 -> 0 | CE12: ='①報告様式１別紙イ（年度末分） '!CE12+'②報告様式１別紙イ (繰越期間分)'!CE12 -> 0 | CF12: ='①報告様式１別紙イ（年度末分） '!CF12+'②報告様式１別紙イ (繰越期間分)'!CF12 -> 0 | CG12: =CE12-CF12 -> 0 | CH12: ='①報告様式１別紙イ（年度末分） '!CH12+'②報告様式１別紙イ (繰越期間分)'!CH12 -> 0 | CI12: ='①報告様式１別紙イ（年度末分） '!CI12+'②報告様式１別紙イ (繰越期間分)'!CI12 -> 0 | CJ12: =CH12-CI12 -> 0 | CK12: ='①報告様式１別紙イ（年度末分） '!CK12+'②報告様式１別紙イ (繰越期間分)'!CK12 -> 0 | CL12: ='①報告様式１別紙イ（年度末分） '!CL12+'②報告様式１別紙イ (繰越期間分)'!CL12 -> 0 | CM12: =CK12-CL12 -> 0 | CN12: ='①報告様式１別紙イ（年度末分） '!CN12+'②報告様式１別紙イ (繰越期間分)'!CN12 -> 0 | CO12: ='①報告様式１別紙イ（年度末分） '!CO12+'②報告様式１別紙イ (繰越期間分)'!CO12 -> 0 | CP12: =CN12-CO12 -> 0 | CQ12: ='①報告様式１別紙イ（年度末分） '!CQ12+'②報告様式１別紙イ (繰越期間分)'!CQ12 -> 0 | CR12: ='①報告様式１別紙イ（年度末分） '!CR12+'②報告様式１別紙イ (繰越期間分)'!CR12 -> 0 | CS12: =CQ12-CR12 -> 0 | CT12: ='①報告様式１別紙イ（年度末分） '!CT12+'②報告様式１別紙イ (繰越期間分)'!CT12 -> 0 | CU12: ='①報告様式１別紙イ（年度末分） '!CU12+'②報告様式１別紙イ (繰越期間分)'!CU12 -> 0 | CV12: =CT12-CU12 -> 0 | CW12: ='①報告様式１別紙イ（年度末分） '!CW12+'②報告様式１別紙イ (繰越期間分)'!CW12 -> 0 | CX12: ='①報告様式１別紙イ（年度末分） '!CX12+'②報告様式１別紙イ (繰越期間分)'!CX12 -> 0 | CY12: =CW12-CX12 -> 0 | CZ12: ='①報告様式１別紙イ（年度末分） '!CZ12+'②報告様式１別紙イ (繰越期間分)'!CZ12 -> 0 | DA12: ='①報告様式１別紙イ（年度末分） '!DA12+'②報告様式１別紙イ (繰越期間分)'!DA12 -> 0 | DB12: =CZ12-DA12 -> 0 | DC12: ='①報告様式１別紙イ（年度末分） '!DC12+'②報告様式１別紙イ (繰越期間分)'!DC12 -> 0 | DD12: ='①報告様式１別紙イ（年度末分） '!DD12+'②報告様式１別紙イ (繰越期間分)'!DD12 -> 0 | DE12: =DC12-DD12 -> 0 | DF12: ='①報告様式１別紙イ（年度末分） '!DF12+'②報告様式１別紙イ (繰越期間分)'!DF12 -> 0 | DG12: ='①報告様式１別紙イ（年度末分） '!DG12+'②報告様式１別紙イ (繰越期間分)'!DG12 -> 0 | DH12: =DF12-DG12 -> 0 | DI12: ='①報告様式１別紙イ（年度末分） '!DI12+'②報告様式１別紙イ (繰越期間分)'!DI12 -> 0 | DJ12: ='①報告様式１別紙イ（年度末分） '!DJ12+'②報告様式１別紙イ (繰越期間分)'!DJ12 -> 0 | DK12: =DI12-DJ12 -> 0 | DL12: ='①報告様式１別紙イ（年度末分） '!DL12+'②報告様式１別紙イ (繰越期間分)'!DL12 -> 0 | DM12: ='①報告様式１別紙イ（年度末分） '!DM12+'②報告様式１別紙イ (繰越期間分)'!DM12 -> 0 | DN12: =DL12-DM12 -> 0 | DO12: ='①報告様式１別紙イ（年度末分） '!DO12+'②報告様式１別紙イ (繰越期間分)'!DO12 -> 0 | DP12: ='①報告様式１別紙イ（年度末分） '!DP12+'②報告様式１別紙イ (繰越期間分)'!DP12 -> 0 | DQ12: =DO12-DP12 -> 0
C13: 直接経費合計 | E13: =SUM(H13,K13) -> 0 | F13: =SUM(I13,L13) -> 0 | G13: =SUM(J13,M13) -> 0 | H13: ='①報告様式１別紙イ（年度末分） '!H13+'②報告様式１別紙イ (繰越期間分)'!H13 -> 0 | I13: =SUM(I9:I12) -> 0 | J13: =H13-I13 -> 0 | K13: =SUM(N13,Q13,T13,W13,Z13,AC13,AF13,AI13,AL13,AO13,AR13,AU13,AX13,BA13,BD13,BG13,BJ13,BM13,BP13,BS13,BV13,BY13,CB13,CE13,CH13,CK13,CN13,CQ13,CT13,CW13,CZ13,DC13,DF13,DI13,DL13,DO13) -> 0 | L13: =SUM(O13,R13,U13,X13,AA13,AD13,AG13,AJ13,AM13,AP13,AS13,AV13,AY13,BB13,BE13,BH13,BK13,BN13,BQ13,BT13,BW13,BZ13,CC13,CF13,CI13,CL13,CO13,CR13,CU13,CX13,DA13,DD13,DG13,DJ13,DM13,DP13) -> 0 | M13: =SUM(P13,S13,V13,Y13,AB13,AE13,AH13,AK13,AN13,AQ13,AT13,AW13,AZ13,BC13,BF13,BI13,BL13,BO13,BR13,BU13,BX13,CA13,CD13,CG13,CJ13,CM13,CP13,CS13,CV13,CY13,DB13,DE13,DH13,DK13,DN13,DQ13) -> 0 | N13: ='①報告様式１別紙イ（年度末分） '!N13+'②報告様式１別紙イ (繰越期間分)'!N13 -> 0 | O13: =SUM(O9:O12) -> 0 | P13: =N13-O13 -> 0 | Q13: ='①報告様式１別紙イ（年度末分） '!Q13+'②報告様式１別紙イ (繰越期間分)'!Q13 -> 0 | R13: =SUM(R9:R12) -> 0 | S13: =Q13-R13 -> 0 | T13: ='①報告様式１別紙イ（年度末分） '!T13+'②報告様式１別紙イ (繰越期間分)'!T13 -> 0 | U13: =SUM(U9:U12) -> 0 | V13: =T13-U13 -> 0 | W13: ='①報告様式１別紙イ（年度末分） '!W13+'②報告様式１別紙イ (繰越期間分)'!W13 -> 0 | X13: =SUM(X9:X12) -> 0 | Y13: =W13-X13 -> 0 | Z13: ='①報告様式１別紙イ（年度末分） '!Z13+'②報告様式１別紙イ (繰越期間分)'!Z13 -> 0 | AA13: =SUM(AA9:AA12) -> 0 | AB13: =Z13-AA13 -> 0 | AC13: ='①報告様式１別紙イ（年度末分） '!AC13+'②報告様式１別紙イ (繰越期間分)'!AC13 -> 0 | AD13: =SUM(AD9:AD12) -> 0 | AE13: =AC13-AD13 -> 0 | AF13: ='①報告様式１別紙イ（年度末分） '!AF13+'②報告様式１別紙イ (繰越期間分)'!AF13 -> 0 | AG13: =SUM(AG9:AG12) -> 0 | AH13: =AF13-AG13 -> 0 | AI13: ='①報告様式１別紙イ（年度末分） '!AI13+'②報告様式１別紙イ (繰越期間分)'!AI13 -> 0 | AJ13: =SUM(AJ9:AJ12) -> 0 | AK13: =AI13-AJ13 -> 0 | AL13: ='①報告様式１別紙イ（年度末分） '!AL13+'②報告様式１別紙イ (繰越期間分)'!AL13 -> 0 | AM13: =SUM(AM9:AM12) -> 0 | AN13: =AL13-AM13 -> 0 | AO13: ='①報告様式１別紙イ（年度末分） '!AO13+'②報告様式１別紙イ (繰越期間分)'!AO13 -> 0 | AP13: =SUM(AP9:AP12) -> 0 | AQ13: =AO13-AP13 -> 0 | AR13: ='①報告様式１別紙イ（年度末分） '!AR13+'②報告様式１別紙イ (繰越期間分)'!AR13 -> 0 | AS13: =SUM(AS9:AS12) -> 0 | AT13: =AR13-AS13 -> 0 | AU13: ='①報告様式１別紙イ（年度末分） '!AU13+'②報告様式１別紙イ (繰越期間分)'!AU13 -> 0 | AV13: =SUM(AV9:AV12) -> 0 | AW13: =AU13-AV13 -> 0 | AX13: ='①報告様式１別紙イ（年度末分） '!AX13+'②報告様式１別紙イ (繰越期間分)'!AX13 -> 0 | AY13: =SUM(AY9:AY12) -> 0 | AZ13: =AX13-AY13 -> 0 | BA13: ='①報告様式１別紙イ（年度末分） '!BA13+'②報告様式１別紙イ (繰越期間分)'!BA13 -> 0 | BB13: =SUM(BB9:BB12) -> 0 | BC13: =BA13-BB13 -> 0 | BD13: ='①報告様式１別紙イ（年度末分） '!BD13+'②報告様式１別紙イ (繰越期間分)'!BD13 -> 0 | BE13: =SUM(BE9:BE12) -> 0 | BF13: =BD13-BE13 -> 0 | BG13: ='①報告様式１別紙イ（年度末分） '!BG13+'②報告様式１別紙イ (繰越期間分)'!BG13 -> 0 | BH13: =SUM(BH9:BH12) -> 0 | BI13: =BG13-BH13 -> 0 | BJ13: ='①報告様式１別紙イ（年度末分） '!BJ13+'②報告様式１別紙イ (繰越期間分)'!BJ13 -> 0 | BK13: =SUM(BK9:BK12) -> 0 | BL13: =BJ13-BK13 -> 0 | BM13: ='①報告様式１別紙イ（年度末分） '!BM13+'②報告様式１別紙イ (繰越期間分)'!BM13 -> 0 | BN13: =SUM(BN9:BN12) -> 0 | BO13: =BM13-BN13 -> 0 | BP13: ='①報告様式１別紙イ（年度末分） '!BP13+'②報告様式１別紙イ (繰越期間分)'!BP13 -> 0 | BQ13: =SUM(BQ9:BQ12) -> 0 | BR13: =BP13-BQ13 -> 0 | BS13: ='①報告様式１別紙イ（年度末分） '!BS13+'②報告様式１別紙イ (繰越期間分)'!BS13 -> 0 | BT13: =SUM(BT9:BT12) -> 0 | BU13: =BS13-BT13 -> 0 | BV13: ='①報告様式１別紙イ（年度末分） '!BV13+'②報告様式１別紙イ (繰越期間分)'!BV13 -> 0 | BW13: =SUM(BW9:BW12) -> 0 | BX13: =BV13-BW13 -> 0 | BY13: ='①報告様式１別紙イ（年度末分） '!BY13+'②報告様式１別紙イ (繰越期間分)'!BY13 -> 0 | BZ13: =SUM(BZ9:BZ12) -> 0 | CA13: =BY13-BZ13 -> 0 | CB13: ='①報告様式１別紙イ（年度末分） '!CB13+'②報告様式１別紙イ (繰越期間分)'!CB13 -> 0 | CC13: =SUM(CC9:CC12) -> 0 | CD13: =CB13-CC13 -> 0 | CE13: ='①報告様式１別紙イ（年度末分） '!CE13+'②報告様式１別紙イ (繰越期間分)'!CE13 -> 0 | CF13: =SUM(CF9:CF12) -> 0 | CG13: =CE13-CF13 -> 0 | CH13: ='①報告様式１別紙イ（年度末分） '!CH13+'②報告様式１別紙イ (繰越期間分)'!CH13 -> 0 | CI13: =SUM(CI9:CI12) -> 0 | CJ13: =CH13-CI13 -> 0 | CK13: ='①報告様式１別紙イ（年度末分） '!CK13+'②報告様式１別紙イ (繰越期間分)'!CK13 -> 0 | CL13: =SUM(CL9:CL12) -> 0 | CM13: =CK13-CL13 -> 0 | CN13: ='①報告様式１別紙イ（年度末分） '!CN13+'②報告様式１別紙イ (繰越期間分)'!CN13 -> 0 | CO13: =SUM(CO9:CO12) -> 0 | CP13: =CN13-CO13 -> 0 | CQ13: ='①報告様式１別紙イ（年度末分） '!CQ13+'②報告様式１別紙イ (繰越期間分)'!CQ13 -> 0 | CR13: =SUM(CR9:CR12) -> 0 | CS13: =CQ13-CR13 -> 0 | CT13: ='①報告様式１別紙イ（年度末分） '!CT13+'②報告様式１別紙イ (繰越期間分)'!CT13 -> 0 | CU13: =SUM(CU9:CU12) -> 0 | CV13: =CT13-CU13 -> 0 | CW13: ='①報告様式１別紙イ（年度末分） '!CW13+'②報告様式１別紙イ (繰越期間分)'!CW13 -> 0 | CX13: =SUM(CX9:CX12) -> 0 | CY13: =CW13-CX13 -> 0 | CZ13: ='①報告様式１別紙イ（年度末分） '!CZ13+'②報告様式１別紙イ (繰越期間分)'!CZ13 -> 0 | DA13: =SUM(DA9:DA12) -> 0 | DB13: =CZ13-DA13 -> 0 | DC13: ='①報告様式１別紙イ（年度末分） '!DC13+'②報告様式１別紙イ (繰越期間分)'!DC13 -> 0 | DD13: =SUM(DD9:DD12) -> 0 | DE13: =DC13-DD13 -> 0 | DF13: ='①報告様式１別紙イ（年度末分） '!DF13+'②報告様式１別紙イ (繰越期間分)'!DF13 -> 0 | DG13: =SUM(DG9:DG12) -> 0 | DH13: =DF13-DG13 -> 0 | DI13: ='①報告様式１別紙イ（年度末分） '!DI13+'②報告様式１別紙イ (繰越期間分)'!DI13 -> 0 | DJ13: =SUM(DJ9:DJ12) -> 0 | DK13: =DI13-DJ13 -> 0 | DL13: ='①報告様式１別紙イ（年度末分） '!DL13+'②報告様式１別紙イ (繰越期間分)'!DL13 -> 0 | DM13: =SUM(DM9:DM12) -> 0 | DN13: =DL13-DM13 -> 0 | DO13: ='①報告様式１別紙イ（年度末分） '!DO13+'②報告様式１別紙イ (繰越期間分)'!DO13 -> 0 | DP13: =SUM(DP9:DP12) -> 0 | DQ13: =DO13-DP13 -> 0
B14: 間接経費（B） | E14: =SUM(H14,K14) -> 0 | F14: =SUM(I14,L14) -> 0 | G14: =SUM(J14,M14) -> 0 | H14: ='①報告様式１別紙イ（年度末分） '!H14+'②報告様式１別紙イ (繰越期間分)'!H14 -> 0 | I14: ='①報告様式１別紙イ（年度末分） '!I14+'②報告様式１別紙イ (繰越期間分)'!I14 -> 0 | J14: =H14-I14 -> 0 | K14: =SUM(N14,Q14,T14,W14,Z14,AC14,AF14,AI14,AL14,AO14,AR14,AU14,AX14,BA14,BD14,BG14,BJ14,BM14,BP14,BS14,BV14,BY14,CB14,CE14,CH14,CK14,CN14,CQ14,CT14,CW14,CZ14,DC14,DF14,DI14,DL14,DO14) -> 0 | L14: =SUM(O14,R14,U14,X14,AA14,AD14,AG14,AJ14,AM14,AP14,AS14,AV14,AY14,BB14,BE14,BH14,BK14,BN14,BQ14,BT14,BW14,BZ14,CC14,CF14,CI14,CL14,CO14,CR14,CU14,CX14,DA14,DD14,DG14,DJ14,DM14,DP14) -> 0 | M14: =SUM(P14,S14,V14,Y14,AB14,AE14,AH14,AK14,AN14,AQ14,AT14,AW14,AZ14,BC14,BF14,BI14,BL14,BO14,BR14,BU14,BX14,CA14,CD14,CG14,CJ14,CM14,CP14,CS14,CV14,CY14,DB14,DE14,DH14,DK14,DN14,DQ14) -> 0 | N14: ='①報告様式１別紙イ（年度末分） '!N14+'②報告様式１別紙イ (繰越期間分)'!N14 -> 0 | O14: ='①報告様式１別紙イ（年度末分） '!O14+'②報告様式１別紙イ (繰越期間分)'!O14 -> 0 | P14: =N14-O14 -> 0 | Q14: ='①報告様式１別紙イ（年度末分） '!Q14+'②報告様式１別紙イ (繰越期間分)'!Q14 -> 0 | R14: ='①報告様式１別紙イ（年度末分） '!R14+'②報告様式１別紙イ (繰越期間分)'!R14 -> 0 | S14: =Q14-R14 -> 0 | T14: ='①報告様式１別紙イ（年度末分） '!T14+'②報告様式１別紙イ (繰越期間分)'!T14 -> 0 | U14: ='①報告様式１別紙イ（年度末分） '!U14+'②報告様式１別紙イ (繰越期間分)'!U14 -> 0 | V14: =T14-U14 -> 0 | W14: ='①報告様式１別紙イ（年度末分） '!W14+'②報告様式１別紙イ (繰越期間分)'!W14 -> 0 | X14: ='①報告様式１別紙イ（年度末分） '!X14+'②報告様式１別紙イ (繰越期間分)'!X14 -> 0 | Y14: =W14-X14 -> 0 | Z14: ='①報告様式１別紙イ（年度末分） '!Z14+'②報告様式１別紙イ (繰越期間分)'!Z14 -> 0 | AA14: ='①報告様式１別紙イ（年度末分） '!AA14+'②報告様式１別紙イ (繰越期間分)'!AA14 -> 0 | AB14: =Z14-AA14 -> 0 | AC14: ='①報告様式１別紙イ（年度末分） '!AC14+'②報告様式１別紙イ (繰越期間分)'!AC14 -> 0 | AD14: ='①報告様式１別紙イ（年度末分） '!AD14+'②報告様式１別紙イ (繰越期間分)'!AD14 -> 0 | AE14: =AC14-AD14 -> 0 | AF14: ='①報告様式１別紙イ（年度末分） '!AF14+'②報告様式１別紙イ (繰越期間分)'!AF14 -> 0 | AG14: ='①報告様式１別紙イ（年度末分） '!AG14+'②報告様式１別紙イ (繰越期間分)'!AG14 -> 0 | AH14: =AF14-AG14 -> 0 | AI14: ='①報告様式１別紙イ（年度末分） '!AI14+'②報告様式１別紙イ (繰越期間分)'!AI14 -> 0 | AJ14: ='①報告様式１別紙イ（年度末分） '!AJ14+'②報告様式１別紙イ (繰越期間分)'!AJ14 -> 0 | AK14: =AI14-AJ14 -> 0 | AL14: ='①報告様式１別紙イ（年度末分） '!AL14+'②報告様式１別紙イ (繰越期間分)'!AL14 -> 0 | AM14: ='①報告様式１別紙イ（年度末分） '!AM14+'②報告様式１別紙イ (繰越期間分)'!AM14 -> 0 | AN14: =AL14-AM14 -> 0 | AO14: ='①報告様式１別紙イ（年度末分） '!AO14+'②報告様式１別紙イ (繰越期間分)'!AO14 -> 0 | AP14: ='①報告様式１別紙イ（年度末分） '!AP14+'②報告様式１別紙イ (繰越期間分)'!AP14 -> 0 | AQ14: =AO14-AP14 -> 0 | AR14: ='①報告様式１別紙イ（年度末分） '!AR14+'②報告様式１別紙イ (繰越期間分)'!AR14 -> 0 | AS14: ='①報告様式１別紙イ（年度末分） '!AS14+'②報告様式１別紙イ (繰越期間分)'!AS14 -> 0 | AT14: =AR14-AS14 -> 0 | AU14: ='①報告様式１別紙イ（年度末分） '!AU14+'②報告様式１別紙イ (繰越期間分)'!AU14 -> 0 | AV14: ='①報告様式１別紙イ（年度末分） '!AV14+'②報告様式１別紙イ (繰越期間分)'!AV14 -> 0 | AW14: =AU14-AV14 -> 0 | AX14: ='①報告様式１別紙イ（年度末分） '!AX14+'②報告様式１別紙イ (繰越期間分)'!AX14 -> 0 | AY14: ='①報告様式１別紙イ（年度末分） '!AY14+'②報告様式１別紙イ (繰越期間分)'!AY14 -> 0 | AZ14: =AX14-AY14 -> 0 | BA14: ='①報告様式１別紙イ（年度末分） '!BA14+'②報告様式１別紙イ (繰越期間分)'!BA14 -> 0 | BB14: ='①報告様式１別紙イ（年度末分） '!BB14+'②報告様式１別紙イ (繰越期間分)'!BB14 -> 0 | BC14: =BA14-BB14 -> 0 | BD14: ='①報告様式１別紙イ（年度末分） '!BD14+'②報告様式１別紙イ (繰越期間分)'!BD14 -> 0 | BE14: ='①報告様式１別紙イ（年度末分） '!BE14+'②報告様式１別紙イ (繰越期間分)'!BE14 -> 0 | BF14: =BD14-BE14 -> 0 | BG14: ='①報告様式１別紙イ（年度末分） '!BG14+'②報告様式１別紙イ (繰越期間分)'!BG14 -> 0 | BH14: ='①報告様式１別紙イ（年度末分） '!BH14+'②報告様式１別紙イ (繰越期間分)'!BH14 -> 0 | BI14: =BG14-BH14 -> 0 | BJ14: ='①報告様式１別紙イ（年度末分） '!BJ14+'②報告様式１別紙イ (繰越期間分)'!BJ14 -> 0 | BK14: ='①報告様式１別紙イ（年度末分） '!BK14+'②報告様式１別紙イ (繰越期間分)'!BK14 -> 0 | BL14: =BJ14-BK14 -> 0 | BM14: ='①報告様式１別紙イ（年度末分） '!BM14+'②報告様式１別紙イ (繰越期間分)'!BM14 -> 0 | BN14: ='①報告様式１別紙イ（年度末分） '!BN14+'②報告様式１別紙イ (繰越期間分)'!BN14 -> 0 | BO14: =BM14-BN14 -> 0 | BP14: ='①報告様式１別紙イ（年度末分） '!BP14+'②報告様式１別紙イ (繰越期間分)'!BP14 -> 0 | BQ14: ='①報告様式１別紙イ（年度末分） '!BQ14+'②報告様式１別紙イ (繰越期間分)'!BQ14 -> 0 | BR14: =BP14-BQ14 -> 0 | BS14: ='①報告様式１別紙イ（年度末分） '!BS14+'②報告様式１別紙イ (繰越期間分)'!BS14 -> 0 | BT14: ='①報告様式１別紙イ（年度末分） '!BT14+'②報告様式１別紙イ (繰越期間分)'!BT14 -> 0 | BU14: =BS14-BT14 -> 0 | BV14: ='①報告様式１別紙イ（年度末分） '!BV14+'②報告様式１別紙イ (繰越期間分)'!BV14 -> 0 | BW14: ='①報告様式１別紙イ（年度末分） '!BW14+'②報告様式１別紙イ (繰越期間分)'!BW14 -> 0 | BX14: =BV14-BW14 -> 0 | BY14: ='①報告様式１別紙イ（年度末分） '!BY14+'②報告様式１別紙イ (繰越期間分)'!BY14 -> 0 | BZ14: ='①報告様式１別紙イ（年度末分） '!BZ14+'②報告様式１別紙イ (繰越期間分)'!BZ14 -> 0 | CA14: =BY14-BZ14 -> 0 | CB14: ='①報告様式１別紙イ（年度末分） '!CB14+'②報告様式１別紙イ (繰越期間分)'!CB14 -> 0 | CC14: ='①報告様式１別紙イ（年度末分） '!CC14+'②報告様式１別紙イ (繰越期間分)'!CC14 -> 0 | CD14: =CB14-CC14 -> 0 | CE14: ='①報告様式１別紙イ（年度末分） '!CE14+'②報告様式１別紙イ (繰越期間分)'!CE14 -> 0 | CF14: ='①報告様式１別紙イ（年度末分） '!CF14+'②報告様式１別紙イ (繰越期間分)'!CF14 -> 0 | CG14: =CE14-CF14 -> 0 | CH14: ='①報告様式１別紙イ（年度末分） '!CH14+'②報告様式１別紙イ (繰越期間分)'!CH14 -> 0 | CI14: ='①報告様式１別紙イ（年度末分） '!CI14+'②報告様式１別紙イ (繰越期間分)'!CI14 -> 0 | CJ14: =CH14-CI14 -> 0 | CK14: ='①報告様式１別紙イ（年度末分） '!CK14+'②報告様式１別紙イ (繰越期間分)'!CK14 -> 0 | CL14: ='①報告様式１別紙イ（年度末分） '!CL14+'②報告様式１別紙イ (繰越期間分)'!CL14 -> 0 | CM14: =CK14-CL14 -> 0 | CN14: ='①報告様式１別紙イ（年度末分） '!CN14+'②報告様式１別紙イ (繰越期間分)'!CN14 -> 0 | CO14: ='①報告様式１別紙イ（年度末分） '!CO14+'②報告様式１別紙イ (繰越期間分)'!CO14 -> 0 | CP14: =CN14-CO14 -> 0 | CQ14: ='①報告様式１別紙イ（年度末分） '!CQ14+'②報告様式１別紙イ (繰越期間分)'!CQ14 -> 0 | CR14: ='①報告様式１別紙イ（年度末分） '!CR14+'②報告様式１別紙イ (繰越期間分)'!CR14 -> 0 | CS14: =CQ14-CR14 -> 0 | CT14: ='①報告様式１別紙イ（年度末分） '!CT14+'②報告様式１別紙イ (繰越期間分)'!CT14 -> 0 | CU14: ='①報告様式１別紙イ（年度末分） '!CU14+'②報告様式１別紙イ (繰越期間分)'!CU14 -> 0 | CV14: =CT14-CU14 -> 0 | CW14: ='①報告様式１別紙イ（年度末分） '!CW14+'②報告様式１別紙イ (繰越期間分)'!CW14 -> 0 | CX14: ='①報告様式１別紙イ（年度末分） '!CX14+'②報告様式１別紙イ (繰越期間分)'!CX14 -> 0 | CY14: =CW14-CX14 -> 0 | CZ14: ='①報告様式１別紙イ（年度末分） '!CZ14+'②報告様式１別紙イ (繰越期間分)'!CZ14 -> 0 | DA14: ='①報告様式１別紙イ（年度末分） '!DA14+'②報告様式１別紙イ (繰越期間分)'!DA14 -> 0 | DB14: =CZ14-DA14 -> 0 | DC14: ='①報告様式１別紙イ（年度末分） '!DC14+'②報告様式１別紙イ (繰越期間分)'!DC14 -> 0 | DD14: ='①報告様式１別紙イ（年度末分） '!DD14+'②報告様式１別紙イ (繰越期間分)'!DD14 -> 0 | DE14: =DC14-DD14 -> 0 | DF14: ='①報告様式１別紙イ（年度末分） '!DF14+'②報告様式１別紙イ (繰越期間分)'!DF14 -> 0 | DG14: ='①報告様式１別紙イ（年度末分） '!DG14+'②報告様式１別紙イ (繰越期間分)'!DG14 -> 0 | DH14: =DF14-DG14 -> 0 | DI14: ='①報告様式１別紙イ（年度末分） '!DI14+'②報告様式１別紙イ (繰越期間分)'!DI14 -> 0 | DJ14: ='①報告様式１別紙イ（年度末分） '!DJ14+'②報告様式１別紙イ (繰越期間分)'!DJ14 -> 0 | DK14: =DI14-DJ14 -> 0 | DL14: ='①報告様式１別紙イ（年度末分） '!DL14+'②報告様式１別紙イ (繰越期間分)'!DL14 -> 0 | DM14: ='①報告様式１別紙イ（年度末分） '!DM14+'②報告様式１別紙イ (繰越期間分)'!DM14 -> 0 | DN14: =DL14-DM14 -> 0 | DO14: ='①報告様式１別紙イ（年度末分） '!DO14+'②報告様式１別紙イ (繰越期間分)'!DO14 -> 0 | DP14: ='①報告様式１別紙イ（年度末分） '!DP14+'②報告様式１別紙イ (繰越期間分)'!DP14 -> 0 | DQ14: =DO14-DP14 -> 0
B15: 間接経費率 | D15: （上限額）／判定 | E15: 契約時の間接経費率を百分率（％）で入力して下さい→ | H15: ='①報告様式１別紙イ（年度末分） '!H15 -> 0 | I15: =MIN(H14,ROUNDDOWN(I13*H15,0)) -> 0 | J15: =IF(I14>I15,"ERR","") | K15: 契約時の間接経費率を百分率（％）で入力して下さい→ | N15: ='①報告様式１別紙イ（年度末分） '!N15 -> 0 | O15: =MIN(N14,ROUNDDOWN(O13*N15,0)) -> 0 | P15: =IF(O14>O15,"ERR","") | Q15: ='①報告様式１別紙イ（年度末分） '!Q15 -> 0 | R15: =MIN(Q14,ROUNDDOWN(R13*Q15,0)) -> 0 | S15: =IF(R14>R15,"ERR","") | T15: ='①報告様式１別紙イ（年度末分） '!T15 -> 0 | U15: =MIN(T14,ROUNDDOWN(U13*T15,0)) -> 0 | V15: =IF(U14>U15,"ERR","") | W15: ='①報告様式１別紙イ（年度末分） '!W15 -> 0 | X15: =MIN(W14,ROUNDDOWN(X13*W15,0)) -> 0 | Y15: =IF(X14>X15,"ERR","") | Z15: ='①報告様式１別紙イ（年度末分） '!Z15 -> 0 | AA15: =MIN(Z14,ROUNDDOWN(AA13*Z15,0)) -> 0 | AB15: =IF(AA14>AA15,"ERR","") | AC15: ='①報告様式１別紙イ（年度末分） '!AC15 -> 0 | AD15: =MIN(AC14,ROUNDDOWN(AD13*AC15,0)) -> 0 | AE15: =IF(AD14>AD15,"ERR","") | AF15: ='①報告様式１別紙イ（年度末分） '!AF15 -> 0 | AG15: =MIN(AF14,ROUNDDOWN(AG13*AF15,0)) -> 0 | AH15: =IF(AG14>AG15,"ERR","") | AI15: ='①報告様式１別紙イ（年度末分） '!AI15 -> 0 | AJ15: =MIN(AI14,ROUNDDOWN(AJ13*AI15,0)) -> 0 | AK15: =IF(AJ14>AJ15,"ERR","") | AL15: ='①報告様式１別紙イ（年度末分） '!AL15 -> 0 | AM15: =MIN(AL14,ROUNDDOWN(AM13*AL15,0)) -> 0 | AN15: =IF(AM14>AM15,"ERR","") | AO15: ='①報告様式１別紙イ（年度末分） '!AO15 -> 0 | AP15: =MIN(AO14,ROUNDDOWN(AP13*AO15,0)) -> 0 | AQ15: =IF(AP14>AP15,"ERR","") | AR15: ='①報告様式１別紙イ（年度末分） '!AR15 -> 0 | AS15: =MIN(AR14,ROUNDDOWN(AS13*AR15,0)) -> 0 | AT15: =IF(AS14>AS15,"ERR","") | AU15: ='①報告様式１別紙イ（年度末分） '!AU15 -> 0 | AV15: =MIN(AU14,ROUNDDOWN(AV13*AU15,0)) -> 0 | AW15: =IF(AV14>AV15,"ERR","") | AX15: ='①報告様式１別紙イ（年度末分） '!AX15 -> 0 | AY15: =MIN(AX14,ROUNDDOWN(AY13*AX15,0)) -> 0 | AZ15: =IF(AY14>AY15,"ERR","") | BA15: ='①報告様式１別紙イ（年度末分） '!BA15 -> 0 | BB15: =MIN(BA14,ROUNDDOWN(BB13*BA15,0)) -> 0 | BC15: =IF(BB14>BB15,"ERR","") | BD15: ='①報告様式１別紙イ（年度末分） '!BD15 -> 0 | BE15: =MIN(BD14,ROUNDDOWN(BE13*BD15,0)) -> 0 | BF15: =IF(BE14>BE15,"ERR","") | BG15: ='①報告様式１別紙イ（年度末分） '!BG15 -> 0 | BH15: =MIN(BG14,ROUNDDOWN(BH13*BG15,0)) -> 0 | BI15: =IF(BH14>BH15,"ERR","") | BJ15: ='①報告様式１別紙イ（年度末分） '!BJ15 -> 0 | BK15: =MIN(BJ14,ROUNDDOWN(BK13*BJ15,0)) -> 0 | BL15: =IF(BK14>BK15,"ERR","") | BM15: ='①報告様式１別紙イ（年度末分） '!BM15 -> 0 | BN15: =MIN(BM14,ROUNDDOWN(BN13*BM15,0)) -> 0 | BO15: =IF(BN14>BN15,"ERR","") | BP15: ='①報告様式１別紙イ（年度末分） '!BP15 -> 0 | BQ15: =MIN(BP14,ROUNDDOWN(BQ13*BP15,0)) -> 0 | BR15: =IF(BQ14>BQ15,"ERR","") | BS15: ='①報告様式１別紙イ（年度末分） '!BS15 -> 0 | BT15: =MIN(BS14,ROUNDDOWN(BT13*BS15,0)) -> 0 | BU15: =IF(BT14>BT15,"ERR","") | BV15: ='①報告様式１別紙イ（年度末分） '!BV15 -> 0 | BW15: =MIN(BV14,ROUNDDOWN(BW13*BV15,0)) -> 0 | BX15: =IF(BW14>BW15,"ERR","") | BY15: ='①報告様式１別紙イ（年度末分） '!BY15 -> 0 | BZ15: =MIN(BY14,ROUNDDOWN(BZ13*BY15,0)) -> 0 | CA15: =IF(BZ14>BZ15,"ERR","") | CB15: ='①報告様式１別紙イ（年度末分） '!CB15 -> 0 | CC15: =MIN(CB14,ROUNDDOWN(CC13*CB15,0)) -> 0 | CD15: =IF(CC14>CC15,"ERR","") | CE15: ='①報告様式１別紙イ（年度末分） '!CE15 -> 0 | CF15: =MIN(CE14,ROUNDDOWN(CF13*CE15,0)) -> 0 | CG15: =IF(CF14>CF15,"ERR","") | CH15: ='①報告様式１別紙イ（年度末分） '!CH15 -> 0 | CI15: =MIN(CH14,ROUNDDOWN(CI13*CH15,0)) -> 0 | CJ15: =IF(CI14>CI15,"ERR","") | CK15: ='①報告様式１別紙イ（年度末分） '!CK15 -> 0 | CL15: =MIN(CK14,ROUNDDOWN(CL13*CK15,0)) -> 0 | CM15: =IF(CL14>CL15,"ERR","") | CN15: ='①報告様式１別紙イ（年度末分） '!CN15 -> 0 | CO15: =MIN(CN14,ROUNDDOWN(CO13*CN15,0)) -> 0 | CP15: =IF(CO14>CO15,"ERR","") | CQ15: ='①報告様式１別紙イ（年度末分） '!CQ15 -> 0 | CR15: =MIN(CQ14,ROUNDDOWN(CR13*CQ15,0)) -> 0 | CS15: =IF(CR14>CR15,"ERR","") | CT15: ='①報告様式１別紙イ（年度末分） '!CT15 -> 0 | CU15: =MIN(CT14,ROUNDDOWN(CU13*CT15,0)) -> 0 | CV15: =IF(CU14>CU15,"ERR","") | CW15: ='①報告様式１別紙イ（年度末分） '!CW15 -> 0 | CX15: =MIN(CW14,ROUNDDOWN(CX13*CW15,0)) -> 0 | CY15: =IF(CX14>CX15,"ERR","") | CZ15: ='①報告様式１別紙イ（年度末分） '!CZ15 -> 0 | DA15: =MIN(CZ14,ROUNDDOWN(DA13*CZ15,0)) -> 0 | DB15: =IF(DA14>DA15,"ERR","") | DC15: ='①報告様式１別紙イ（年度末分） '!DC15 -> 0 | DD15: =MIN(DC14,ROUNDDOWN(DD13*DC15,0)) -> 0 | DE15: =IF(DD14>DD15,"ERR","") | DF15: ='①報告様式１別紙イ（年度末分） '!DF15 -> 0 | DG15: =MIN(DF14,ROUNDDOWN(DG13*DF15,0)) -> 0 | DH15: =IF(DG14>DG15,"ERR","") | DI15: ='①報告様式１別紙イ（年度末分） '!DI15 -> 0 | DJ15: =MIN(DI14,ROUNDDOWN(DJ13*DI15,0)) -> 0 | DK15: =IF(DJ14>DJ15,"ERR","") | DL15: ='①報告様式１別紙イ（年度末分） '!DL15 -> 0 | DM15: =MIN(DL14,ROUNDDOWN(DM13*DL15,0)) -> 0 | DN15: =IF(DM14>DM15,"ERR","") | DO15: ='①報告様式１別紙イ（年度末分） '!DO15 -> 0 | DP15: =MIN(DO14,ROUNDDOWN(DP13*DO15,0)) -> 0 | DQ15: =IF(DP14>DP15,"ERR","")
B16: 返還額（年度末分） | G16: =SUM(J16,M16) -> 0 | J16: ='①報告様式１別紙イ（年度末分） '!J16 -> 0 | M16: =SUM(P16,S16,V16,Y16,AB16,AE16,AH16,AK16,AN16,AQ16,AT16,AW16,AZ16,BC16,BF16,BI16,BL16,BO16,BR16,BU16,BX16,CA16,CD16,CG16,CJ16,CM16,CP16,CS16,CV16,CY16,DB16,DE16,DH16,DK16,DN16,DQ16) -> 0 | P16: ='①報告様式１別紙イ（年度末分） '!P16 -> 0 | S16: ='①報告様式１別紙イ（年度末分） '!S16 -> 0 | V16: ='①報告様式１別紙イ（年度末分） '!V16 -> 0 | Y16: ='①報告様式１別紙イ（年度末分） '!Y16 -> 0 | AB16: ='①報告様式１別紙イ（年度末分） '!AB16 -> 0 | AE16: ='①報告様式１別紙イ（年度末分） '!AE16 -> 0 | AH16: ='①報告様式１別紙イ（年度末分） '!AH16 -> 0 | AK16: ='①報告様式１別紙イ（年度末分） '!AK16 -> 0 | AN16: ='①報告様式１別紙イ（年度末分） '!AN16 -> 0 | AQ16: ='①報告様式１別紙イ（年度末分） '!AQ16 -> 0 | AT16: ='①報告様式１別紙イ（年度末分） '!AT16 -> 0 | AW16: ='①報告様式１別紙イ（年度末分） '!AW16 -> 0 | AZ16: ='①報告様式１別紙イ（年度末分） '!AZ16 -> 0 | BC16: ='①報告様式１別紙イ（年度末分） '!BC16 -> 0 | BF16: ='①報告様式１別紙イ（年度末分） '!BF16 -> 0 | BI16: ='①報告様式１別紙イ（年度末分） '!BI16 -> 0 | BL16: ='①報告様式１別紙イ（年度末分） '!BL16 -> 0 | BO16: ='①報告様式１別紙イ（年度末分） '!BO16 -> 0 | BR16: ='①報告様式１別紙イ（年度末分） '!BR16 -> 0 | BU16: ='①報告様式１別紙イ（年度末分） '!BU16 -> 0 | BX16: ='①報告様式１別紙イ（年度末分） '!BX16 -> 0 | CA16: ='①報告様式１別紙イ（年度末分） '!CA16 -> 0 | CD16: ='①報告様式１別紙イ（年度末分） '!CD16 -> 0 | CG16: ='①報告様式１別紙イ（年度末分） '!CG16 -> 0 | CJ16: ='①報告様式１別紙イ（年度末分） '!CJ16 -> 0 | CM16: ='①報告様式１別紙イ（年度末分） '!CM16 -> 0 | CP16: ='①報告様式１別紙イ（年度末分） '!CP16 -> 0 | CS16: ='①報告様式１別紙イ（年度末分） '!CS16 -> 0 | CV16: ='①報告様式１別紙イ（年度末分） '!CV16 -> 0 | CY16: ='①報告様式１別紙イ（年度末分） '!CY16 -> 0 | DB16: ='①報告様式１別紙イ（年度末分） '!DB16 -> 0 | DE16: ='①報告様式１別紙イ（年度末分） '!DE16 -> 0 | DH16: ='①報告様式１別紙イ（年度末分） '!DH16 -> 0 | DK16: ='①報告様式１別紙イ（年度末分） '!DK16 -> 0 | DN16: ='①報告様式１別紙イ（年度末分） '!DN16 -> 0 | DQ16: ='①報告様式１別紙イ（年度末分） '!DQ16 -> 0
B17: 返還額（繰越期間分） | G17: =SUM(J17,M17) -> 0 | J17: ='②報告様式１別紙イ (繰越期間分)'!J16 -> 0 | M17: =SUM(P17,S17,V17,Y17,AB17,AE17,AH17,AK17,AN17,AQ17,AT17,AW17,AZ17,BC17,BF17,BI17,BL17,BO17,BR17,BU17,BX17,CA17,CD17,CG17,CJ17,CM17,CP17,CS17,CV17,CY17,DB17,DE17,DH17,DK17,DN17,DQ17) -> 0 | P17: ='②報告様式１別紙イ (繰越期間分)'!P16 -> 0 | S17: ='②報告様式１別紙イ (繰越期間分)'!S16 -> 0 | V17: ='②報告様式１別紙イ (繰越期間分)'!V16 -> 0 | Y17: ='②報告様式１別紙イ (繰越期間分)'!Y16 -> 0 | AB17: ='②報告様式１別紙イ (繰越期間分)'!AB16 -> 0 | AE17: ='②報告様式１別紙イ (繰越期間分)'!AE16 -> 0 | AH17: ='②報告様式１別紙イ (繰越期間分)'!AH16 -> 0 | AK17: ='②報告様式１別紙イ (繰越期間分)'!AK16 -> 0 | AN17: ='②報告様式１別紙イ (繰越期間分)'!AN16 -> 0 | AQ17: ='②報告様式１別紙イ (繰越期間分)'!AQ16 -> 0 | AT17: ='②報告様式１別紙イ (繰越期間分)'!AT16 -> 0 | AW17: ='②報告様式１別紙イ (繰越期間分)'!AW16 -> 0 | AZ17: ='②報告様式１別紙イ (繰越期間分)'!AZ16 -> 0 | BC17: ='②報告様式１別紙イ (繰越期間分)'!BC16 -> 0 | BF17: ='②報告様式１別紙イ (繰越期間分)'!BF16 -> 0 | BI17: ='②報告様式１別紙イ (繰越期間分)'!BI16 -> 0 | BL17: ='②報告様式１別紙イ (繰越期間分)'!BL16 -> 0 | BO17: ='②報告様式１別紙イ (繰越期間分)'!BO16 -> 0 | BR17: ='②報告様式１別紙イ (繰越期間分)'!BR16 -> 0 | BU17: ='②報告様式１別紙イ (繰越期間分)'!BU16 -> 0 | BX17: ='②報告様式１別紙イ (繰越期間分)'!BX16 -> 0 | CA17: ='②報告様式１別紙イ (繰越期間分)'!CA16 -> 0 | CD17: ='②報告様式１別紙イ (繰越期間分)'!CD16 -> 0 | CG17: ='②報告様式１別紙イ (繰越期間分)'!CG16 -> 0 | CJ17: ='②報告様式１別紙イ (繰越期間分)'!CJ16 -> 0 | CM17: ='②報告様式１別紙イ (繰越期間分)'!CM16 -> 0 | CP17: ='②報告様式１別紙イ (繰越期間分)'!CP16 -> 0 | CS17: ='②報告様式１別紙イ (繰越期間分)'!CS16 -> 0 | CV17: ='②報告様式１別紙イ (繰越期間分)'!CV16 -> 0 | CY17: ='②報告様式１別紙イ (繰越期間分)'!CY16 -> 0 | DB17: ='②報告様式１別紙イ (繰越期間分)'!DB16 -> 0 | DE17: ='②報告様式１別紙イ (繰越期間分)'!DE16 -> 0 | DH17: ='②報告様式１別紙イ (繰越期間分)'!DH16 -> 0 | DK17: ='②報告様式１別紙イ (繰越期間分)'!DK16 -> 0 | DN17: ='②報告様式１別紙イ (繰越期間分)'!DN16 -> 0 | DQ17: ='②報告様式１別紙イ (繰越期間分)'!DQ16 -> 0
B18: 返還額（合計） | G18: =SUM(J18,M18) -> 0 | J18: =SUM(J16:J17)+H24 -> 0 | M18: =SUM(P18,S18,V18,Y18,AB18,AE18,AH18,AK18,AN18,AQ18,AT18,AW18,AZ18,BC18,BF18,BI18,BL18,BO18,BR18,BU18,BX18,CA18,CD18,CG18,CJ18,CM18,CP18,CS18,CV18,CY18,DB18,DE18,DH18,DK18,DN18,DQ18) -> 0 | P18: =SUM(P16:P17)+N24 -> 0 | S18: =SUM(S16:S17) -> 0 | V18: =SUM(V16:V17) -> 0 | Y18: =SUM(Y16:Y17) -> 0 | AB18: =SUM(AB16:AB17) -> 0 | AE18: =SUM(AE16:AE17) -> 0 | AH18: =SUM(AH16:AH17) -> 0 | AK18: =SUM(AK16:AK17) -> 0 | AN18: =SUM(AN16:AN17) -> 0 | AQ18: =SUM(AQ16:AQ17) -> 0 | AT18: =SUM(AT16:AT17) -> 0 | AW18: =SUM(AW16:AW17) -> 0 | AZ18: =SUM(AZ16:AZ17) -> 0 | BC18: =SUM(BC16:BC17) -> 0 | BF18: =SUM(BF16:BF17) -> 0 | BI18: =SUM(BI16:BI17) -> 0 | BL18: =SUM(BL16:BL17) -> 0 | BO18: =SUM(BO16:BO17) -> 0 | BR18: =SUM(BR16:BR17) -> 0 | BU18: =SUM(BU16:BU17) -> 0 | BX18: =SUM(BX16:BX17) -> 0 | CA18: =SUM(CA16:CA17) -> 0 | CD18: =SUM(CD16:CD17) -> 0 | CG18: =SUM(CG16:CG17) -> 0 | CJ18: =SUM(CJ16:CJ17) -> 0 | CM18: =SUM(CM16:CM17) -> 0 | CP18: =SUM(CP16:CP17) -> 0 | CS18: =SUM(CS16:CS17) -> 0 | CV18: =SUM(CV16:CV17) -> 0 | CY18: =SUM(CY16:CY17) -> 0 | DB18: =SUM(DB16:DB17) -> 0 | DE18: =SUM(DE16:DE17) -> 0 | DH18: =SUM(DH16:DH17) -> 0 | DK18: =SUM(DK16:DK17) -> 0 | DN18: =SUM(DN16:DN17) -> 0 | DQ18: =SUM(DQ16:DQ17) -> 0
B19: 自己充当額（年度末分） | G19: =SUM(J19,M19) -> 0 | J19: ='①報告様式１別紙イ（年度末分） '!J17 -> 0 | M19: =SUM(P19,S19,V19,Y19,AB19,AE19,AH19,AK19,AN19,AQ19,AT19,AW19,AZ19,BC19,BF19,BI19,BL19,BO19,BR19,BU19,BX19,CA19,CD19,CG19,CJ19,CM19,CP19,CS19,CV19,CY19,DB19,DE19,DH19,DK19,DN19,DQ19) -> 0 | P19: ='①報告様式１別紙イ（年度末分） '!P17 -> 0 | S19: ='①報告様式１別紙イ（年度末分） '!S17 -> 0 | V19: ='①報告様式１別紙イ（年度末分） '!V17 -> 0 | Y19: ='①報告様式１別紙イ（年度末分） '!Y17 -> 0 | AB19: ='①報告様式１別紙イ（年度末分） '!AB17 -> 0 | AE19: ='①報告様式１別紙イ（年度末分） '!AE17 -> 0 | AH19: ='①報告様式１別紙イ（年度末分） '!AH17 -> 0 | AK19: ='①報告様式１別紙イ（年度末分） '!AK17 -> 0 | AN19: ='①報告様式１別紙イ（年度末分） '!AN17 -> 0 | AQ19: ='①報告様式１別紙イ（年度末分） '!AQ17 -> 0 | AT19: ='①報告様式１別紙イ（年度末分） '!AT17 -> 0 | AW19: ='①報告様式１別紙イ（年度末分） '!AW17 -> 0 | AZ19: ='①報告様式１別紙イ（年度末分） '!AZ17 -> 0 | BC19: ='①報告様式１別紙イ（年度末分） '!BC17 -> 0 | BF19: ='①報告様式１別紙イ（年度末分） '!BF17 -> 0 | BI19: ='①報告様式１別紙イ（年度末分） '!BI17 -> 0 | BL19: ='①報告様式１別紙イ（年度末分） '!BL17 -> 0 | BO19: ='①報告様式１別紙イ（年度末分） '!BO17 -> 0 | BR19: ='①報告様式１別紙イ（年度末分） '!BR17 -> 0 | BU19: ='①報告様式１別紙イ（年度末分） '!BU17 -> 0 | BX19: ='①報告様式１別紙イ（年度末分） '!BX17 -> 0 | CA19: ='①報告様式１別紙イ（年度末分） '!CA17 -> 0 | CD19: ='①報告様式１別紙イ（年度末分） '!CD17 -> 0 | CG19: ='①報告様式１別紙イ（年度末分） '!CG17 -> 0 | CJ19: ='①報告様式１別紙イ（年度末分） '!CJ17 -> 0 | CM19: ='①報告様式１別紙イ（年度末分） '!CM17 -> 0 | CP19: ='①報告様式１別紙イ（年度末分） '!CP17 -> 0 | CS19: ='①報告様式１別紙イ（年度末分） '!CS17 -> 0 | CV19: ='①報告様式１別紙イ（年度末分） '!CV17 -> 0 | CY19: ='①報告様式１別紙イ（年度末分） '!CY17 -> 0 | DB19: ='①報告様式１別紙イ（年度末分） '!DB17 -> 0 | DE19: ='①報告様式１別紙イ（年度末分） '!DE17 -> 0 | DH19: ='①報告様式１別紙イ（年度末分） '!DH17 -> 0 | DK19: ='①報告様式１別紙イ（年度末分） '!DK17 -> 0 | DN19: ='①報告様式１別紙イ（年度末分） '!DN17 -> 0 | DQ19: ='①報告様式１別紙イ（年度末分） '!DQ17 -> 0
B20: 自己充当額（繰越期間分） | G20: =SUM(J20,M20) -> 0 | J20: ='②報告様式１別紙イ (繰越期間分)'!J17 -> 0 | M20: =SUM(P20,S20,V20,Y20,AB20,AE20,AH20,AK20,AN20,AQ20,AT20,AW20,AZ20,BC20,BF20,BI20,BL20,BO20,BR20,BU20,BX20,CA20,CD20,CG20,CJ20,CM20,CP20,CS20,CV20,CY20,DB20,DE20,DH20,DK20,DN20,DQ20) -> 0 | P20: ='②報告様式１別紙イ (繰越期間分)'!P17 -> 0 | S20: ='②報告様式１別紙イ (繰越期間分)'!S17 -> 0 | V20: ='②報告様式１別紙イ (繰越期間分)'!V17 -> 0 | Y20: ='②報告様式１別紙イ (繰越期間分)'!Y17 -> 0 | AB20: ='②報告様式１別紙イ (繰越期間分)'!AB17 -> 0 | AE20: ='②報告様式１別紙イ (繰越期間分)'!AE17 -> 0 | AH20: ='②報告様式１別紙イ (繰越期間分)'!AH17 -> 0 | AK20: ='②報告様式１別紙イ (繰越期間分)'!AK17 -> 0 | AN20: ='②報告様式１別紙イ (繰越期間分)'!AN17 -> 0 | AQ20: ='②報告様式１別紙イ (繰越期間分)'!AQ17 -> 0 | AT20: ='②報告様式１別紙イ (繰越期間分)'!AT17 -> 0 | AW20: ='②報告様式１別紙イ (繰越期間分)'!AW17 -> 0 | AZ20: ='②報告様式１別紙イ (繰越期間分)'!AZ17 -> 0 | BC20: ='②報告様式１別紙イ (繰越期間分)'!BC17 -> 0 | BF20: ='②報告様式１別紙イ (繰越期間分)'!BF17 -> 0 | BI20: ='②報告様式１別紙イ (繰越期間分)'!BI17 -> 0 | BL20: ='②報告様式１別紙イ (繰越期間分)'!BL17 -> 0 | BO20: ='②報告様式１別紙イ (繰越期間分)'!BO17 -> 0 | BR20: ='②報告様式１別紙イ (繰越期間分)'!BR17 -> 0 | BU20: ='②報告様式１別紙イ (繰越期間分)'!BU17 -> 0 | BX20: ='②報告様式１別紙イ (繰越期間分)'!BX17 -> 0 | CA20: ='②報告様式１別紙イ (繰越期間分)'!CA17 -> 0 | CD20: ='②報告様式１別紙イ (繰越期間分)'!CD17 -> 0 | CG20: ='②報告様式１別紙イ (繰越期間分)'!CG17 -> 0 | CJ20: ='②報告様式１別紙イ (繰越期間分)'!CJ17 -> 0 | CM20: ='②報告様式１別紙イ (繰越期間分)'!CM17 -> 0 | CP20: ='②報告様式１別紙イ (繰越期間分)'!CP17 -> 0 | CS20: ='②報告様式１別紙イ (繰越期間分)'!CS17 -> 0 | CV20: ='②報告様式１別紙イ (繰越期間分)'!CV17 -> 0 | CY20: ='②報告様式１別紙イ (繰越期間分)'!CY17 -> 0 | DB20: ='②報告様式１別紙イ (繰越期間分)'!DB17 -> 0 | DE20: ='②報告様式１別紙イ (繰越期間分)'!DE17 -> 0 | DH20: ='②報告様式１別紙イ (繰越期間分)'!DH17 -> 0 | DK20: ='②報告様式１別紙イ (繰越期間分)'!DK17 -> 0 | DN20: ='②報告様式１別紙イ (繰越期間分)'!DN17 -> 0 | DQ20: ='②報告様式１別紙イ (繰越期間分)'!DQ17 -> 0
B21: 自己充当額（合計） | G21: =SUM(J21,M21) -> 0 | J21: =SUM(J19:J20) -> 0 | M21: =SUM(P21,S21,V21,Y21,AB21,AE21,AH21,AK21,AN21,AQ21,AT21,AW21,AZ21,BC21,BF21,BI21,BL21,BO21,BR21,BU21,BX21,CA21,CD21,CG21,CJ21,CM21,CP21,CS21,CV21,CY21,DB21,DE21,DH21,DK21,DN21,DQ21) -> 0 | P21: =SUM(P19:P20) -> 0 | S21: =SUM(S19:S20) -> 0 | V21: =SUM(V19:V20) -> 0 | Y21: =SUM(Y19:Y20) -> 0 | AB21: =SUM(AB19:AB20) -> 0 | AE21: =SUM(AE19:AE20) -> 0 | AH21: =SUM(AH19:AH20) -> 0 | AK21: =SUM(AK19:AK20) -> 0 | AN21: =SUM(AN19:AN20) -> 0 | AQ21: =SUM(AQ19:AQ20) -> 0 | AT21: =SUM(AT19:AT20) -> 0 | AW21: =SUM(AW19:AW20) -> 0 | AZ21: =SUM(AZ19:AZ20) -> 0 | BC21: =SUM(BC19:BC20) -> 0 | BF21: =SUM(BF19:BF20) -> 0 | BI21: =SUM(BI19:BI20) -> 0 | BL21: =SUM(BL19:BL20) -> 0 | BO21: =SUM(BO19:BO20) -> 0 | BR21: =SUM(BR19:BR20) -> 0 | BU21: =SUM(BU19:BU20) -> 0 | BX21: =SUM(BX19:BX20) -> 0 | CA21: =SUM(CA19:CA20) -> 0 | CD21: =SUM(CD19:CD20) -> 0 | CG21: =SUM(CG19:CG20) -> 0 | CJ21: =SUM(CJ19:CJ20) -> 0 | CM21: =SUM(CM19:CM20) -> 0 | CP21: =SUM(CP19:CP20) -> 0 | CS21: =SUM(CS19:CS20) -> 0 | CV21: =SUM(CV19:CV20) -> 0 | CY21: =SUM(CY19:CY20) -> 0 | DB21: =SUM(DB19:DB20) -> 0 | DE21: =SUM(DE19:DE20) -> 0 | DH21: =SUM(DH19:DH20) -> 0 | DK21: =SUM(DK19:DK20) -> 0 | DN21: =SUM(DN19:DN20) -> 0 | DQ21: =SUM(DQ19:DQ20) -> 0
B22: その他（収入）（年度末分） | G22: =SUM(J22,M22) -> 0 | J22: ='①報告様式１別紙イ（年度末分） '!J18 -> 0 | M22: =SUM(P22,S22,V22,Y22,AB22,AE22,AH22,AK22,AN22,AQ22,AT22,AW22,AZ22,BC22,BF22,BI22,BL22,BO22,BR22,BU22,BX22,CA22,CD22,CG22,CJ22,CM22,CP22,CS22,CV22,CY22,DB22,DE22,DH22,DK22,DN22,DQ22) -> 0 | P22: ='①報告様式１別紙イ（年度末分） '!P18 -> 0 | S22: ='①報告様式１別紙イ（年度末分） '!S18 -> 0 | V22: ='①報告様式１別紙イ（年度末分） '!V18 -> 0 | Y22: ='①報告様式１別紙イ（年度末分） '!Y18 -> 0 | AB22: ='①報告様式１別紙イ（年度末分） '!AB18 -> 0 | AE22: ='①報告様式１別紙イ（年度末分） '!AE18 -> 0 | AH22: ='①報告様式１別紙イ（年度末分） '!AH18 -> 0 | AK22: ='①報告様式１別紙イ（年度末分） '!AK18 -> 0 | AN22: ='①報告様式１別紙イ（年度末分） '!AN18 -> 0 | AQ22: ='①報告様式１別紙イ（年度末分） '!AQ18 -> 0 | AT22: ='①報告様式１別紙イ（年度末分） '!AT18 -> 0 | AW22: ='①報告様式１別紙イ（年度末分） '!AW18 -> 0 | AZ22: ='①報告様式１別紙イ（年度末分） '!AZ18 -> 0 | BC22: ='①報告様式１別紙イ（年度末分） '!BC18 -> 0 | BF22: ='①報告様式１別紙イ（年度末分） '!BF18 -> 0 | BI22: ='①報告様式１別紙イ（年度末分） '!BI18 -> 0 | BL22: ='①報告様式１別紙イ（年度末分） '!BL18 -> 0 | BO22: ='①報告様式１別紙イ（年度末分） '!BO18 -> 0 | BR22: ='①報告様式１別紙イ（年度末分） '!BR18 -> 0 | BU22: ='①報告様式１別紙イ（年度末分） '!BU18 -> 0 | BX22: ='①報告様式１別紙イ（年度末分） '!BX18 -> 0 | CA22: ='①報告様式１別紙イ（年度末分） '!CA18 -> 0 | CD22: ='①報告様式１別紙イ（年度末分） '!CD18 -> 0 | CG22: ='①報告様式１別紙イ（年度末分） '!CG18 -> 0 | CJ22: ='①報告様式１別紙イ（年度末分） '!CJ18 -> 0 | CM22: ='①報告様式１別紙イ（年度末分） '!CM18 -> 0 | CP22: ='①報告様式１別紙イ（年度末分） '!CP18 -> 0 | CS22: ='①報告様式１別紙イ（年度末分） '!CS18 -> 0 | CV22: ='①報告様式１別紙イ（年度末分） '!CV18 -> 0 | CY22: ='①報告様式１別紙イ（年度末分） '!CY18 -> 0 | DB22: ='①報告様式１別紙イ（年度末分） '!DB18 -> 0 | DE22: ='①報告様式１別紙イ（年度末分） '!DE18 -> 0 | DH22: ='①報告様式１別紙イ（年度末分） '!DH18 -> 0 | DK22: ='①報告様式１別紙イ（年度末分） '!DK18 -> 0 | DN22: ='①報告様式１別紙イ（年度末分） '!DN18 -> 0 | DQ22: ='①報告様式１別紙イ（年度末分） '!DQ18 -> 0
B23: その他（収入）（繰越期間分） | G23: =SUM(J23,M23) -> 0 | J23: ='②報告様式１別紙イ (繰越期間分)'!J18 -> 0 | M23: =SUM(P23,S23,V23,Y23,AB23,AE23,AH23,AK23,AN23,AQ23,AT23,AW23,AZ23,BC23,BF23,BI23,BL23,BO23,BR23,BU23,BX23,CA23,CD23,CG23,CJ23,CM23,CP23,CS23,CV23,CY23,DB23,DE23,DH23,DK23,DN23,DQ23) -> 0 | P23: ='②報告様式１別紙イ (繰越期間分)'!P18 -> 0 | S23: ='②報告様式１別紙イ (繰越期間分)'!S18 -> 0 | V23: ='②報告様式１別紙イ (繰越期間分)'!V18 -> 0 | Y23: ='②報告様式１別紙イ (繰越期間分)'!Y18 -> 0 | AB23: ='②報告様式１別紙イ (繰越期間分)'!AB18 -> 0 | AE23: ='②報告様式１別紙イ (繰越期間分)'!AE18 -> 0 | AH23: ='②報告様式１別紙イ (繰越期間分)'!AH18 -> 0 | AK23: ='②報告様式１別紙イ (繰越期間分)'!AK18 -> 0 | AN23: ='②報告様式１別紙イ (繰越期間分)'!AN18 -> 0 | AQ23: ='②報告様式１別紙イ (繰越期間分)'!AQ18 -> 0 | AT23: ='②報告様式１別紙イ (繰越期間分)'!AT18 -> 0 | AW23: ='②報告様式１別紙イ (繰越期間分)'!AW18 -> 0 | AZ23: ='②報告様式１別紙イ (繰越期間分)'!AZ18 -> 0 | BC23: ='②報告様式１別紙イ (繰越期間分)'!BC18 -> 0 | BF23: ='②報告様式１別紙イ (繰越期間分)'!BF18 -> 0 | BI23: ='②報告様式１別紙イ (繰越期間分)'!BI18 -> 0 | BL23: ='②報告様式１別紙イ (繰越期間分)'!BL18 -> 0 | BO23: ='②報告様式１別紙イ (繰越期間分)'!BO18 -> 0 | BR23: ='②報告様式１別紙イ (繰越期間分)'!BR18 -> 0 | BU23: ='②報告様式１別紙イ (繰越期間分)'!BU18 -> 0 | BX23: ='②報告様式１別紙イ (繰越期間分)'!BX18 -> 0 | CA23: ='②報告様式１別紙イ (繰越期間分)'!CA18 -> 0 | CD23: ='②報告様式１別紙イ (繰越期間分)'!CD18 -> 0 | CG23: ='②報告様式１別紙イ (繰越期間分)'!CG18 -> 0 | CJ23: ='②報告様式１別紙イ (繰越期間分)'!CJ18 -> 0 | CM23: ='②報告様式１別紙イ (繰越期間分)'!CM18 -> 0 | CP23: ='②報告様式１別紙イ (繰越期間分)'!CP18 -> 0 | CS23: ='②報告様式１別紙イ (繰越期間分)'!CS18 -> 0 | CV23: ='②報告様式１別紙イ (繰越期間分)'!CV18 -> 0 | CY23: ='②報告様式１別紙イ (繰越期間分)'!CY18 -> 0 | DB23: ='②報告様式１別紙イ (繰越期間分)'!DB18 -> 0 | DE23: ='②報告様式１別紙イ (繰越期間分)'!DE18 -> 0 | DH23: ='②報告様式１別紙イ (繰越期間分)'!DH18 -> 0 | DK23: ='②報告様式１別紙イ (繰越期間分)'!DK18 -> 0 | DN23: ='②報告様式１別紙イ (繰越期間分)'!DN18 -> 0 | DQ23: ='②報告様式１別紙イ (繰越期間分)'!DQ18 -> 0
B24: その他（収入）(合計） | G24: =SUM(J24,M24) -> 0 | J24: =J22+J23 -> 0 | M24: =SUM(M22:M23) -> 0 | P24: =P22+P23 -> 0 | S24: =S22+S23 -> 0 | V24: =V22+V23 -> 0 | Y24: =Y22+Y23 -> 0 | AB24: =AB22+AB23 -> 0 | AE24: =AE22+AE23 -> 0 | AH24: =AH22+AH23 -> 0 | AK24: =AK22+AK23 -> 0 | AN24: =AN22+AN23 -> 0 | AQ24: =AQ22+AQ23 -> 0 | AT24: =AT22+AT23 -> 0 | AW24: =AW22+AW23 -> 0 | AZ24: =AZ22+AZ23 -> 0 | BC24: =BC22+BC23 -> 0 | BF24: =BF22+BF23 -> 0 | BI24: =BI22+BI23 -> 0 | BL24: =BL22+BL23 -> 0 | BO24: =BO22+BO23 -> 0 | BR24: =BR22+BR23 -> 0 | BU24: =BU22+BU23 -> 0 | BX24: =BX22+BX23 -> 0 | CA24: =CA22+CA23 -> 0 | CD24: =CD22+CD23 -> 0 | CG24: =CG22+CG23 -> 0 | CJ24: =CJ22+CJ23 -> 0 | CM24: =CM22+CM23 -> 0 | CP24: =CP22+CP23 -> 0 | CS24: =CS22+CS23 -> 0 | CV24: =CV22+CV23 -> 0 | CY24: =CY22+CY23 -> 0 | DB24: =DB22+DB23 -> 0 | DE24: =DE22+DE23 -> 0 | DH24: =DH22+DH23 -> 0 | DK24: =DK22+DK23 -> 0 | DN24: =DN22+DN23 -> 0 | DQ24: =DQ22+DQ23 -> 0
B25: 繰越額 | D25: 直接経費
D26: 間接経費
D27: 合計
B28: 差引 | E28: =G8-G18-G21+G24 -> 0 | H28: =J8-J18-J21+J24 -> 0 | K28: =M8-M18-M21+M24 -> 0 | N28: =P8-P18-P21+P24 -> 0 | Q28: =S8-S18-S21+S24 -> 0 | T28: =V8-V18-V21+V24 -> 0 | W28: =Y8-Y18-Y21+Y24 -> 0 | Z28: =AB8-AB18-AB21+AB24 -> 0 | AC28: =AE8-AE18-AE21+AE24 -> 0 | AF28: =AH8-AH18-AH21+AH24 -> 0 | AI28: =AK8-AK18-AK21+AK24 -> 0 | AL28: =AN8-AN18-AN21+AN24 -> 0 | AO28: =AQ8-AQ18-AQ21+AQ24 -> 0 | AR28: =AT8-AT18-AT21+AT24 -> 0 | AU28: =AW8-AW18-AW21+AW24 -> 0 | AX28: =AZ8-AZ18-AZ21+AZ24 -> 0 | BA28: =BC8-BC18-BC21+BC24 -> 0 | BD28: =BF8-BF18-BF21+BF24 -> 0 | BG28: =BI8-BI18-BI21+BI24 -> 0 | BJ28: =BL8-BL18-BL21+BL24 -> 0 | BM28: =BO8-BO18-BO21+BO24 -> 0 | BP28: =BR8-BR18-BR21+BR24 -> 0 | BS28: =BU8-BU18-BU21+BU24 -> 0 | BV28: =BX8-BX18-BX21+BX24 -> 0 | BY28: =CA8-CA18-CA21+CA24 -> 0 | CB28: =CD8-CD18-CD21+CD24 -> 0 | CE28: =CG8-CG18-CG21+CG24 -> 0 | CH28: =CJ8-CJ18-CJ21+CJ24 -> 0 | CK28: =CM8-CM18-CM21+CM24 -> 0 | CN28: =CP8-CP18-CP21+CP24 -> 0 | CQ28: =CS8-CS18-CS21+CS24 -> 0 | CT28: =CV8-CV18-CV21+CV24 -> 0 | CW28: =CY8-CY18-CY21+CY24 -> 0 | CZ28: =DB8-DB18-DB21+DB24 -> 0 | DC28: =DE8-DE18-DE21+DE24 -> 0 | DF28: =DH8-DH18-DH21+DH24 -> 0 | DI28: =DK8-DK18-DK21+DK24 -> 0 | DL28: =DN8-DN18-DN21+DN24 -> 0 | DO28: =DQ8-DQ18-DQ21+DQ24 -> 0
B29: 不課税消費税相当額等の取扱 | H29: ='①報告様式１別紙イ（年度末分） '!H23:J23 -> プルダウンから選択してください | N29: ='①報告様式１別紙イ（年度末分） '!N23:P23 -> プルダウンから選択してください | Q29: ='①報告様式１別紙イ（年度末分） '!Q23:S23 -> プルダウンから選択してください | T29: ='①報告様式１別紙イ（年度末分） '!T23:V23 -> プルダウンから選択してください | W29: ='①報告様式１別紙イ（年度末分） '!W23:Y23 -> プルダウンから選択してください | Z29: ='①報告様式１別紙イ（年度末分） '!Z23:AB23 -> プルダウンから選択してください | AC29: ='①報告様式１別紙イ（年度末分） '!AC23:AE23 -> プルダウンから選択してください | AF29: ='①報告様式１別紙イ（年度末分） '!AF23:AH23 -> プルダウンから選択してください | AI29: ='①報告様式１別紙イ（年度末分） '!AI23:AK23 -> プルダウンから選択してください | AL29: ='①報告様式１別紙イ（年度末分） '!AL23:AN23 -> プルダウンから選択してください | AO29: ='①報告様式１別紙イ（年度末分） '!AO23:AQ23 -> プルダウンから選択してください | AR29: ='①報告様式１別紙イ（年度末分） '!AR23:AT23 -> プルダウンから選択してください | AU29: ='①報告様式１別紙イ（年度末分） '!AU23:AW23 -> プルダウンから選択してください | AX29: ='①報告様式１別紙イ（年度末分） '!AX23:AZ23 -> プルダウンから選択してください | BA29: ='①報告様式１別紙イ（年度末分） '!BA23:BC23 -> プルダウンから選択してください | BD29: ='①報告様式１別紙イ（年度末分） '!BD23:BF23 -> プルダウンから選択してください | BG29: ='①報告様式１別紙イ（年度末分） '!BG23:BI23 -> プルダウンから選択してください | BJ29: ='①報告様式１別紙イ（年度末分） '!BJ23:BL23 -> プルダウンから選択してください | BM29: ='①報告様式１別紙イ（年度末分） '!BM23:BO23 -> プルダウンから選択してください | BP29: ='①報告様式１別紙イ（年度末分） '!BP23:BR23 -> プルダウンから選択してください | BS29: ='①報告様式１別紙イ（年度末分） '!BS23:BU23 -> プルダウンから選択してください | BV29: ='①報告様式１別紙イ（年度末分） '!BV23:BX23 -> プルダウンから選択してください | BY29: ='①報告様式１別紙イ（年度末分） '!BY23:CA23 -> プルダウンから選択してください | CB29: ='①報告様式１別紙イ（年度末分） '!CB23:CD23 -> プルダウンから選択してください | CE29: ='①報告様式１別紙イ（年度末分） '!CE23:CG23 -> プルダウンから選択してください | CH29: ='①報告様式１別紙イ（年度末分） '!CH23:CJ23 -> プルダウンから選択してください | CK29: ='①報告様式１別紙イ（年度末分） '!CK23:CM23 -> プルダウンから選択してください | CN29: ='①報告様式１別紙イ（年度末分） '!CN23:CP23 -> プルダウンから選択してください | CQ29: ='①報告様式１別紙イ（年度末分） '!CQ23:CS23 -> プルダウンから選択してください | CT29: ='①報告様式１別紙イ（年度末分） '!CT23:CV23 -> プルダウンから選択してください | CW29: ='①報告様式１別紙イ（年度末分） '!CW23:CY23 -> プルダウンから選択してください | CZ29: ='①報告様式１別紙イ（年度末分） '!CZ23:DB23 -> プルダウンから選択してください | DC29: ='①報告様式１別紙イ（年度末分） '!DC23:DE23 -> プルダウンから選択してください | DF29: ='①報告様式１別紙イ（年度末分） '!DF23:DH23 -> プルダウンから選択してください | DI29: ='①報告様式１別紙イ（年度末分） '!DI23:DK23 -> プルダウンから選択してください | DL29: ='①報告様式１別紙イ（年度末分） '!DL23:DN23 -> プルダウンから選択してください | DO29: ='①報告様式１別紙イ（年度末分） '!DO23:DQ23 -> プルダウンから選択してください
B30: 備考欄

Sheet 経理様式１別添
C2: （報告様式１ 別添）
H3: 発行日： | J3: =報告様式１!J5 -> 45443 | K3: 令和 年 月 日 | L3: ←入力＊西暦(2021/5/10)で入力すれば令和に変換して表示
H4: 課題管理契約番号： | J4: =基本情報シート!$D$11 -> （例）SIP2023A1 | L4: ←自動
A6: 自動→ | E6: =基本情報シート!$D$4 -> 5 | G6: 成果報告書
C8: ※Ⅰ～ⅢはAMEDのウェブサイト及びAMED研究開発課題データベース（AMEDfind）での公開情報となります。作成及び提出に当たり、最終ページに記載の留意事項をご確認ください。
D11: 項目Ⅰ～Ⅲについて、AMEDfindにて公開可能な内容である事を確認しました。
C13: Ⅰ. 基本情報（公開）
A15: 自動→ | C15: 事業名 SIP課題 | E15: =IF(基本情報シート!$D$12="","",基本情報シート!$D$12) -> 統合型ヘルスケアシステムの構築
A16: 自動→ | C16: プログラム名 研究開発テーマ | E16: =IF(COUNTA(基本情報シート!$D$13)>0,基本情報シート!$D$13," ") -> （例）サブ課題A 研究開発支援・知識発見ソリューションの開発 | L16: ←「プログラム名がない」場合はブランク表示
A17: 自動→ | C17: 研究課題名目 | E17: =IF(基本情報シート!$D$14="","",基本情報シート!$D$14) -> （例）A-1 臨床情報プラットフォーム構築による知識発見 拠点形成
A19: 自動→ | C19: 研究開発担当者＊1 | D19: 機関名 | E19: =基本情報シート!$D$16 -> 国立大学法人 ○○大学
A20: 自動→ | D20: 所 属 | E20: =基本情報シート!$D$17 -> 研究開発室
A21: 自動→ | D21: 役 職 | E21: =基本情報シート!$D$18 -> 室長
A22: 自動→ | D22: 氏 名 | E22: =基本情報シート!$D$19 -> 戸山 次郎
C24: 実施期間＊2 | E24: =基本情報シート!D21 -> 45017 | G24: ～ | H24: =基本情報シート!D22 -> 45382
C25: ＊1 委託研究開発契約書に定義
C26: ＊2 年度の契約に基づき、本委託研究開発を行った期間又は中止までの期間
C29: Ⅱ. 成果の概要（公開）
C31: ※ 今年度の研究実績及び成果に関して、500～1000字、文字の大きさ10～12ポイント
C32: 程度で図表は使わずに文字のみで記載してください。
C34: ※ 一つの研究開発課題において、研究開発代表者以外にAMEDと直接委託契約等の
C35: 研究開発分担者がいる場合、研究開発分担者は各々の研究計画書（分担研究開発課題）
C36: に基づき、当該研究機関の成果の概要の記載をお願いします。
C37: 研究代表者は、課題全体としての研究成果及び自身の研究成果の概要をそれぞれ
C38: 記載してください。
C40: ※ 研究開発計画書（変更を含む）に記載された計画に対応して、どのような
C41: 結果が得られたか記載してください。
L44: ←図形テキストボックス
C52: Ⅲ. 成果の外部への発表（当該年度発表分のみ記載してください）（公開）
C53: ここでいう｢成果｣とは、本課題の研究開発計画書に記載された計画に対応 して得られた成果を指します。
C54: （１）学会誌・雑誌等における論文一覧
C55: ※ 課題の成果について、著者名、タイトル（論文表題）、掲載誌名、発行年、巻、号、掲載ページ、論文のdoi（デジタルオブジェクト識別子）を発行日順に記載してください。なお、研究開発代表者及び分担者には下線を引いてください。論文にdoiが付与されていない場合にはdoiの記載は不要です。
C56: (記載例) AMED T, AMED H, AMED K. Research for △△. Journal of ○○. 2019, 111, 2222-33, doi:110.1241/××.60.502.
C57: ※ Researchmapのテキスト出力をコピー＆ペーストでも可能です。
C58: （国内誌 | E58: 件）
C59: （国際誌 | E59: 件）
B60: 1.
B61: 2.
B62: 3.
C64: （２）学会・シンポジウム等における口頭・ポスター発表
C65: ※課題の成果について、発表題目、発表者氏名、発表した場所、発表した時期、国内・外の別、口頭・ポスター発表の別を記載してください。 また、研究開発代表者及び分担者には下線を引いてください。
C66: (記載例) △△について, 栄目戸太郎, 栄目戸花子, ××フォーラム, 2019/11/11, 国内, 口頭.
B67: 1.
B68: 2.
B69: 3.
C71: （３）診療ガイドライン、省令、基準、日本薬局方、添付文書改訂、国の技術文書（通知）等への反映
C72: ※ 研究成果の一部が引用されたものについても記載してください。
C73: （記載例）△△について，厚生労働省，××に関するガイドライン，2019/11
C78: （４）研修プログラム、カリキュラム、シラバス、教材、e-learning等の公表
C79: ※ 学会ホームページや外部向けe-learningの公表があれば、URL等を記載してください。
C84: （５）「国民との科学・技術対話」に対する取り組み
C85: ※ 課題の成果について、発表した演題等、発表者氏名、発表した場所、発表した時期、国内・外の別を記載してください。また、研究開発代表者及び分担者には下線を引いてください。
C86: (記載例) △△について, 栄目戸太郎, ××シンポジウム, 2019/11/11, 国内.
B88: 1.
B89: 2.
B90: 3.
C93: Ⅳ. 【該当事業のみ】
C94: 今年度、本研究開発課題を実施するに当たりご協力いただいた患者等の研究参加者の総数（非公開）＊
C95: ※ 前年度からの継続分がある場合は、それを含めた総数を記載してください。
C96: （記載例）○○についての臨床研究に○名が参加した。○○の解析に用いる
C97: データ・サンプルが○名から提供された。
C101: Ⅴ. 【該当事業・最終年度のみ】
C102: 医学研究・臨床試験における患者・市民参画（PPI：Patient and Public Involvement）の取組（非公開）＊
C103: ※ 本研究開発課題にて行う研究のプロセス等について、患者・市民等との対話の機会を設け、そこで得られた知見を参考にしたことがあれば、記載してください。
C104: （記載例）本研究開発課題にて行う臨床試験のプロトコル作成に当たっては、○○病の患者団体と××年×月に意見交換会を実施し、△△に関する患者や患者家族の意見を収集し、●●の改善に役立てた。
C110: Ⅵ. 【該当事業・最終年度のみ】
C111: 事業ごとに「研究計画・方法」で記載している項目以外で研究成果の数値指標等があれば、記載できるよう項目を設定してください。（非公開）＊
C112: 設定例：データベース等への登録
... C133: Ⅷ. 倫理審査の状況（非公開）
C135: 法律・指針等 | H135: 非該当 | I135: 審査済 | J135: 審査機関名 | K135: 未審査
C136: 再生医療等の安全性の確保等に関する法律 | H136: □ | I136: □ | K136: □
C137: 遺伝子組換え生物等の使用等の規制による生物の多様性の確保に関する法律 | H137: □ | I137: □ | K137: □
C138: 臨床研究法 | H138: □ | I138: □ | K138: □
C139: 医薬品の臨床試験の実施の基準に関する省令 | H139: □ | I139: □ | K139: □
C140: 遺伝子治療臨床研究に関する指針 | H140: □ | I140: □ | K140: □
C141: 研究機関等における動物実験等の実施に関する基本指針 | H141: □ | I141: □ | K141: □
C142: 人を対象とする生命科学・医学系研究に関する倫理指針 | H142: □ | I142: □ | K142: □
C143: その他の指針等（下に記載） | I143: □ | K143: □
C144: （ ）
C146: ・再委託分担機関における審査済みの指針等（必要に応じて行を追加して下さい）
C147: 1. 指針等名称： 分担機関名： 審査機関名：
C148: 2. 指針等名称： 分担機関名： 審査機関名：
C150: ・未審査の場合、機関名とその理由：
C151: 1. 分担機関名： 理由：
C152: 2. 分担機関名： 理由：
C154: Ⅸ. 特許等（非公開）
C156: （１）データベース等の整備関連
C157: 【 該当： 有 ・ 無 】
C158: 成果としてのデータベース等の整備があれば、データベース名、公開の有無と所在場所（URL）を記載してください。
C159: (記載例) ○○と△△の機能関係のデータベース（専門データベース名）、有、URL：http://www.~
... C167: 1.特許出願について
B168: No | C168: 発明の名称 | E168: 出願人 | H168: 出願番号 | K168: 出願日
B169: 例 | C169: 映像装置 | E169: 国立大学法人医療研究開発大学＊1 | H169: 特願2019-012345＊2 | K169: 2019.10.23
B170: 例 | C170: 化合物の製造方法 | E170: 国立大学法人医療研究開発大学＊1 | H170: PCT/JP2019/012345＊2 | K170: 2019.10.05
B171: 1
B172: 2
B173: 3
C174: ＊1 出願人が複数の場合は、すべての機関等を記載してください。
C175: ＊2 必ず出願番号を記載してください。（桁数、ハイフン-スラッシュにご注意ください。）
C176: 出願国によって表記が異なりますので、出願国に応じて以下のように記載してください。
...
